{"text_format":"1","workbook":"xlsx","n_sheets":6,"sheets":["All Employers","Level 1 Employers","Incentives","Region 1","Sheet2","Sheet1"],"not_rendered":{"charts":3,"images":1,"macros":1,"external_links":0,"defined_names":1,"comments":0,"pivot_tables":0},"unopened":[],"bounds":{"document_bytes":16777216,"sheet_cells":100000,"rows_first":2000,"rows_last":500,"rows_between":2000,"halvings":0,"cell_chars":16384,"cell_head_chars":4096},"cells_cut":0,"cells_raw":0,"read":"whole","date_system":"1900"}

{"sheet":"All Employers","index":0,"n_rows":28,"n_cols":26,"rows_kept":28,"cut":false,"hidden":false,"merged":[]}
[]
[]
[]
[null,null,null,null,null,null,null,null,null,null,null,null,null,null,null,null,null,null,null,null,null,null,"Region","PY 2012-2013","PY 2013-2014","Percent Completion"]
[null,null,null,null,null,null,null,null,null,null,null,null,null,null,null,null,null,null,null,null,null,null,1,{"$f":"Incentives!B4","v":1017},{"$f":"Incentives!G4","v":2664},{"$f":"Incentives!L4","v":1.3097345132743363}]
[null,null,null,null,null,null,null,null,null,null,null,null,null,null,null,null,null,null,null,null,null,null,2,{"$f":"Incentives!B5","v":1270},{"$f":"Incentives!G5","v":2580},{"$f":"Incentives!L5","v":1.015748031496063}]
[null,null,null,null,null,null,null,null,null,null,null,null,null,null,null,null,null,null,null,null,null,null,3,{"$f":"Incentives!B6","v":373},{"$f":"Incentives!G6","v":767},{"$f":"Incentives!L6","v":1.0281501340482573}]
[null,null,null,null,null,null,null,null,null,null,null,null,null,null,null,null,null,null,null,null,null,null,4,{"$f":"Incentives!B7","v":1016},{"$f":"Incentives!G7","v":1986},{"$f":"Incentives!L7","v":0.97736220472440949}]
[null,null,null,null,null,null,null,null,null,null,null,null,null,null,null,null,null,null,null,null,null,null,5,{"$f":"Incentives!B8","v":1162},{"$f":"Incentives!G8","v":1560},{"$f":"Incentives!L8","v":0.67125645438898451}]
[null,null,null,null,null,null,null,null,null,null,null,null,null,null,null,null,null,null,null,null,null,null,6,{"$f":"Incentives!B9","v":314},{"$f":"Incentives!G9","v":392},{"$f":"Incentives!L9","v":0.62420382165605093}]
[null,null,null,null,null,null,null,null,null,null,null,null,null,null,null,null,null,null,null,null,null,null,7,{"$f":"Incentives!B10","v":399},{"$f":"Incentives!G10","v":391},{"$f":"Incentives!L10","v":0.4899749373433584}]
[null,null,null,null,null,null,null,null,null,null,null,null,null,null,null,null,null,null,null,null,null,null,8,{"$f":"Incentives!B11","v":2251},{"$f":"Incentives!G11","v":5162},{"$f":"Incentives!L11","v":1.1466015104398046}]
[null,null,null,null,null,null,null,null,null,null,null,null,null,null,null,null,null,null,null,null,null,null,9,{"$f":"Incentives!B12","v":878},{"$f":"Incentives!G12","v":1536},{"$f":"Incentives!L12","v":0.87471526195899774}]
[null,null,null,null,null,null,null,null,null,null,null,null,null,null,null,null,null,null,null,null,null,null,10,{"$f":"Incentives!B13","v":1530},{"$f":"Incentives!G13","v":2469},{"$f":"Incentives!L13","v":0.80686274509803924}]
[null,null,null,null,null,null,null,null,null,null,null,null,null,null,null,null,null,null,null,null,null,null,11,{"$f":"Incentives!B14","v":1166},{"$f":"Incentives!G14","v":2285},{"$f":"Incentives!L14","v":0.97984562607204118}]
[null,null,null,null,null,null,null,null,null,null,null,null,null,null,null,null,null,null,null,null,null,null,12,{"$f":"Incentives!B15","v":3319},{"$f":"Incentives!G15","v":7262},{"$f":"Incentives!L15","v":1.0940042181379934}]
[null,null,null,null,null,null,null,null,null,null,null,null,null,null,null,null,null,null,null,null,null,null,13,{"$f":"Incentives!B16","v":2091},{"$f":"Incentives!G16","v":4307},{"$f":"Incentives!L16","v":1.0298900047824007}]
[null,null,null,null,null,null,null,null,null,null,null,null,null,null,null,null,null,null,null,null,null,null,14,{"$f":"Incentives!B17","v":2538},{"$f":"Incentives!G17","v":5112},{"$f":"Incentives!L17","v":1.0070921985815602}]
[null,null,null,null,null,null,null,null,null,null,null,null,null,null,null,null,null,null,null,null,null,null,15,{"$f":"Incentives!B18","v":3658},{"$f":"Incentives!G18","v":7451},{"$f":"Incentives!L18","v":1.0184527063969382}]
[null,null,null,null,null,null,null,null,null,null,null,null,null,null,null,null,null,null,null,null,null,null,16,{"$f":"Incentives!B19","v":1589},{"$f":"Incentives!G19","v":3540},{"$f":"Incentives!L19","v":1.1139081183134047}]
[null,null,null,null,null,null,null,null,null,null,null,null,null,null,null,null,null,null,null,null,null,null,17,{"$f":"Incentives!B20","v":1461},{"$f":"Incentives!G20","v":2108},{"$f":"Incentives!L20","v":0.72142368240930865}]
[null,null,null,null,null,null,null,null,null,null,null,null,null,null,null,null,null,null,null,null,null,null,18,{"$f":"Incentives!B21","v":1368},{"$f":"Incentives!G21","v":2787},{"$f":"Incentives!L21","v":1.0186403508771931}]
[null,null,null,null,null,null,null,null,null,null,null,null,null,null,null,null,null,null,null,null,null,null,19,{"$f":"Incentives!B22","v":671},{"$f":"Incentives!G22","v":1078},{"$f":"Incentives!L22","v":0.80327868852459017}]
[null,null,null,null,null,null,null,null,null,null,null,null,null,null,null,null,null,null,null,null,null,null,20,{"$f":"Incentives!B23","v":1279},{"$f":"Incentives!G23","v":2609},{"$f":"Incentives!L23","v":1.0199374511336983}]
[null,null,null,null,null,null,null,null,null,null,null,null,null,null,null,null,null,null,null,null,null,null,21,{"$f":"Incentives!B24","v":1910},{"$f":"Incentives!G24","v":4068},{"$f":"Incentives!L24","v":1.0649214659685864}]
[null,null,null,null,null,null,null,null,null,null,null,null,null,null,null,null,null,null,null,null,null,null,22,{"$f":"Incentives!B25","v":5056},{"$f":"Incentives!G25","v":9398},{"$f":"Incentives!L25","v":0.92939082278481011}]
[null,null,null,null,null,null,null,null,null,null,null,null,null,null,null,null,null,null,null,null,null,null,23,{"$f":"Incentives!B26","v":4784},{"$f":"Incentives!G26","v":5249},{"$f":"Incentives!L26","v":0.54859949832775923}]
[null,null,null,null,null,null,null,null,null,null,null,null,null,null,null,null,null,null,null,null,null,null,24,{"$f":"Incentives!B27","v":1887},{"$f":"Incentives!G27","v":3958},{"$f":"Incentives!L27","v":1.0487546369899312}]

{"sheet":"Level 1 Employers","index":1,"n_rows":28,"n_cols":26,"rows_kept":28,"cut":false,"hidden":false,"merged":[]}
[]
[]
[]
[null,null,null,null,null,null,null,null,null,null,null,null,null,null,null,null,null,null,null,null,null,null,"Region","PY 2012-2013","PY 2013-2014","Percent Completion"]
[null,null,null,null,null,null,null,null,null,null,null,null,null,null,null,null,null,null,null,null,null,null,1,{"$f":"Incentives!C4","v":413},{"$f":"Incentives!H4","v":2150},{"$f":"Incentives!M4","v":2.6029055690072638}]
[null,null,null,null,null,null,null,null,null,null,null,null,null,null,null,null,null,null,null,null,null,null,2,{"$f":"Incentives!C5","v":478},{"$f":"Incentives!H5","v":989},{"$f":"Incentives!M5","v":1.0345188284518829}]
[null,null,null,null,null,null,null,null,null,null,null,null,null,null,null,null,null,null,null,null,null,null,3,{"$f":"Incentives!C6","v":266},{"$f":"Incentives!H6","v":552},{"$f":"Incentives!M6","v":1.0375939849624061}]
[null,null,null,null,null,null,null,null,null,null,null,null,null,null,null,null,null,null,null,null,null,null,4,{"$f":"Incentives!C7","v":151},{"$f":"Incentives!H7","v":667},{"$f":"Incentives!M7","v":2.2086092715231787}]
[null,null,null,null,null,null,null,null,null,null,null,null,null,null,null,null,null,null,null,null,null,null,5,{"$f":"Incentives!C8","v":323},{"$f":"Incentives!H8","v":1020},{"$f":"Incentives!M8","v":1.5789473684210527}]
[null,null,null,null,null,null,null,null,null,null,null,null,null,null,null,null,null,null,null,null,null,null,6,{"$f":"Incentives!C9","v":182},{"$f":"Incentives!H9","v":295},{"$f":"Incentives!M9","v":0.81043956043956045}]
[null,null,null,null,null,null,null,null,null,null,null,null,null,null,null,null,null,null,null,null,null,null,7,{"$f":"Incentives!C10","v":224},{"$f":"Incentives!H10","v":239},{"$f":"Incentives!M10","v":0.5334821428571429}]
[null,null,null,null,null,null,null,null,null,null,null,null,null,null,null,null,null,null,null,null,null,null,8,{"$f":"Incentives!C11","v":638},{"$f":"Incentives!H11","v":2085},{"$f":"Incentives!M11","v":1.6340125391849529}]
[null,null,null,null,null,null,null,null,null,null,null,null,null,null,null,null,null,null,null,null,null,null,9,{"$f":"Incentives!C12","v":276},{"$f":"Incentives!H12","v":770},{"$f":"Incentives!M12","v":1.394927536231884}]
[null,null,null,null,null,null,null,null,null,null,null,null,null,null,null,null,null,null,null,null,null,null,10,{"$f":"Incentives!C13","v":747},{"$f":"Incentives!H13","v":1136},{"$f":"Incentives!M13","v":0.76037483266398931}]
[null,null,null,null,null,null,null,null,null,null,null,null,null,null,null,null,null,null,null,null,null,null,11,{"$f":"Incentives!C14","v":694},{"$f":"Incentives!H14","v":810},{"$f":"Incentives!M14","v":0.58357348703170031}]
[null,null,null,null,null,null,null,null,null,null,null,null,null,null,null,null,null,null,null,null,null,null,12,{"$f":"Incentives!C15","v":438},{"$f":"Incentives!H15","v":2161},{"$f":"Incentives!M15","v":2.4668949771689497}]
[null,null,null,null,null,null,null,null,null,null,null,null,null,null,null,null,null,null,null,null,null,null,13,{"$f":"Incentives!C16","v":1262},{"$f":"Incentives!H16","v":2200},{"$f":"Incentives!M16","v":0.87163232963549919}]
[null,null,null,null,null,null,null,null,null,null,null,null,null,null,null,null,null,null,null,null,null,null,14,{"$f":"Incentives!C17","v":110},{"$f":"Incentives!H17","v":2944},{"$f":"Incentives!M17","v":13.381818181818181}]
[null,null,null,null,null,null,null,null,null,null,null,null,null,null,null,null,null,null,null,null,null,null,15,{"$f":"Incentives!C18","v":480},{"$f":"Incentives!H18","v":1955},{"$f":"Incentives!M18","v":2.0364583333333335}]
[null,null,null,null,null,null,null,null,null,null,null,null,null,null,null,null,null,null,null,null,null,null,16,{"$f":"Incentives!C19","v":792},{"$f":"Incentives!H19","v":2631},{"$f":"Incentives!M19","v":1.6609848484848484}]
[null,null,null,null,null,null,null,null,null,null,null,null,null,null,null,null,null,null,null,null,null,null,17,{"$f":"Incentives!C20","v":483},{"$f":"Incentives!H20","v":997},{"$f":"Incentives!M20","v":1.0320910973084887}]
[null,null,null,null,null,null,null,null,null,null,null,null,null,null,null,null,null,null,null,null,null,null,18,{"$f":"Incentives!C21","v":293},{"$f":"Incentives!H21","v":1488},{"$f":"Incentives!M21","v":2.5392491467576792}]
[null,null,null,null,null,null,null,null,null,null,null,null,null,null,null,null,null,null,null,null,null,null,19,{"$f":"Incentives!C22","v":329},{"$f":"Incentives!H22","v":535},{"$f":"Incentives!M22","v":0.81306990881458963}]
[null,null,null,null,null,null,null,null,null,null,null,null,null,null,null,null,null,null,null,null,null,null,20,{"$f":"Incentives!C23","v":723},{"$f":"Incentives!H23","v":1931},{"$f":"Incentives!M23","v":1.3354080221300137}]
[null,null,null,null,null,null,null,null,null,null,null,null,null,null,null,null,null,null,null,null,null,null,21,{"$f":"Incentives!C24","v":219},{"$f":"Incentives!H24","v":961},{"$f":"Incentives!M24","v":2.1940639269406392}]
[null,null,null,null,null,null,null,null,null,null,null,null,null,null,null,null,null,null,null,null,null,null,22,{"$f":"Incentives!C25","v":1764},{"$f":"Incentives!H25","v":3541},{"$f":"Incentives!M25","v":1.0036848072562359}]
[null,null,null,null,null,null,null,null,null,null,null,null,null,null,null,null,null,null,null,null,null,null,23,{"$f":"Incentives!C26","v":1195},{"$f":"Incentives!H26","v":1924},{"$f":"Incentives!M26","v":0.80502092050209206}]
[null,null,null,null,null,null,null,null,null,null,null,null,null,null,null,null,null,null,null,null,null,null,24,{"$f":"Incentives!C27","v":575},{"$f":"Incentives!H27","v":2198},{"$f":"Incentives!M27","v":1.9113043478260869}]

{"sheet":"Incentives","index":2,"n_rows":28,"n_cols":13,"rows_kept":28,"cut":false,"hidden":false,"merged":[[1,11,1,12],[0,1,0,12],[1,1,1,5],[1,6,1,10]]}
[null,"Employers Served                                                                                                                                                                                                                                                                               July 1, 2013 - April 30, 2014                                                                                                                                                                                                                             "]
[null,"PY 2012-2013 (Baseline)",null,null,null,null,"PY 2013-2014 (Year-to-Date)",null,null,null,null,"% of Goal"]
["Region","All Employers","Level 1 Employers","% Receiving Level 1","% of All Employers","% of All Level 1 Employers","All Employers","Level 1 Employers","% Receiving Level 1","% of All Employers","% of All Level 1 Employers","All Employers","Level 1 Employers"]
[1,1017,413,{"$f":"C4/B4","v":0.40609636184857423},{"$f":"B4/$B$28","v":2.3658315304626979E-2},{"$f":"C4/$C$28","v":3.1635388739946382E-2},2664,2150,{"$f":"H4/G4","v":0.8070570570570571},{"$f":"G4/$G$28","v":3.3003382103346177E-2},{"$f":"H4/$H$28","v":5.9426739268636501E-2},{"$f":"G4/(B4*2)","v":1.3097345132743363},{"$f":"H4/(C4*2)","v":2.6029055690072638}]
[2,1270,478,0.37637795275590552,{"$f":"B5/$B$28","v":2.9543815572149721E-2},{"$f":"C5/$C$28","v":3.6614324013787822E-2},2580,989,0.38333333333333336,3.196273491990733E-2,2.733630006357279E-2,{"$f":"G5/(B5*2)","v":1.015748031496063},{"$f":"H5/(C5*2)","v":1.0345188284518829}]
[3,373,266,0.71313672922252014,8.6770418963872803E-3,2.0375335120643431E-2,767,552,0.71968709256844854,9.5020998773522967E-3,1.5257469802924348E-2,1.0281501340482573,1.0375939849624061]
[4,1016,151,0.1486220472440945,2.3635052457719775E-2,1.1566449636154731E-2,1986,667,0.33585095669687814,2.4603872694161227E-2,1.8436109345200253E-2,0.97736220472440949,2.2086092715231787]
[5,1162,323,0.27796901893287435,2.7031428106171634E-2,2.4741478360781308E-2,1560,1020,0.65384615384615385,1.9326304835292806E-2,2.8193150722794991E-2,0.67125645438898451,1.5789473684210527]
[6,314,182,0.57961783439490444,7.3045339288622139E-3,1.3941018766756031E-2,392,295,0.75255102040816324,4.8563535227146024E-3,8.1539014345338463E-3,0.62420382165605093,0.81043956043956045]
[7,399,224,0.56140350877192979,9.2818759159745967E-3,1.7158176943699734E-2,391,239,0.61125319693094626,4.843964865768902E-3,6.6060421791647086E-3,0.4899749373433584,0.5334821428571429]
[8,2251,638,0.28342958685028874,5.236466838811734E-2,4.8870164687859055E-2,5162,2085,0.40391321193335916,6.3950247153706063E-2,5.7630116918654467E-2,1.1466015104398046,1.6340125391849529]
[9,878,276,0.31435079726651483,2.0424779584525554E-2,2.1141325162772884E-2,1536,770,0.50130208333333337,1.9028977068595992E-2,2.1283064761325632E-2,0.87471526195899774,1.394927536231884]
[10,1530,747,0.48823529411764705,3.5592155768022889E-2,5.7219456147070087E-2,2469,1136,0.46010530579181858,3.0587593998934577E-2,3.1399430608916777E-2,0.80686274509803924,0.76037483266398931]
[11,1166,694,0.59519725557461411,2.7124479493800452E-2,5.3159708923783994E-2,2285,810,0.35448577680525162,2.8308081120925681E-2,2.2388678515160729E-2,0.97984562607204118,0.58357348703170031]
[12,3319,438,0.13196746007833685,7.7209388885011748E-2,3.3550363845270013E-2,7262,2161,0.29757642522721012,8.9966426739677155E-2,5.9730783050941157E-2,1.0940042181379934,2.4668949771689497]
[13,2091,1262,0.60353897656623623,4.864261288296462E-2,9.6667943316736879E-2,4307,2200,0.51079637798931976,5.3357945465132124E-2,6.0808756460930376E-2,1.0298900047824007,0.87163232963549919]
[14,2538,110,4.3341213553979512E-2,5.9041105450485028E-2,8.4258904634239747E-3,5112,2944,0.57589984350547729,6.333081430642104E-2,8.1373172282263193E-2,1.0070921985815602,13.381818181818181]
[15,3658,480,0.13121924548933844,8.5095493986554069E-2,3.6767522022213714E-2,7451,1955,0.26238088847134611,9.2307882902414554E-2,5.4036872218690399E-2,1.0184527063969382,2.0364583333333335]
[16,1589,792,0.49842668344870988,3.6964663735547958E-2,6.0666411336652626E-2,3540,2631,0.74322033898305084,4.3855845587779829E-2,7.2721744658503548E-2,1.1139081183134047,1.6609848484848484]
[17,1461,483,0.33059548254620125,3.3987019331425783E-2,3.6997319034852545E-2,2108,997,0.47296015180265655,2.6115288841536688E-2,2.7557422814339809E-2,0.72142368240930865,1.0320910973084887]
[18,1368,293,0.21418128654970761,3.1823574569055761E-2,2.2443508234392954E-2,2787,1488,0.53390742734122709,3.4527186907667339E-2,4.1128831642665634E-2,1.0186403508771931,2.5392491467576792]
[19,671,329,0.49031296572280181,1.5609370274734222E-2,2.5201072386058981E-2,1078,535,0.49628942486085342,1.3354972187465158E-2,1.4787583957544433E-2,0.80327868852459017,0.81306990881458963]
[20,1279,723,0.56528537920250199,2.9753181194314561E-2,5.5381080045959402E-2,2609,1931,0.74013031812955155,3.2322005971332647E-2,5.3373503966389339E-2,1.0199374511336983,1.3354080221300137]
[21,1910,219,0.11465968586387434,4.4432037592760605E-2,1.6775181922635007E-2,4068,961,0.23623402163225171,5.0397056455109702E-2,2.6562370435888223E-2,1.0649214659685864,2.1940639269406392]
[22,5056,1764,0.34889240506329117,0.11761695396282597,0.13512064343163538,9398,3541,0.37678229410512876,0.11642859797569345,9.7874457558252026E-2,0.92939082278481011,1.0036848072562359]
[23,4784,1195,0.24979096989966554,0.11128945960406635,9.1535810034469547E-2,5249,1924,0.36654600876357402,6.5028060307982014E-2,5.3180021559468202E-2,0.54859949832775923,0.80502092050209206]
[24,1887,575,0.3047164811870694,4.3896992113894896E-2,4.4044427422443508E-2,3958,2198,0.55533097524002017,4.9034304191082644E-2,6.075347577323862E-2,1.0487546369899312,1.9113043478260869]
["Statewide",{"$f":"SUM(B4:B27)","v":42987},{"$f":"SUM(C4:C27)","v":13055},0.3036964663735548,{"$f":"SUM(E4:E27)","v":0.99999999999999989},{"$f":"SUM(F4:F27)","v":1.0000000000000002},{"$f":"SUM(G4:G27)","v":80719},{"$f":"SUM(H4:H27)","v":36179},0.44820921963849897,{"$f":"SUM(J4:J27)","v":1},{"$f":"SUM(K4:K27)","v":1},0.93887686975132012,1.3856376867100728]

{"sheet":"Region 1","index":3,"n_rows":0,"n_cols":0,"rows_kept":0,"cut":false,"hidden":true,"merged":[]}

{"sheet":"Sheet2","index":4,"n_rows":27,"n_cols":9,"rows_kept":27,"cut":false,"hidden":true,"merged":[[0,1,0,8],[1,1,1,3],[1,4,1,6],[1,7,1,8]]}
[null,"Employers Served"]
[null,"PY2011-2012",null,null,"PY2012-2013",null,null,"% Change"]
["Region","All Employers","Level 1 Employers","% Receiving Level 1","All Employers","Level 1 Employers","% Receiving Level 1","All Employers","Level 1 Employers"]
[1,940,563,{"$f":"C4/B4","v":0.59893617021276591},1033,null,{"$f":"F4/E4","v":0},{"$f":"(E4-B4)/B4","v":9.8936170212765961E-2},{"$f":"(F4-C4)/C4","v":-1}]
[2,922,441,{"$f":"C5/B5","v":0.47830802603036876},1282,null,{"$f":"F5/E5","v":0},{"$f":"(E5-B5)/B5","v":0.39045553145336226},-1]
[3,375,304,0.81066666666666665,378,null,0,8.0000000000000002E-3,-1]
[4,941,216,0.22954303931987247,1017,null,0,8.0765143464399572E-2,-1]
[5,1116,517,0.46326164874551973,1239,null,0,0.11021505376344086,-1]
[6,366,295,0.80601092896174864,326,null,0,-0.10928961748633879,-1]
[7,425,271,0.63764705882352946,406,null,0,-4.4705882352941179E-2,-1]
[8,2234,1238,0.55416293643688452,2318,null,0,3.7600716204118173E-2,-1]
[9,891,558,0.6262626262626263,887,null,0,-4.4893378226711564E-3,-1]
[10,1287,792,0.61538461538461542,1567,null,0,0.21756021756021757,-1]
[11,1125,583,0.51822222222222225,1983,null,0,0.76266666666666671,-1]
[12,3196,642,0.20087609511889862,3419,null,0,6.9774718397997496E-2,-1]
[13,2025,1340,0.66172839506172842,2113,null,0,4.3456790123456789E-2,-1]
[14,2211,242,0.10945273631840796,2548,null,0,0.15241971958389869,-1]
[15,2866,1256,0.43824145150034893,4043,null,0,0.4106769016050244,-1]
[16,2901,1775,0.61185798000689418,1626,null,0,-0.43950361944157185,-1]
[17,1416,798,0.56355932203389836,1565,null,0,0.10522598870056497,-1]
[18,1414,668,0.47241867043847241,1404,null,0,-7.0721357850070717E-3,-1]
[19,695,460,0.66187050359712229,677,null,0,-2.5899280575539568E-2,-1]
[20,1227,791,0.64466177669111657,1302,null,0,6.1124694376528114E-2,-1]
[21,2227,627,0.2815446789402784,1929,null,0,-0.13381230354737314,-1]
[22,5234,2645,0.50534963698891866,5169,null,0,-1.2418800152846771E-2,-1]
[23,5409,3219,0.59511924570160846,4819,null,0,-0.1090774634867813,-1]
[24,1315,582,0.44258555133079847,1910,null,0,0.45247148288973382,-1]

{"sheet":"Sheet1","index":5,"n_rows":0,"n_cols":0,"rows_kept":0,"cut":false,"hidden":false,"merged":[]}