{"text_format":"1","workbook":"xlsx","n_sheets":7,"sheets":["Version","RefState","Template9090","Map9090","ByWIB","ByState","ETA9090"],"not_rendered":{"charts":0,"images":0,"macros":1,"external_links":0,"defined_names":1,"comments":0,"pivot_tables":0},"unopened":[],"bounds":{"document_bytes":16777216,"sheet_cells":100000,"rows_first":2000,"rows_last":500,"rows_between":2000,"halvings":0,"cell_chars":16384,"cell_head_chars":4096},"cells_cut":0,"cells_raw":0,"read":"whole","date_system":"1900"}

{"sheet":"Version","index":0,"n_rows":3,"n_cols":3,"rows_kept":3,"cut":false,"hidden":true,"merged":[]}
["Version Number","Date","State"]
[1,"2013-12-16","Initial Version"]
[2,"2013-12-19","State and Local Data Preloaded"]

{"sheet":"RefState","index":1,"n_rows":62,"n_cols":3,"rows_kept":62,"cut":false,"hidden":true,"merged":[]}
["STATE_NAME","STATE_ABBREVIATION_SRC","REGION_ID_SRC"]
["Alabama","AL",3]
["Alaska","AK",6]
["American Samoa","AS",6]
["Arizona","AZ",6]
["Arkansas","AR",4]
["California","CA",6]
["Colorado","CO",4]
["Connecticut","CT",1]
["Delaware","DE",2]
["Florida","FL",3]
["Georgia","GA",3]
["Guam","GU",6]
["Hawaii","HI",6]
["Idaho","ID",6]
["Illinois","IL",5]
["Indiana","IN",5]
["Iowa","IA",5]
["Kansas","KS",5]
["Kentucky","KY",3]
["Louisiana","LA",4]
["Maine","ME",1]
["Marshall Islands","MH",6]
["Maryland","MD",2]
["Massachusetts","MA",1]
["Michigan","MI",5]
["Micronesia","FM",6]
["Minnesota","MN",5]
["Mississippi","MS",3]
["Missouri","MO",5]
["Montana","MT",4]
["Nebraska","NE",5]
["Nevada","NV",6]
["New Hampshire","NH",1]
["New Jersey","NJ",1]
["New Mexico","NM",4]
["New York","NY",1]
["North Carolina","NC",3]
["North Dakota","ND",4]
["Northern Marianas Islands","MP",6]
["Not Applicable","NA",-1]
["Ohio","OH",5]
["Oklahoma","OK",4]
["Oregon","OR",6]
["Palau","PW",6]
["Pennsylvania","PA",2]
["Puerto Rico","PR",1]
["Rhode Island","RI",1]
["South Carolina","SC",3]
["South Dakota","SD",4]
["Tennessee","TN",3]
["Texas","TX",4]
["U.S. Virgin Islands","VI",1]
["Unknown","UK",-1]
["Utah","UT",4]
["Vermont","VT",1]
["Virginia","VA",2]
["Washington","WA",6]
["Washington, D.C.","DC",2]
["West Virginia","WV",2]
["Wisconsin","WI",5]
["Wyoming","WY",4]

{"sheet":"Template9090","index":2,"n_rows":104,"n_cols":6,"rows_kept":104,"cut":false,"hidden":true,"merged":[]}
[]
[]
[]
["Report Status: AWAITING GRANTEE CERTIFICATION as of   09/29/2013, 10:53 AM"]
["Performance Items","Program group","Current Quarter",null,"Cumulative"]
["(Time Period to Cumulate Performance Results)",null,"(most recent)",null,"4-Quarter"]
[null,null,null,null,"Reporting Period"]
[null,null,"Value","Numerator","Value","Numerator"]
[null,null,null,"Denominator",null,"Denominator"]
["Total Participants","Total Adult Participants","CUR_PTCPNT_ALADLT",null,"ROL_PTCPNT_ALADLT"]
["(07/01/12 to 06/30/13) ","    Total Adults (self-services only)","CUR_PTCPNT_JSTSLF",null,"ROL_PTCPNT_JSTSLF"]
[null,"    WIA Adults","CUR_PTCPNT_WIADLT",null,"ROL_PTCPNT_WIADLT"]
[null,"    WIA Dislocated Workers","CUR_PTCPNT_DISLOC",null,"ROL_PTCPNT_DISLOC"]
[null,"    Nat'l Emergency Grant","CUR_PTCPNT_NATLEG",null,"ROL_PTCPNT_NATLEG"]
[null,"Total Veterans","CUR_PTCPNT_VETRAN",null,"ROL_PTCPNT_VETRAN"]
[null,"    Post 9/11 Era Veterans","CUR_PTCPNT_VET911",null,"ROL_PTCPNT_VET911"]
[null,"    Post 9/11 Era Veterans Receiving Intensive Svcs.","CUR_PTCPNT_VETSVC",null,"ROL_PTCPNT_VETSVC"]
[null,"    TAP Workshop Veteran","CUR_PTCPNT_VETTAP",null,"ROL_PTCPNT_VETTAP"]
[null,"Received Training Services","CUR_PTCPNT_TRNSVC",null,"ROL_PTCPNT_TRNSVC"]
[null,"    WIA Adults","CUR_PTCPNT_TRNADT",null,"ROL_PTCPNT_TRNADT"]
[null,"    WIA Dislocated Workers","CUR_PTCPNT_TRNDIS",null,"ROL_PTCPNT_TRNDIS"]
[null,"    Nat'l Emergency Grant","CUR_PTCPNT_TRNNEG",null,"ROL_PTCPNT_TRNNEG"]
[null,"Total Youth (14 - 21) Participants","CUR_PTCPNT_TYOUTH",null,"ROL_PTCPNT_TYOUTH"]
[null,"    Younger Youth (14 - 18)","CUR_PTCPNT_YNGYUT",null,"ROL_PTCPNT_YNGYUT"]
[null,"    Older Youth (19 - 21)","CUR_PTCPNT_OLDYUT",null,"ROL_PTCPNT_OLDYUT"]
[null,"    Out-of-School Youth","CUR_PTCPNT_OTSCHL",null,"ROL_PTCPNT_OTSCHL"]
[null,"    In-School Youth","CUR_PTCPNT_INSCHL",null,"ROL_PTCPNT_INSCHL"]
["Total Exiters","Total Adult Exiters","CUR_EXITER_ALADLT",null,"ROL_EXITER_ALADLT"]
["(04/1/12 to 03/31/13)","    Total Adults (self-services only)","CUR_EXITER_JSTSLF",null,"ROL_EXITER_JSTSLF"]
[null,"    WIA Adults","CUR_EXITER_WIADLT",null,"ROL_EXITER_WIADLT"]
[null,"    WIA Dislocated Workers","CUR_EXITER_DISLOC",null,"ROL_EXITER_DISLOC"]
[null,"    Nat'l Emergency Grant","CUR_EXITER_NATLEG",null,"ROL_EXITER_NATLEG"]
[null,"Total Youth (14 - 21) Exiters","CUR_EXITER_TYOUTH",null,"ROL_EXITER_TYOUTH"]
[null,"    Younger Youth (14 - 18)","CUR_EXITER_YNGYUT",null,"ROL_EXITER_YNGYUT"]
[null,"    Older Youth (19 - 21)","CUR_EXITER_OLDYUT",null,"ROL_EXITER_OLDYUT"]
[null,"    Out-of-School Youth","CUR_EXITER_OTSCHL",null,"ROL_EXITER_OTSCHL"]
[null,"    In-School Youth","CUR_EXITER_INSCHL",null,"ROL_EXITER_INSCHL"]
[null,"Received Training Services","CUR_EXITER_TRNSVC",null,"ROL_EXITER_TRNSVC"]
[null,"    WIA Adults","CUR_EXITER_TRNADT",null,"ROL_EXITER_TRNADT"]
[null,"    WIA Dislocated Workers","CUR_EXITER_TRNDIS",null,"ROL_EXITER_TRNDIS"]
[null,"    Nat'l Emergency Grant","CUR_EXITER_TRNNEG",null,"ROL_EXITER_TRNNEG"]
["Performance Items","Program group","Current Quarter",null,"4-Quarter"]
[null,null,"Value","Numerator","Cumulative","Numerator"]
[null,null,null,"Denominator",null,"Denominator"]
["Placement in Employment or Education","WIA Youth (14 - 21)",0.74,"CUR_TYOUTH_PLC_NUM",0.70799999999999996,"ROL_TYOUTH_PLC_NUM"]
["(10/1/11 to 09/30/12)",null,null,"CUR_TYOUTH_PLC_DEN",null,"ROL_TYOUTH_PLC_DEN"]
["Attainment at Degree or Certificate","WIA Youth (14 - 21)",0.78,"CUR_TYOUTH_ADC_NUM",0.71699999999999997,"ROL_TYOUTH_ADC_NUM"]
["(10/1/11 to 09/30/12)",null,null,"CUR_TYOUTH_ADC_DEN",null,"ROL_TYOUTH_ADC_DEN"]
["Literacy or Numeracy Gains","WIA Youth (14 - 21)",8.6999999999999994E-2,"CUR_TYOUTH_LIT_NUM",7.9000000000000001E-2,"ROL_TYOUTH_LIT_NUM"]
["(07/01/12 to 06/30/13)",null,null,"CUR_TYOUTH_LIT_DEN",null,"ROL_TYOUTH_LIT_DEN"]
["Youth Diploma or Equivalent rate","WIA Younger Youth (14 - 18)",0.6,"CUR_YNGYUT_DER_NUM",0.63800000000000001,"ROL_YNGYUT_DER_NUM"]
["(04/1/12 to 03/31/13)",null,null,"CUR_YNGYUT_DER_DEN",null,"ROL_YNGYUT_DER_DEN"]
["Skill Attainment Rate","WIA Younger Youth (14 - 18)",0.63600000000000001,"CUR_YNGYUT_SAR_NUM",0.66500000000000004,"ROL_YNGYUT_SAR_NUM"]
["(04/1/12 to 03/31/13)",null,null,"CUR_YNGYUT_SAR_DEN",null,"ROL_YNGYUT_SAR_DEN"]
["Entered Employment Rate","Adults",0.8,"CUR_WIADLT_EER_NUM",0.749,"ROL_WIADLT_EER_NUM"]
["(10/1/11 to 09/30/12)",null,null,"CUR_WIADLT_EER_DEN",null,"ROL_WIADLT_EER_DEN"]
[null,"Dislocated Workers",0.81299999999999994,"CUR_DISLOC_EER_NUM",0.80600000000000005,"ROL_DISLOC_EER_NUM"]
[null,null,null,"CUR_DISLOC_EER_DEN",null,"ROL_DISLOC_EER_DEN"]
[null,"Older Youth (19 - 21)",0.77900000000000003,"CUR_OLDYUT_EER_NUM",0.72499999999999998,"ROL_OLDYUT_EER_NUM"]
[null,null,null,"CUR_OLDYUT_EER_DEN",null,"ROL_OLDYUT_EER_DEN"]
[null,"Veterans","$73.8% ","CUR_VETRAN_EER_NUM",0.68799999999999994,"ROL_VETRAN_EER_NUM"]
[null,null,null,"CUR_VETRAN_EER_DEN",null,"ROL_VETRAN_EER_DEN"]
[null,"Nat'l Emergency Grant",0.75700000000000001,"CUR_NATLEG_EER_NUM",0.83199999999999996,"ROL_NATLEG_EER_NUM"]
[null,null,null,"CUR_NATLEG_EER_DEN",null,"ROL_NATLEG_EER_DEN"]
["Employment and Credential (Adults Dislocated Workers)","Adults",0.64700000000000002,"CUR_WIADLT_ECR_NUM",0.73299999999999998,"ROL_WIADLT_ECR_NUM"]
["or Credential Rates (Older Youth)",null,null,"CUR_WIADLT_ECR_DEN",null,"ROL_WIADLT_ECR_DEN"]
["(10/1/11 to 09/30/12)","Dislocated Workers",0.66700000000000004,"CUR_DISLOC_ECR_NUM",0.7,"ROL_DISLOC_ECR_NUM"]
[null,null,null,"CUR_DISLOC_ECR_DEN",null,"ROL_DISLOC_ECR_DEN"]
[null,"Older Youth (19 - 21)",0.45200000000000001,"CUR_OLDYUT_ECR_NUM",0.41899999999999998,"ROL_OLDYUT_ECR_NUM"]
[null,null,null,"CUR_OLDYUT_ECR_DEN",null,"ROL_OLDYUT_ECR_DEN"]
["Retention Rate","Adults",0.873,"CUR_WIADLT_RET_NUM",0.86699999999999999,"ROL_WIADLT_RET_NUM"]
["(04/1/11 to 03/31/12)",null,null,"CUR_WIADLT_RET_DEN",null,"ROL_WIADLT_RET_DEN"]
[null,"Dislocated Workers",0.93200000000000005,"CUR_DISLOC_RET_NUM",0.91700000000000004,"ROL_DISLOC_RET_NUM"]
[null,null,null,"CUR_DISLOC_RET_DEN",null,"ROL_DISLOC_RET_DEN"]
[null,"Veterans",0.871,"CUR_VETRAN_RET_NUM",0.85,"ROL_VETRAN_RET_NUM"]
[null,null,null,"CUR_VETRAN_RET_DEN",null,"ROL_VETRAN_RET_DEN"]
[null,"Older Youth (19 - 21)",0.879,"CUR_OLDYUT_RET_NUM",0.81899999999999995,"ROL_OLDYUT_RET_NUM"]
[null,null,null,"CUR_OLDYUT_RET_DEN",null,"ROL_OLDYUT_RET_DEN"]
[null,"Younger Youth (14 - 18)",0.63400000000000001,"CUR_YNGYUT_RET_NUM",0.66900000000000004,"ROL_YNGYUT_RET_NUM"]
[null,null,null,"CUR_YNGYUT_RET_DEN",null,"ROL_YNGYUT_RET_DEN"]
[null,"Nat'l Emergency Grant",0.96699999999999997,"CUR_NATLEG_RET_NUM",0.95399999999999996,"ROL_NATLEG_RET_NUM"]
[null,null,null,"CUR_NATLEG_RET_DEN",null,"ROL_NATLEG_RET_DEN"]
["Six-Months Average Earnings","Adults",14469.2,"CUR_WIADLT_AVG_NUM",14661.5,"ROL_WIADLT_AVG_NUM"]
["(04/1/11 to 03/31/12)",null,null,"CUR_WIADLT_AVG_DEN",null,"ROL_WIADLT_AVG_DEN"]
[null,"Dislocated Workers",20103.8,"CUR_DISLOC_AVG_NUM",18298.3,"ROL_DISLOC_AVG_NUM"]
[null,null,null,"CUR_DISLOC_AVG_DEN",null,"ROL_DISLOC_AVG_DEN"]
[null,"Veterans",16551.099999999999,"CUR_VETRAN_AVG_NUM",16776.5,"ROL_VETRAN_AVG_NUM"]
[null,null,null,"CUR_VETRAN_AVG_DEN",null,"ROL_VETRAN_AVG_DEN"]
[null,"Older Youth (19 - 21)",3662.8,"CUR_OLDYUT_AVG_NUM",2747.1,"ROL_OLDYUT_AVG_NUM"]
[null,null,null,"CUR_OLDYUT_AVG_DEN",null,"ROL_OLDYUT_AVG_DEN"]
[null,"Nat'l Emergency Grant",27070.3,"CUR_NATLEG_AVG_NUM",22677,"ROL_NATLEG_AVG_NUM"]
[null,null,null,"CUR_NATLEG_AVG_DEN",null,"ROL_NATLEG_AVG_DEN"]
["Credential Attainment","Adults",0.13100000000000001,"CUR_WIADLT_CAR_NUM",0.154,"ROL_WIADLT_CAR_NUM"]
["(04/1/11 to 03/31/12)",null,null,"CUR_WIADLT_CAR_DEN",null,"ROL_WIADLT_CAR_DEN"]
[null,"Dislocated Workers",0.377,"CUR_DISLOC_CAR_NUM",0.36799999999999999,"ROL_DISLOC_CAR_NUM"]
[null,null,null,"CUR_DISLOC_CAR_DEN",null,"ROL_DISLOC_CAR_DEN"]
[null,"Youth (14-21)",0.24299999999999999,"CUR_TYOUTH_CAR_NUM",0.23100000000000001,"ROL_TYOUTH_CAR_NUM"]
[null,null,null,"CUR_TYOUTH_CAR_DEN",null,"ROL_TYOUTH_CAR_DEN"]
[null,"Nat'l Emergency Grant",0.42199999999999999,"CUR_NATLEG_CAR_NUM",0.47099999999999997,"ROL_NATLEG_CAR_NUM"]
[null,null,null,"CUR_NATLEG_CAR_DEN",null,"ROL_NATLEG_CAR_DEN"]
["Veteran Priority of Service","Measure","Persent Served","Total","Persent Served","Total"]
["(04/1/11 to 03/31/12)","Covered Entrants Who Reached the End of the Entry Period",null,"CUR_REACHD",null,"ROL_REACHD"]
[null,"Covered Entrants Who Received a Service During the Entry Period",99,"CUR_SERVCD",99,"ROL_SERVCD"]
[null,"Covered Entrants Who Received a Staff-Assisted Service During the Entry Period",7,"CUR_STAFSV",7,"ROL_STAFSV"]

{"sheet":"Map9090","index":3,"n_rows":109,"n_cols":19,"rows_kept":109,"cut":false,"hidden":true,"merged":[[108,9,108,18],[106,12,107,14],[100,18,101,18],[102,12,103,14],[98,12,99,14],[98,15,99,15],[98,17,99,17],[100,9,107,11],[100,12,101,14],[100,15,101,15],[100,16,101,16],[100,17,101,17],[104,12,105,14],[92,9,99,11],[92,12,93,14],[92,15,93,15],[92,17,93,17],[94,12,95,14],[94,15,95,15],[94,17,95,17],[96,12,97,14],[96,15,97,15],[96,17,97,17],[88,12,89,14],[88,15,89,15],[88,17,89,17],[90,12,91,14],[90,15,91,15],[90,17,91,17],[82,9,91,11],[82,12,83,14],[82,15,83,15],[82,17,83,17],[84,12,85,14],[84,15,85,15],[84,17,85,17],[86,12,87,14],[86,15,87,15],[86,17,87,17],[70,9,81,11],[70,12,71,14],[70,15,71,15],[70,17,71,17],[72,12,73,14],[72,15,73,15],[72,17,73,17],[78,12,79,14],[78,15,79,15],[78,17,79,17],[80,12,81,14],[80,15,81,15],[80,17,81,17],[74,12,75,14],[74,15,75,15],[74,17,75,17],[76,12,77,14],[76,15,77,15],[76,17,77,17],[64,9,69,11],[64,12,65,14],[64,15,65,15],[64,17,65,17],[66,12,67,14],[66,15,67,15],[66,17,67,17],[68,12,69,14],[68,15,69,15],[68,17,69,17],[56,17,57,17],[58,12,59,14],[58,15,59,15],[58,17,59,17],[60,12,61,14],[60,15,61,15],[60,17,61,17],[52,9,53,11],[52,12,53,14],[52,15,53,15],[52,17,53,17],[54,9,63,11],[54,12,55,14],[54,15,55,15],[54,17,55,17],[56,12,57,14],[56,15,57,15],[62,12,63,14],[62,15,63,15],[62,17,63,17],[48,9,49,11],[48,12,49,14],[48,15,49,15],[48,17,49,17],[50,9,51,11],[50,12,51,14],[50,15,51,15],[50,17,51,17],[44,9,45,11],[44,12,45,14],[44,15,45,15],[44,17,45,17],[46,9,47,11],[46,12,47,14],[46,15,47,15],[46,17,47,17],[41,15,41,16],[41,17,41,18],[42,15,43,15],[42,17,43,17],[34,12,34,14],[35,12,35,14],[36,12,36,14],[37,12,37,14],[38,12,38,14],[39,12,39,14],[27,9,40,11],[27,12,27,14],[28,12,28,14],[29,12,29,14],[30,12,30,14],[31,12,31,14],[32,12,32,14],[33,12,33,14],[41,9,43,11],[41,12,43,14],[20,12,20,14],[22,12,22,14],[23,12,23,14],[24,12,24,14],[9,9,26,11],[9,12,9,14],[10,12,10,14],[11,12,11,14],[12,12,12,14],[13,12,13,14],[14,12,14,14],[15,12,15,14],[16,12,16,14],[17,12,17,14],[25,12,25,14],[26,12,26,14],[5,9,5,18],[6,9,8,11],[6,12,8,14],[6,15,6,16],[6,17,6,18],[7,15,8,15],[7,17,8,17],[18,12,18,14],[19,12,19,14]]}
["Report Status: AWAITING GRANTEE CERTIFICATION as of   09/29/2013, 10:53 AM",null,null,null,null,null,null,null,null,"Report Due Date:",null,"2006-02-14","mm/dd/yyyy",null,null,null,null,"OMB No.","1205-0420"]
["Performance Items","Program group","Current Quarter",null,"Cumulative",null,null,null,null,"Report Quarter End Date:",null,"2005-12-31","mm/dd/yyyy",null,null,null,null,"Expires: 12/31/2012"]
["(Time Period to Cumulate Performance Results)",null,"(most recent)",null,"4-Quarter"]
[null,null,null,null,"Reporting Period"]
[null,null,"Value","Numerator","Value","Numerator"]
[null,null,null,"Denominator",null,"Denominator",null,null,null,"Quarterly Report Form - ETA 9090"]
["Total Participants","Total Adult Participants",null,null,null,null,null,null,null,"Performance Items\n",null,null,"Program Group",null,null,"Current Quarter  (most recent)",null,"Cumulative\n4-Quarter Reporting  Period"]
["(07/01/12 to 06/30/13) ","    Total Adults (self-services only)",null,null,null,null,null,null,null,null,null,null,null,null,null,"Value","Numerator","Value","Numerator"]
[null,"    WIA Adults",null,null,null,null,null,null,null,null,null,null,null,null,null,null,"Denominator",null,"Denominator"]
[null,"    WIA Dislocated Workers",null,null,null,null,null,{"$f":"TRIM(M10)=TRIM(B7)","v":true},null,"  Total Participants\n",null,null,"  Total Adult Participants",null,null,{"$f":"MATCH(Template9090!C10,ByWIB!$1:$1,0)","v":4},null,{"$f":"MATCH(Template9090!E10,ByWIB!$1:$1,0)","v":5}]
[null,"    Nat'l Emergency Grant",null,null,null,null,null,{"$f":"TRIM(M11)=TRIM(B8)","v":false},null,null,null,null,"Total Adults (self-service only) ",null,null,{"$f":"MATCH(Template9090!C11,ByWIB!$1:$1,0)","v":6},null,{"$f":"MATCH(Template9090!E11,ByWIB!$1:$1,0)","v":7}]
[null,"Total Veterans",null,null,null,null,null,false,null,null,null,null,"WIA Adults  (staff assisted)",null,null,{"$f":"MATCH(Template9090!C12,ByWIB!$1:$1,0)","v":8},null,{"$f":"MATCH(Template9090!E12,ByWIB!$1:$1,0)","v":9}]
[null,"    Post 9/11 Era Veterans",null,null,null,null,null,true,null,null,null,null,"WIA Dislocated Workers ",null,null,{"$f":"MATCH(Template9090!C13,ByWIB!$1:$1,0)","v":10},null,{"$f":"MATCH(Template9090!E13,ByWIB!$1:$1,0)","v":11}]
[null,"    Post 9/11 Era Veterans Receiving Intensive Svcs.",null,null,null,null,null,true,null,null,null,null,"Nat'l Emergency Grant ",null,null,{"$f":"MATCH(Template9090!C14,ByWIB!$1:$1,0)","v":12},null,{"$f":"MATCH(Template9090!E14,ByWIB!$1:$1,0)","v":13}]
[null,"    TAP Workshop Veteran",null,null,null,null,null,true,null,null,null,null,"  Total Veterans",null,null,{"$f":"MATCH(Template9090!C15,ByWIB!$1:$1,0)","v":14},null,{"$f":"MATCH(Template9090!E15,ByWIB!$1:$1,0)","v":15}]
[null,"Received Training Services",null,null,null,null,null,true,null,null,null,null,"Post 9/11 Era Veterans",null,null,{"$f":"MATCH(Template9090!C16,ByWIB!$1:$1,0)","v":16},null,{"$f":"MATCH(Template9090!E16,ByWIB!$1:$1,0)","v":17}]
[null,"    WIA Adults",null,null,null,null,null,true,null,null,null,null,"Post 9/11 Era Veterans Receiving Intensive Svcs.",null,null,{"$f":"MATCH(Template9090!C17,ByWIB!$1:$1,0)","v":18},null,{"$f":"MATCH(Template9090!E17,ByWIB!$1:$1,0)","v":19}]
[null,"    WIA Dislocated Workers",null,null,null,null,null,true,null,null,null,null,"TAP Workshop Veteran",null,null,{"$f":"MATCH(Template9090!C18,ByWIB!$1:$1,0)","v":20},null,{"$f":"MATCH(Template9090!E18,ByWIB!$1:$1,0)","v":21}]
[null,"    Nat'l Emergency Grant",null,null,null,null,null,true,null,null,null,null,"  Received Training Services ",null,null,{"$f":"MATCH(Template9090!C19,ByWIB!$1:$1,0)","v":22},null,{"$f":"MATCH(Template9090!E19,ByWIB!$1:$1,0)","v":23}]
[null,"Total Youth (14 - 21) Participants",null,null,null,null,null,true,null,null,null,null,"WIA Adults",null,null,{"$f":"MATCH(Template9090!C20,ByWIB!$1:$1,0)","v":24},null,{"$f":"MATCH(Template9090!E20,ByWIB!$1:$1,0)","v":25}]
[null,"    Younger Youth (14 - 18)",null,null,null,null,null,true,null,null,null,null,"WIA Dislocated Workers",null,null,{"$f":"MATCH(Template9090!C21,ByWIB!$1:$1,0)","v":26},null,{"$f":"MATCH(Template9090!E21,ByWIB!$1:$1,0)","v":27}]
[null,"    Older Youth (19 - 21)",null,null,null,null,null,true,null,null,null,null,"Nat'l Emergency Grant",null,null,{"$f":"MATCH(Template9090!C22,ByWIB!$1:$1,0)","v":28},null,{"$f":"MATCH(Template9090!E22,ByWIB!$1:$1,0)","v":29}]
[null,"    Out-of-School Youth",null,null,null,null,null,true,null,null,null,null,"  Total Youth (14 - 21) Participants",null,null,{"$f":"MATCH(Template9090!C23,ByWIB!$1:$1,0)","v":30},null,{"$f":"MATCH(Template9090!E23,ByWIB!$1:$1,0)","v":31}]
[null,"    In-School Youth",null,null,null,null,null,true,null,null,null,null,"Younger Youth (14 - 18) ",null,null,{"$f":"MATCH(Template9090!C24,ByWIB!$1:$1,0)","v":32},null,{"$f":"MATCH(Template9090!E24,ByWIB!$1:$1,0)","v":33}]
["Total Exiters","Total Adult Exiters",null,null,null,null,null,true,null,null,null,null,"Older Youth (19 - 21)",null,null,{"$f":"MATCH(Template9090!C25,ByWIB!$1:$1,0)","v":34},null,{"$f":"MATCH(Template9090!E25,ByWIB!$1:$1,0)","v":35}]
["(04/1/12 to 03/31/13)","    Total Adults (self-services only)",null,null,null,null,null,true,null,null,null,null,"Out-of-School Youth ",null,null,{"$f":"MATCH(Template9090!C26,ByWIB!$1:$1,0)","v":36},null,{"$f":"MATCH(Template9090!E26,ByWIB!$1:$1,0)","v":37}]
[null,"    WIA Adults",null,null,null,null,null,true,null,null,null,null,"In-School Youth",null,null,{"$f":"MATCH(Template9090!C27,ByWIB!$1:$1,0)","v":38},null,{"$f":"MATCH(Template9090!E27,ByWIB!$1:$1,0)","v":39}]
[null,"    WIA Dislocated Workers",null,null,null,null,null,true,null,"  Total Exiters\n",null,null,"  Total Adult Exiters",null,null,{"$f":"MATCH(Template9090!C28,ByWIB!$1:$1,0)","v":40},null,{"$f":"MATCH(Template9090!E28,ByWIB!$1:$1,0)","v":41}]
[null,"    Nat'l Emergency Grant",null,null,null,null,null,true,null,null,null,null,"Total Adults (self-services only)",null,null,{"$f":"MATCH(Template9090!C29,ByWIB!$1:$1,0)","v":42},null,{"$f":"MATCH(Template9090!E29,ByWIB!$1:$1,0)","v":43}]
[null,"Total Youth (14 - 21) Exiters",null,null,null,null,null,true,null,null,null,null,"WIA Adults",null,null,{"$f":"MATCH(Template9090!C30,ByWIB!$1:$1,0)","v":44},null,{"$f":"MATCH(Template9090!E30,ByWIB!$1:$1,0)","v":45}]
[null,"    Younger Youth (14 - 18)",null,null,null,null,null,true,null,null,null,null,"WIA Dislocated Workers",null,null,{"$f":"MATCH(Template9090!C31,ByWIB!$1:$1,0)","v":46},null,{"$f":"MATCH(Template9090!E31,ByWIB!$1:$1,0)","v":47}]
[null,"    Older Youth (19 - 21)",null,null,null,null,null,true,null,null,null,null,"Nat'l Emergency Grant",null,null,{"$f":"MATCH(Template9090!C32,ByWIB!$1:$1,0)","v":48},null,{"$f":"MATCH(Template9090!E32,ByWIB!$1:$1,0)","v":49}]
[null,"    Out-of-School Youth",null,null,null,null,null,true,null,null,null,null,"  Total Youth (14 - 21) Exiters",null,null,{"$f":"MATCH(Template9090!C33,ByWIB!$1:$1,0)","v":50},null,{"$f":"MATCH(Template9090!E33,ByWIB!$1:$1,0)","v":51}]
[null,"    In-School Youth",null,null,null,null,null,true,null,null,null,null,"Younger Youth (14 - 18)",null,null,{"$f":"MATCH(Template9090!C34,ByWIB!$1:$1,0)","v":52},null,{"$f":"MATCH(Template9090!E34,ByWIB!$1:$1,0)","v":53}]
[null,"Received Training Services",null,null,null,null,null,true,null,null,null,null,"Older Youth (19 - 21)",null,null,{"$f":"MATCH(Template9090!C35,ByWIB!$1:$1,0)","v":54},null,{"$f":"MATCH(Template9090!E35,ByWIB!$1:$1,0)","v":55}]
[null,"    WIA Adults",null,null,null,null,null,true,null,null,null,null,"Out-of-School Youth",null,null,{"$f":"MATCH(Template9090!C36,ByWIB!$1:$1,0)","v":56},null,{"$f":"MATCH(Template9090!E36,ByWIB!$1:$1,0)","v":57}]
[null,"    WIA Dislocated Workers",null,null,null,null,null,true,null,null,null,null,"In-School Youth",null,null,{"$f":"MATCH(Template9090!C37,ByWIB!$1:$1,0)","v":58},null,{"$f":"MATCH(Template9090!E37,ByWIB!$1:$1,0)","v":59}]
[null,"    Nat'l Emergency Grant",null,null,null,null,null,true,null,null,null,null,"  Received Training Services ",null,null,{"$f":"MATCH(Template9090!C38,ByWIB!$1:$1,0)","v":60},null,{"$f":"MATCH(Template9090!E38,ByWIB!$1:$1,0)","v":61}]
["Performance Items","Program group","Current Quarter",null,"Cumulative",null,null,true,null,null,null,null,"WIA Adults",null,null,{"$f":"MATCH(Template9090!C39,ByWIB!$1:$1,0)","v":62},null,{"$f":"MATCH(Template9090!E39,ByWIB!$1:$1,0)","v":63}]
[null,null,"(most recent)",null,"4-Quarter",null,null,true,null,null,null,null,"WIA Dislocated Workers",null,null,{"$f":"MATCH(Template9090!C40,ByWIB!$1:$1,0)","v":64},null,{"$f":"MATCH(Template9090!E40,ByWIB!$1:$1,0)","v":65}]
[null,null,null,null,"Reporting Period",null,null,true,null,null,null,null,"Nat'l Emergency Grant",null,null,{"$f":"MATCH(Template9090!C41,ByWIB!$1:$1,0)","v":66},null,{"$f":"MATCH(Template9090!E41,ByWIB!$1:$1,0)","v":67}]
[null,null,"Value","Numerator","Value","Numerator",null,null,null,"Performance Items\n",null,null,"Program Group",null,null,"Current Quarter (most recent)",null,"Cumulative\n4-Quarter Reporting  Period"]
[null,null,null,"Denominator",null,"Denominator",null,null,null,null,null,null,null,null,null,"Value","Numerator","Value","Numerator"]
["Placement in Employment or Education","WIA Youth (14 - 21)",0.74,null,0.70799999999999996,null,null,{"$f":"TRIM(J45) = TRIM(A44)","v":false},null,null,null,null,null,null,null,null,"Denominator",null,"Denominator"]
["(10/1/11 to 09/30/12)",null,null,null,null,null,null,null,null,"  Placement in Employment or Education\n",null,null,"  WIA Youth (14 - 21) ",null,null,null,{"$f":"MATCH(Template9090!D45,ByWIB!$1:$1,0)","v":68},null,{"$f":"MATCH(Template9090!F45,ByWIB!$1:$1,0)","v":69}]
["Attainment at Degree or Certificate","WIA Youth (14 - 21)",0.78,null,0.71699999999999997,null,null,null,null,null,null,null,null,null,null,null,{"$f":"MATCH(Template9090!D46,ByWIB!$1:$1,0)","v":70},null,{"$f":"MATCH(Template9090!F46,ByWIB!$1:$1,0)","v":71}]
["(10/1/11 to 09/30/12)",null,null,null,null,null,null,null,null,"  Attainment of Degree or Certificate\n  ",null,null,"  WIA Youth (14 - 21)",null,null,null,{"$f":"MATCH(Template9090!D47,ByWIB!$1:$1,0)","v":72},null,{"$f":"MATCH(Template9090!F47,ByWIB!$1:$1,0)","v":73}]
["Literacy or Numeracy Gains","WIA Youth (14 - 21)",8.6999999999999994E-2,null,7.9000000000000001E-2,null,null,null,null,null,null,null,null,null,null,null,{"$f":"MATCH(Template9090!D48,ByWIB!$1:$1,0)","v":74},null,{"$f":"MATCH(Template9090!F48,ByWIB!$1:$1,0)","v":75}]
["(07/01/12 to 06/30/13)",null,null,null,null,null,null,null,null,"  Literacy and Numeracy Gains\n  ",null,null,"  WIA Youth (14 - 21)",null,null,null,{"$f":"MATCH(Template9090!D49,ByWIB!$1:$1,0)","v":76},null,{"$f":"MATCH(Template9090!F49,ByWIB!$1:$1,0)","v":77}]
["Youth Diploma or Equivalent rate","WIA Younger Youth (14 - 18)",0.6,null,0.63800000000000001,null,null,null,null,null,null,null,null,null,null,null,{"$f":"MATCH(Template9090!D50,ByWIB!$1:$1,0)","v":78},null,{"$f":"MATCH(Template9090!F50,ByWIB!$1:$1,0)","v":79}]
["(04/1/12 to 03/31/13)",null,null,null,null,null,null,null,null,"  Youth Diploma or Equivalent Rate\n   ",null,null,"  WIA Younger Youth (14-18)",null,null,null,{"$f":"MATCH(Template9090!D51,ByWIB!$1:$1,0)","v":80},null,{"$f":"MATCH(Template9090!F51,ByWIB!$1:$1,0)","v":81}]
["Skill Attainment Rate","WIA Younger Youth (14 - 18)",0.63600000000000001,null,0.66500000000000004,null,null,null,null,null,null,null,null,null,null,null,{"$f":"MATCH(Template9090!D52,ByWIB!$1:$1,0)","v":82},null,{"$f":"MATCH(Template9090!F52,ByWIB!$1:$1,0)","v":83}]
["(04/1/12 to 03/31/13)",null,null,null,null,null,null,null,null,"  Skill Attainment Rate\n  ",null,null,"  WIA Younger Youth (14-18)",null,null,null,{"$f":"MATCH(Template9090!D53,ByWIB!$1:$1,0)","v":84},null,{"$f":"MATCH(Template9090!F53,ByWIB!$1:$1,0)","v":85}]
["Entered Employment Rate","Adults",0.8,null,0.749,null,null,null,null,null,null,null,null,null,null,null,{"$f":"MATCH(Template9090!D54,ByWIB!$1:$1,0)","v":86},null,{"$f":"MATCH(Template9090!F54,ByWIB!$1:$1,0)","v":87}]
["(10/1/11 to 09/30/12)",null,null,null,null,null,null,null,null,"  Entered Employment Rates \n   ",null,null,"  Adults ",null,null,null,{"$f":"MATCH(Template9090!D55,ByWIB!$1:$1,0)","v":88},null,{"$f":"MATCH(Template9090!F55,ByWIB!$1:$1,0)","v":89}]
[null,"Dislocated Workers",0.81299999999999994,null,0.80600000000000005,null,null,null,null,null,null,null,null,null,null,null,{"$f":"MATCH(Template9090!D56,ByWIB!$1:$1,0)","v":90},null,{"$f":"MATCH(Template9090!F56,ByWIB!$1:$1,0)","v":91}]
[null,null,null,null,null,null,null,null,null,null,null,null,"  Dislocated Workers ",null,null,null,{"$f":"MATCH(Template9090!D57,ByWIB!$1:$1,0)","v":92},null,{"$f":"MATCH(Template9090!F57,ByWIB!$1:$1,0)","v":93}]
[null,"Older Youth (19 - 21)",0.77900000000000003,null,0.72499999999999998,null,null,null,null,null,null,null,null,null,null,null,{"$f":"MATCH(Template9090!D58,ByWIB!$1:$1,0)","v":94},null,{"$f":"MATCH(Template9090!F58,ByWIB!$1:$1,0)","v":95}]
[null,null,null,null,null,null,null,null,null,null,null,null,"  Older Youth (19-21)",null,null,null,{"$f":"MATCH(Template9090!D59,ByWIB!$1:$1,0)","v":100},null,{"$f":"MATCH(Template9090!F59,ByWIB!$1:$1,0)","v":101}]
[null,"Veterans","$73.8% ",null,0.68799999999999994,null,null,null,null,null,null,null,null,null,null,null,{"$f":"MATCH(Template9090!D60,ByWIB!$1:$1,0)","v":102},null,{"$f":"MATCH(Template9090!F60,ByWIB!$1:$1,0)","v":103}]
[null,null,null,null,null,null,null,null,null,null,null,null,"  Veterans",null,null,null,{"$f":"MATCH(Template9090!D61,ByWIB!$1:$1,0)","v":96},null,{"$f":"MATCH(Template9090!F61,ByWIB!$1:$1,0)","v":97}]
[null,"Nat'l Emergency Grant",0.75700000000000001,null,0.83199999999999996,null,null,null,null,null,null,null,null,null,null,null,{"$f":"MATCH(Template9090!D62,ByWIB!$1:$1,0)","v":98},null,{"$f":"MATCH(Template9090!F62,ByWIB!$1:$1,0)","v":99}]
[null,null,null,null,null,null,null,null,null,null,null,null,"  Nat'l Emergency Grant",null,null,null,{"$f":"MATCH(Template9090!D63,ByWIB!$1:$1,0)","v":104},null,{"$f":"MATCH(Template9090!F63,ByWIB!$1:$1,0)","v":105}]
["Employment and Credential (Adults Dislocated Workers)","Adults",0.64700000000000002,null,0.73299999999999998,null,null,null,null,null,null,null,null,null,null,null,{"$f":"MATCH(Template9090!D64,ByWIB!$1:$1,0)","v":106},null,{"$f":"MATCH(Template9090!F64,ByWIB!$1:$1,0)","v":107}]
["or Credential Rates (Older Youth)",null,null,null,null,null,null,null,null,"  Employment and Credential Rates \n  (Adults/Dislocated Workers/Older Youth) \n   ",null,null,"  Adults",null,null,null,{"$f":"MATCH(Template9090!D65,ByWIB!$1:$1,0)","v":108},null,{"$f":"MATCH(Template9090!F65,ByWIB!$1:$1,0)","v":109}]
["(10/1/11 to 09/30/12)","Dislocated Workers",0.66700000000000004,null,0.7,null,null,null,null,null,null,null,null,null,null,null,{"$f":"MATCH(Template9090!D66,ByWIB!$1:$1,0)","v":110},null,{"$f":"MATCH(Template9090!F66,ByWIB!$1:$1,0)","v":111}]
[null,null,null,null,null,null,null,null,null,null,null,null,"  Dislocated Workers",null,null,null,{"$f":"MATCH(Template9090!D67,ByWIB!$1:$1,0)","v":112},null,{"$f":"MATCH(Template9090!F67,ByWIB!$1:$1,0)","v":113}]
[null,"Older Youth (19 - 21)",0.45200000000000001,null,0.41899999999999998,null,null,null,null,null,null,null,null,null,null,null,{"$f":"MATCH(Template9090!D68,ByWIB!$1:$1,0)","v":114},null,{"$f":"MATCH(Template9090!F68,ByWIB!$1:$1,0)","v":115}]
[null,null,null,null,null,null,null,null,null,null,null,null,"  Older Youth (19-21)",null,null,null,{"$f":"MATCH(Template9090!D69,ByWIB!$1:$1,0)","v":116},null,{"$f":"MATCH(Template9090!F69,ByWIB!$1:$1,0)","v":117}]
["Retention Rate","Adults",0.873,null,0.86699999999999999,null,null,null,null,null,null,null,null,null,null,null,{"$f":"MATCH(Template9090!D70,ByWIB!$1:$1,0)","v":118},null,{"$f":"MATCH(Template9090!F70,ByWIB!$1:$1,0)","v":119}]
["(04/1/11 to 03/31/12)",null,null,null,null,null,null,null,null,"  Retention Rates\n   ",null,null,"  Adults ",null,null,null,{"$f":"MATCH(Template9090!D71,ByWIB!$1:$1,0)","v":120},null,{"$f":"MATCH(Template9090!F71,ByWIB!$1:$1,0)","v":121}]
[null,"Dislocated Workers",0.93200000000000005,null,0.91700000000000004,null,null,null,null,null,null,null,null,null,null,null,{"$f":"MATCH(Template9090!D72,ByWIB!$1:$1,0)","v":122},null,{"$f":"MATCH(Template9090!F72,ByWIB!$1:$1,0)","v":123}]
[null,null,null,null,null,null,null,null,null,null,null,null,"  Dislocated Workers ",null,null,null,{"$f":"MATCH(Template9090!D73,ByWIB!$1:$1,0)","v":124},null,{"$f":"MATCH(Template9090!F73,ByWIB!$1:$1,0)","v":125}]
[null,"Veterans",0.871,null,0.85,null,null,null,null,null,null,null,null,null,null,null,{"$f":"MATCH(Template9090!D74,ByWIB!$1:$1,0)","v":126},null,{"$f":"MATCH(Template9090!F74,ByWIB!$1:$1,0)","v":127}]
[null,null,null,null,null,null,null,null,null,null,null,null,"  Veterans",null,null,null,{"$f":"MATCH(Template9090!D75,ByWIB!$1:$1,0)","v":128},null,{"$f":"MATCH(Template9090!F75,ByWIB!$1:$1,0)","v":129}]
[null,"Older Youth (19 - 21)",0.879,null,0.81899999999999995,null,null,null,null,null,null,null,null,null,null,null,{"$f":"MATCH(Template9090!D76,ByWIB!$1:$1,0)","v":130},null,{"$f":"MATCH(Template9090!F76,ByWIB!$1:$1,0)","v":131}]
[null,null,null,null,null,null,null,null,null,null,null,null,"  Older Youth (19-21)",null,null,null,{"$f":"MATCH(Template9090!D77,ByWIB!$1:$1,0)","v":132},null,{"$f":"MATCH(Template9090!F77,ByWIB!$1:$1,0)","v":133}]
[null,"Younger Youth (14 - 18)",0.63400000000000001,null,0.66900000000000004,null,null,null,null,null,null,null,null,null,null,null,{"$f":"MATCH(Template9090!D78,ByWIB!$1:$1,0)","v":134},null,{"$f":"MATCH(Template9090!F78,ByWIB!$1:$1,0)","v":135}]
[null,null,null,null,null,null,null,null,null,null,null,null,"  Younger Youth (14-18)",null,null,null,{"$f":"MATCH(Template9090!D79,ByWIB!$1:$1,0)","v":136},null,{"$f":"MATCH(Template9090!F79,ByWIB!$1:$1,0)","v":137}]
[null,"Nat'l Emergency Grant",0.96699999999999997,null,0.95399999999999996,null,null,null,null,null,null,null,null,null,null,null,{"$f":"MATCH(Template9090!D80,ByWIB!$1:$1,0)","v":138},null,{"$f":"MATCH(Template9090!F80,ByWIB!$1:$1,0)","v":139}]
[null,null,null,null,null,null,null,null,null,null,null,null,"  Nat'l Emergency Grant ",null,null,null,{"$f":"MATCH(Template9090!D81,ByWIB!$1:$1,0)","v":140},null,{"$f":"MATCH(Template9090!F81,ByWIB!$1:$1,0)","v":141}]
["Six-Months Average Earnings","Adults",14469.2,null,14661.5,null,null,null,null,null,null,null,null,null,null,null,{"$f":"MATCH(Template9090!D82,ByWIB!$1:$1,0)","v":142},null,{"$f":"MATCH(Template9090!F82,ByWIB!$1:$1,0)","v":143}]
["(04/1/11 to 03/31/12)",null,null,null,null,null,null,null,null,"  Six-Months \n  Average Earnings\n   ",null,null,"  Adults ",null,null,null,{"$f":"MATCH(Template9090!D83,ByWIB!$1:$1,0)","v":144},null,{"$f":"MATCH(Template9090!F83,ByWIB!$1:$1,0)","v":145}]
[null,"Dislocated Workers",20103.8,null,18298.3,null,null,null,null,null,null,null,null,null,null,null,{"$f":"MATCH(Template9090!D84,ByWIB!$1:$1,0)","v":146},null,{"$f":"MATCH(Template9090!F84,ByWIB!$1:$1,0)","v":147}]
[null,null,null,null,null,null,null,null,null,null,null,null,"  Dislocated Workers ",null,null,null,{"$f":"MATCH(Template9090!D85,ByWIB!$1:$1,0)","v":148},null,{"$f":"MATCH(Template9090!F85,ByWIB!$1:$1,0)","v":149}]
[null,"Veterans",16551.099999999999,null,16776.5,null,null,null,null,null,null,null,null,null,null,null,{"$f":"MATCH(Template9090!D86,ByWIB!$1:$1,0)","v":150},null,{"$f":"MATCH(Template9090!F86,ByWIB!$1:$1,0)","v":151}]
[null,null,null,null,null,null,null,null,null,null,null,null,"  Veterans",null,null,null,{"$f":"MATCH(Template9090!D87,ByWIB!$1:$1,0)","v":152},null,{"$f":"MATCH(Template9090!F87,ByWIB!$1:$1,0)","v":153}]
[null,"Older Youth (19 - 21)",3662.8,null,2747.1,null,null,null,null,null,null,null,null,null,null,null,{"$f":"MATCH(Template9090!D88,ByWIB!$1:$1,0)","v":154},null,{"$f":"MATCH(Template9090!F88,ByWIB!$1:$1,0)","v":155}]
[null,null,null,null,null,null,null,null,null,null,null,null,"  Older Youth (19-21) (Earnings Change)",null,null,null,{"$f":"MATCH(Template9090!D89,ByWIB!$1:$1,0)","v":156},null,{"$f":"MATCH(Template9090!F89,ByWIB!$1:$1,0)","v":157}]
[null,"Nat'l Emergency Grant",27070.3,null,22677,null,null,null,null,null,null,null,null,null,null,null,{"$f":"MATCH(Template9090!D90,ByWIB!$1:$1,0)","v":158},null,{"$f":"MATCH(Template9090!F90,ByWIB!$1:$1,0)","v":159}]
[null,null,null,null,null,null,null,null,null,null,null,null,"  Nat'l Emergency Grant ",null,null,null,{"$f":"MATCH(Template9090!D91,ByWIB!$1:$1,0)","v":160},null,{"$f":"MATCH(Template9090!F91,ByWIB!$1:$1,0)","v":161}]
["Credential Attainment","Adults",0.13100000000000001,null,0.154,null,null,null,null,null,null,null,null,null,null,null,{"$f":"MATCH(Template9090!D92,ByWIB!$1:$1,0)","v":162},null,{"$f":"MATCH(Template9090!F92,ByWIB!$1:$1,0)","v":163}]
["(04/1/11 to 03/31/12)",null,null,null,null,null,null,null,null,"  Credential Attainment\n   ",null,null,"  Adults ",null,null,null,{"$f":"MATCH(Template9090!D93,ByWIB!$1:$1,0)","v":164},null,{"$f":"MATCH(Template9090!F93,ByWIB!$1:$1,0)","v":165}]
[null,"Dislocated Workers",0.377,null,0.36799999999999999,null,null,null,null,null,null,null,null,null,null,null,{"$f":"MATCH(Template9090!D94,ByWIB!$1:$1,0)","v":166},null,{"$f":"MATCH(Template9090!F94,ByWIB!$1:$1,0)","v":167}]
[null,null,null,null,null,null,null,null,null,null,null,null,"  Dislocated Workers ",null,null,null,{"$f":"MATCH(Template9090!D95,ByWIB!$1:$1,0)","v":168},null,{"$f":"MATCH(Template9090!F95,ByWIB!$1:$1,0)","v":169}]
[null,"Youth (14-21)",0.24299999999999999,null,0.23100000000000001,null,null,null,null,null,null,null,null,null,null,null,{"$f":"MATCH(Template9090!D96,ByWIB!$1:$1,0)","v":170},null,{"$f":"MATCH(Template9090!F96,ByWIB!$1:$1,0)","v":171}]
[null,null,null,null,null,null,null,null,null,null,null,null,"  Youth (14-21)",null,null,null,{"$f":"MATCH(Template9090!D97,ByWIB!$1:$1,0)","v":172},null,{"$f":"MATCH(Template9090!F97,ByWIB!$1:$1,0)","v":173}]
[null,"Nat'l Emergency Grant",0.42199999999999999,null,0.47099999999999997,null,null,null,null,null,null,null,null,null,null,null,{"$f":"MATCH(Template9090!D98,ByWIB!$1:$1,0)","v":174},null,{"$f":"MATCH(Template9090!F98,ByWIB!$1:$1,0)","v":175}]
[null,null,null,null,null,null,null,null,null,null,null,null,"  Nat'l Emergency Grant ",null,null,null,{"$f":"MATCH(Template9090!D99,ByWIB!$1:$1,0)","v":176},null,{"$f":"MATCH(Template9090!F99,ByWIB!$1:$1,0)","v":177}]
["Veteran Priority of Service","Measure","Persent Served","Total","Persent Served","Total",null,null,null,null,null,null,null,null,null,null,{"$f":"MATCH(Template9090!D100,ByWIB!$1:$1,0)","v":178},null,{"$f":"MATCH(Template9090!F100,ByWIB!$1:$1,0)","v":179}]
["(04/1/11 to 03/31/12)","Covered Entrants Who Reached the End of the Entry Period",null,null,null,null,null,null,null,"  Veteran Priority of Service\n   ",null,null,"Measure",null,null,"Percent Served","Total","Percent Served","Total"]
[null,"Covered Entrants Who Received a Service During the Entry Period",99,null,99]
[null,"Covered Entrants Who Received a Staff-Assisted Service During the Entry Period",7,null,7,null,null,null,null,null,null,null,"Covered Entrants Who Reached the End \nof the Entry Period",null,null,null,{"$f":"MATCH(Template9090!D102,ByWIB!$1:$1,0)","v":180},null,{"$f":"MATCH(Template9090!F102,ByWIB!$1:$1,0)","v":181}]
[]
[null,null,null,null,null,null,null,null,null,null,null,null,"Covered Entrants Who Received a Service \nDuring the Entry Period",null,null,null,{"$f":"MATCH(Template9090!D103,ByWIB!$1:$1,0)","v":182},null,{"$f":"MATCH(Template9090!F103,ByWIB!$1:$1,0)","v":183}]
[]
[null,null,null,null,null,null,null,null,null,null,null,null,"Covered Entrants Who Received a Staff-Assisted Service During the Entry Period",null,null,null,{"$f":"MATCH(Template9090!D104,ByWIB!$1:$1,0)","v":184},null,{"$f":"MATCH(Template9090!F104,ByWIB!$1:$1,0)","v":185}]
[]
[null,null,null,null,null,null,null,null,null,"(OMB/PRA statement)"]

{"sheet":"ByWIB","index":4,"n_rows":28,"n_cols":186,"rows_kept":28,"cut":false,"hidden":true,"merged":[]}
["WIB_NAME","STATE_NAME","RPT_QTR_ID","CUR_PTCPNT_ALADLT","ROL_PTCPNT_ALADLT","CUR_PTCPNT_JSTSLF","ROL_PTCPNT_JSTSLF","CUR_PTCPNT_WIADLT","ROL_PTCPNT_WIADLT","CUR_PTCPNT_DISLOC","ROL_PTCPNT_DISLOC","CUR_PTCPNT_NATLEG","ROL_PTCPNT_NATLEG","CUR_PTCPNT_VETRAN","ROL_PTCPNT_VETRAN","CUR_PTCPNT_VET911","ROL_PTCPNT_VET911","CUR_PTCPNT_VETSVC","ROL_PTCPNT_VETSVC","CUR_PTCPNT_VETTAP","ROL_PTCPNT_VETTAP","CUR_PTCPNT_TRNSVC","ROL_PTCPNT_TRNSVC","CUR_PTCPNT_TRNADT","ROL_PTCPNT_TRNADT","CUR_PTCPNT_TRNDIS","ROL_PTCPNT_TRNDIS","CUR_PTCPNT_TRNNEG","ROL_PTCPNT_TRNNEG","CUR_PTCPNT_TYOUTH","ROL_PTCPNT_TYOUTH","CUR_PTCPNT_YNGYUT","ROL_PTCPNT_YNGYUT","CUR_PTCPNT_OLDYUT","ROL_PTCPNT_OLDYUT","CUR_PTCPNT_OTSCHL","ROL_PTCPNT_OTSCHL","CUR_PTCPNT_INSCHL","ROL_PTCPNT_INSCHL","CUR_EXITER_ALADLT","ROL_EXITER_ALADLT","CUR_EXITER_JSTSLF","ROL_EXITER_JSTSLF","CUR_EXITER_WIADLT","ROL_EXITER_WIADLT","CUR_EXITER_DISLOC","ROL_EXITER_DISLOC","CUR_EXITER_NATLEG","ROL_EXITER_NATLEG","CUR_EXITER_TYOUTH","ROL_EXITER_TYOUTH","CUR_EXITER_YNGYUT","ROL_EXITER_YNGYUT","CUR_EXITER_OLDYUT","ROL_EXITER_OLDYUT","CUR_EXITER_OTSCHL","ROL_EXITER_OTSCHL","CUR_EXITER_INSCHL","ROL_EXITER_INSCHL","CUR_EXITER_TRNSVC","ROL_EXITER_TRNSVC","CUR_EXITER_TRNADT","ROL_EXITER_TRNADT","CUR_EXITER_TRNDIS","ROL_EXITER_TRNDIS","CUR_EXITER_TRNNEG","ROL_EXITER_TRNNEG","CUR_TYOUTH_PLC_NUM","ROL_TYOUTH_PLC_NUM","CUR_TYOUTH_PLC_DEN","ROL_TYOUTH_PLC_DEN","CUR_TYOUTH_ADC_NUM","ROL_TYOUTH_ADC_NUM","CUR_TYOUTH_ADC_DEN","ROL_TYOUTH_ADC_DEN","CUR_TYOUTH_LIT_NUM","ROL_TYOUTH_LIT_NUM","CUR_TYOUTH_LIT_DEN","ROL_TYOUTH_LIT_DEN","CUR_YNGYUT_DER_NUM","ROL_YNGYUT_DER_NUM","CUR_YNGYUT_DER_DEN","ROL_YNGYUT_DER_DEN","CUR_YNGYUT_SAR_NUM","ROL_YNGYUT_SAR_NUM","CUR_YNGYUT_SAR_DEN","ROL_YNGYUT_SAR_DEN","CUR_WIADLT_EER_NUM","ROL_WIADLT_EER_NUM","CUR_WIADLT_EER_DEN","ROL_WIADLT_EER_DEN","CUR_DISLOC_EER_NUM","ROL_DISLOC_EER_NUM","CUR_DISLOC_EER_DEN","ROL_DISLOC_EER_DEN","CUR_VETRAN_EER_NUM","ROL_VETRAN_EER_NUM","CUR_VETRAN_EER_DEN","ROL_VETRAN_EER_DEN","CUR_OLDYUT_EER_NUM","ROL_OLDYUT_EER_NUM","CUR_OLDYUT_EER_DEN","ROL_OLDYUT_EER_DEN","CUR_NATLEG_EER_NUM","ROL_NATLEG_EER_NUM","CUR_NATLEG_EER_DEN","ROL_NATLEG_EER_DEN","CUR_WIADLT_ECR_NUM","ROL_WIADLT_ECR_NUM","CUR_WIADLT_ECR_DEN","ROL_WIADLT_ECR_DEN","CUR_DISLOC_ECR_NUM","ROL_DISLOC_ECR_NUM","CUR_DISLOC_ECR_DEN","ROL_DISLOC_ECR_DEN","CUR_OLDYUT_ECR_NUM","ROL_OLDYUT_ECR_NUM","CUR_OLDYUT_ECR_DEN","ROL_OLDYUT_ECR_DEN","CUR_WIADLT_RET_NUM","ROL_WIADLT_RET_NUM","CUR_WIADLT_RET_DEN","ROL_WIADLT_RET_DEN","CUR_DISLOC_RET_NUM","ROL_DISLOC_RET_NUM","CUR_DISLOC_RET_DEN","ROL_DISLOC_RET_DEN","CUR_VETRAN_RET_NUM","ROL_VETRAN_RET_NUM","CUR_VETRAN_RET_DEN","ROL_VETRAN_RET_DEN","CUR_OLDYUT_RET_NUM","ROL_OLDYUT_RET_NUM","CUR_OLDYUT_RET_DEN","ROL_OLDYUT_RET_DEN","CUR_YNGYUT_RET_NUM","ROL_YNGYUT_RET_NUM","CUR_YNGYUT_RET_DEN","ROL_YNGYUT_RET_DEN","CUR_NATLEG_RET_NUM","ROL_NATLEG_RET_NUM","CUR_NATLEG_RET_DEN","ROL_NATLEG_RET_DEN","CUR_WIADLT_AVG_NUM","ROL_WIADLT_AVG_NUM","CUR_WIADLT_AVG_DEN","ROL_WIADLT_AVG_DEN","CUR_DISLOC_AVG_NUM","ROL_DISLOC_AVG_NUM","CUR_DISLOC_AVG_DEN","ROL_DISLOC_AVG_DEN","CUR_VETRAN_AVG_NUM","ROL_VETRAN_AVG_NUM","CUR_VETRAN_AVG_DEN","ROL_VETRAN_AVG_DEN","CUR_OLDYUT_AVG_NUM","ROL_OLDYUT_AVG_NUM","CUR_OLDYUT_AVG_DEN","ROL_OLDYUT_AVG_DEN","CUR_NATLEG_AVG_NUM","ROL_NATLEG_AVG_NUM","CUR_NATLEG_AVG_DEN","ROL_NATLEG_AVG_DEN","CUR_WIADLT_CAR_NUM","ROL_WIADLT_CAR_NUM","CUR_WIADLT_CAR_DEN","ROL_WIADLT_CAR_DEN","CUR_DISLOC_CAR_NUM","ROL_DISLOC_CAR_NUM","CUR_DISLOC_CAR_DEN","ROL_DISLOC_CAR_DEN","CUR_TYOUTH_CAR_NUM","ROL_TYOUTH_CAR_NUM","CUR_TYOUTH_CAR_DEN","ROL_TYOUTH_CAR_DEN","CUR_NATLEG_CAR_NUM","ROL_NATLEG_CAR_NUM","CUR_NATLEG_CAR_DEN","ROL_NATLEG_CAR_DEN","CUR_REACHD","ROL_REACHD","CUR_SERVCD","ROL_SERVCD","CUR_STAFSV","ROL_STAFSV","FILEIMPORTLOGID"]
["01 - CareerSource Escarosa","FL",20141231,616,839,null,null,511,685,108,160,1,2,68,93,34,38,32,36,null,null,331,527,269,425,63,105,null,1,260,343,216,281,44,62,102,125,158,218,92,282,null,null,74,228,18,58,null,1,41,116,37,90,4,26,5,42,36,74,90,268,72,215,18,57,null,1,14,122,17,147,17,122,19,151,6,23,10,51,20,44,31,63,50,268,75,341,28,80,28,95,16,49,18,54,4,14,4,17,6,22,7,27,null,null,null,null,47,131,50,154,14,45,18,54,5,19,7,33,30,111,36,122,15,65,16,71,8,18,10,23,9,18,9,20,54,102,60,127,null,2,null,3,391884,1253045,26,90,193006,734986,14,51,62559,143563,5,11,48911,85777,8,18,null,18045,null,1,47,138,50,154,16,49,18,54,2,14,2,14,null,null,null,null,9,28,9,28,9,28,11384]
["02 - CareerSource Okaloosa Walton ","FL",20141231,183,265,null,null,145,207,44,65,2,2,17,22,4,4,2,4,1,1,114,214,93,178,25,43,1,2,76,110,64,90,12,20,23,33,53,77,40,98,null,null,32,76,8,24,null,null,17,44,13,36,4,8,4,14,13,30,38,94,31,74,7,22,null,null,8,43,8,52,8,41,9,51,0,2,1,15,8,26,12,33,7,51,16,67,7,38,7,40,7,33,7,33,2,16,2,16,1,2,1,5,null,2,null,2,7,99,8,108,7,27,7,33,1,2,2,7,20,115,22,119,13,37,15,41,7,23,8,24,null,7,null,7,12,43,14,48,1,5,1,6,258279,1752658,15,95,121864,386013,10,28,90242,309491,6,18,null,38982,null,4,11425,57481,1,3,7,100,8,108,7,27,7,33,6,18,7,20,null,1,null,2,1,4,1,4,1,4,11384]
["03 - CareerSource Chipola","FL",20141231,87,126,null,null,72,98,15,28,null,null,6,9,4,6,3,3,null,null,50,87,41,68,9,19,null,null,71,99,31,46,40,53,69,94,2,5,13,47,null,null,7,30,6,17,null,null,8,34,5,18,3,16,7,31,1,3,12,44,7,29,5,15,null,null,4,20,5,26,6,26,6,31,4,13,6,23,4,11,4,16,1,18,3,21,7,24,8,27,2,11,2,11,2,3,2,3,3,12,3,12,null,null,null,null,9,33,11,39,2,8,2,10,4,13,5,18,10,40,12,46,3,10,3,10,null,1,null,1,6,13,6,14,3,9,4,17,null,null,null,null,146941,481677,9,37,15624,62209,1,6,null,14525,null,1,32458,88985,4,12,null,null,null,null,9,34,11,39,2,8,2,10,4,13,4,16,null,null,null,null,1,4,1,4,1,4,11384]
["04 - CareerSource Gulf Coast","FL",20141231,347,598,null,null,292,501,65,116,31,73,34,61,23,40,12,17,7,11,210,347,173,272,42,90,17,60,204,235,194,221,10,14,7,9,197,226,79,336,null,null,72,276,8,70,4,55,7,53,6,49,1,4,null,2,7,51,34,181,29,130,6,61,4,54,17,53,19,62,19,52,21,65,0,1,0,1,4,43,4,43,36,165,36,165,61,272,63,289,24,92,26,100,11,45,11,46,null,1,null,1,24,80,26,88,36,123,38,140,23,78,25,88,null,1,2,3,92,264,99,286,22,75,25,84,12,34,14,38,1,1,1,1,9,34,9,47,19,53,21,60,1579480,4155549,86,228,348068,1129345,20,65,256119,612969,12,29,9673,9673,1,1,315993,859264,18,50,37,129,38,140,25,83,25,88,1,3,3,5,26,79,26,86,18,39,18,39,18,39,11384]
["05 - CareerSource Capital Region","FL",20141231,702,1088,null,null,440,666,270,439,null,null,27,50,8,14,5,10,null,null,232,452,208,385,26,72,null,null,563,730,293,367,270,363,336,450,227,280,164,465,null,null,93,273,71,204,null,null,70,206,31,89,39,117,48,136,22,70,81,227,69,190,12,43,null,null,10,34,17,54,14,53,16,61,16,49,39,145,18,37,23,62,23,112,54,273,29,91,30,96,20,81,23,93,1,7,1,7,3,18,7,30,null,null,null,null,35,104,37,110,6,25,7,29,3,18,10,44,26,122,27,127,15,75,15,80,2,12,2,13,6,16,6,17,4,7,5,13,null,1,null,1,438629,2051017,24,111,188824,1114852,13,68,25085,202169,2,12,35239,105524,5,14,null,16966,null,1,36,105,37,110,7,26,7,29,4,19,4,20,null,null,null,null,1,20,1,20,1,20,11384]
["06 - CareerSource North Florida","FL",20141231,140,216,null,null,118,188,24,30,null,null,14,18,7,9,1,7,null,null,95,185,84,166,11,21,null,null,92,126,57,82,35,44,52,65,40,61,33,97,null,null,33,89,null,9,null,null,15,37,14,27,1,10,4,14,11,23,31,90,31,84,null,7,null,null,6,14,9,23,6,12,8,23,0,7,4,27,10,15,13,23,2,12,4,39,6,12,6,15,3,7,3,8,null,null,null,null,null,2,2,8,null,null,null,null,9,103,12,110,1,3,2,6,null,1,2,8,14,105,14,108,null,1,null,2,null,2,null,2,1,1,1,1,5,10,6,11,null,null,null,null,203302,1922762,14,104,null,null,null,null,null,45090,null,2,10198,10198,1,1,null,null,null,null,9,103,12,110,1,3,2,6,2,6,2,7,null,null,null,null,null,8,null,8,null,8,11384]
["07 - CareerSource Florida Crown","FL",20141231,90,136,null,null,79,120,11,17,null,null,8,14,5,8,5,8,null,null,66,110,61,99,5,11,null,null,143,176,119,148,24,28,77,94,66,82,16,124,null,null,12,102,4,23,null,null,20,90,19,60,1,30,7,61,13,29,14,115,11,95,3,21,null,null,4,47,7,95,7,48,8,100,2,11,2,16,18,31,18,56,31,166,31,167,4,19,4,30,1,11,1,20,null,2,null,3,2,11,2,29,null,null,null,null,16,54,17,84,1,8,1,18,2,5,2,33,8,33,8,35,1,15,1,15,null,1,null,1,null,6,null,6,11,30,18,49,null,null,null,null,142590,554346,8,29,31118,225992,1,12,null,null,null,null,null,27629,null,5,null,null,null,null,16,60,17,84,1,12,1,18,null,2,null,4,null,null,null,null,5,8,5,8,5,8,11384]
["08 - CareerSource Northeast Florida","FL",20141231,1952,3462,null,null,1714,2948,254,547,5,16,129,279,53,96,50,92,2,7,1408,2624,1266,2333,147,302,1,7,600,1099,477,881,123,218,183,334,417,765,273,1802,null,null,210,1475,64,350,null,11,97,540,78,429,19,111,29,174,68,366,273,1796,210,1471,64,348,null,11,20,162,32,329,31,276,46,378,27,94,49,164,22,218,26,271,82,673,115,748,66,239,83,293,87,263,106,320,21,60,24,77,4,35,6,61,1,3,1,6,250,1079,312,1239,74,235,112,333,11,41,15,90,237,994,254,1057,53,256,63,278,24,101,26,105,8,51,8,59,36,120,50,196,null,7,null,7,4521636,20078791,234,967,894799,3914745,52,233,368165,1728424,23,94,41845,235953,8,55,null,55552,null,5,266,1149,312,1239,89,276,112,333,15,114,18,128,2,6,2,7,27,110,27,110,27,110,11384]
["09 - CareerSource North Central","FL",20141231,538,717,null,null,428,581,120,150,14,14,65,78,10,13,6,10,null,null,140,293,113,247,29,48,14,14,289,384,215,285,74,99,116,156,173,228,74,222,null,null,67,189,8,37,null,null,38,120,30,90,8,30,14,50,24,70,65,183,59,152,6,34,null,null,11,62,16,92,10,58,16,86,8,27,14,63,20,45,23,60,21,84,53,214,24,72,24,85,11,31,12,39,3,6,3,7,2,16,4,20,null,null,null,null,20,78,31,111,8,24,11,32,1,6,4,21,37,73,40,82,6,18,6,19,4,10,4,10,7,14,9,22,10,34,14,64,null,null,null,null,611158,1165137,33,63,110127,336085,6,17,37427,164074,3,9,34340,80319,9,22,null,null,null,null,20,87,31,111,9,29,11,32,6,34,7,35,null,null,null,null,null,14,null,14,null,14,11384]
["10 - CareerSource Citrus Levy Marion","FL",20141231,298,497,null,null,243,387,57,116,4,9,24,37,7,9,2,7,null,null,224,355,193,306,31,50,2,2,296,457,119,181,177,276,241,363,55,94,53,329,null,null,45,253,8,81,null,7,53,214,22,77,31,137,41,170,12,44,47,281,40,221,7,63,null,6,27,152,39,215,38,185,43,213,17,107,34,179,6,28,9,42,28,158,39,203,16,163,23,198,24,96,28,132,3,18,5,34,17,90,25,117,1,6,2,10,25,531,37,628,14,66,21,106,17,84,28,129,341,655,360,755,26,203,27,252,9,40,9,44,20,70,23,78,18,50,23,77,2,18,2,28,5659691,10037882,338,645,381720,2380926,26,196,140520,589049,9,40,104598,315130,20,66,14154,182787,2,18,30,563,37,628,18,87,21,106,35,179,37,188,2,7,2,7,4,8,4,8,4,8,11384]
["11 - CareerSource Flagler Volusia","FL",20141231,739,1352,null,null,661,1226,141,219,4,7,55,88,20,32,8,25,3,4,332,918,313,863,34,96,null,4,171,270,119,181,52,89,148,240,23,30,210,769,null,null,194,713,25,95,2,4,20,138,9,91,11,47,19,130,1,8,195,672,182,625,21,81,2,3,19,114,23,183,23,162,23,184,23,90,25,105,7,62,9,90,39,204,40,208,75,265,83,328,24,108,25,124,5,25,6,34,4,37,5,68,null,2,null,3,121,365,163,458,13,69,19,90,4,36,5,72,79,657,88,713,20,170,21,186,4,53,5,60,11,41,11,50,12,53,18,88,null,5,null,6,1093417,10461141,71,599,334145,2455534,18,158,95427,849208,4,43,20322,111489,6,35,null,92760,null,5,123,387,163,458,13,80,19,90,null,1,null,1,null,1,null,2,11,41,11,41,11,41,11384]
["12 - CareerSource Central Florida","FL",20141231,4870,5756,null,null,3870,4447,1010,1324,null,1,387,478,76,96,73,94,7,8,1970,2790,1672,2306,300,487,null,null,1267,1338,791,825,476,513,578,616,689,722,331,1196,null,null,207,769,124,433,null,1,15,90,5,46,10,44,9,46,6,44,162,523,103,341,59,186,null,1,8,65,10,116,12,116,12,130,16,26,36,72,2,24,4,29,95,324,101,330,81,437,92,590,71,354,80,439,12,68,14,87,3,37,5,53,1,1,1,1,40,161,61,282,20,99,32,193,3,30,5,53,107,597,123,701,76,384,92,452,11,62,12,81,11,103,17,119,7,50,7,71,null,null,null,null,1148919,6737843,107,590,900938,4781784,75,382,85869,781266,11,61,57983,466455,17,118,null,null,null,null,43,182,61,282,22,121,32,193,12,116,12,118,1,1,1,1,33,235,33,235,33,235,11384]
["13 - CareerSource Brevard","FL",20141231,420,814,null,null,252,439,183,406,13,28,51,89,13,22,10,22,1,1,182,341,131,238,59,116,4,10,269,468,112,175,157,293,209,388,60,80,64,511,null,null,27,244,39,286,1,21,33,219,13,69,20,150,31,198,2,21,41,316,23,184,19,139,null,13,20,82,30,142,30,116,34,147,36,91,44,109,1,17,4,41,18,100,21,107,51,149,54,166,95,275,103,299,9,40,9,44,13,48,19,76,5,13,5,15,34,95,58,176,25,86,46,161,16,45,25,93,40,172,46,189,66,201,68,216,13,41,13,43,6,36,12,45,4,27,10,58,5,19,5,21,508234,2422109,32,151,845152,2762023,55,166,164182,591963,11,33,16933,213746,11,43,69269,298789,4,11,36,103,59,177,28,95,46,161,12,31,12,35,3,6,4,11,8,17,8,17,8,17,11384]
["14 - CareerSource Pinellas","FL",20141231,1794,3502,null,null,870,2240,933,1275,91,118,188,236,59,79,56,74,8,8,736,2282,363,1658,374,628,72,108,583,827,308,396,275,431,313,483,270,344,346,2198,null,null,221,1713,126,490,12,39,63,308,22,107,41,201,42,216,21,92,320,2115,211,1683,110,437,12,39,45,171,48,202,72,279,79,303,7,35,8,48,14,63,16,67,107,317,116,442,46,203,47,215,112,652,120,699,8,68,9,72,28,111,30,126,6,22,6,22,285,2247,291,2289,57,293,108,605,42,162,49,192,156,2210,161,2262,169,915,185,990,22,133,23,148,18,172,18,188,17,130,19,161,4,7,4,7,3247249,46187328,145,2110,2354326,11628366,150,747,364571,1959418,20,107,78663,785176,16,158,61116,64755,4,5,290,2287,291,2289,61,313,108,605,60,233,62,240,null,3,6,22,47,120,47,120,47,120,11384]
["15 - CareerSource Tampa Bay","FL",20141231,2809,4652,null,null,1437,2688,1400,1996,28,43,224,310,71,91,50,77,2,2,1297,3254,645,1910,670,1366,22,31,900,1124,469,517,431,607,562,734,338,390,317,2321,null,null,97,1563,221,763,2,39,91,283,21,64,70,219,73,213,18,70,280,2156,87,1453,194,708,2,39,30,67,34,89,27,69,54,137,11,55,104,359,12,32,13,41,222,401,234,486,62,184,71,213,160,514,172,574,21,72,25,89,27,71,31,91,11,37,11,39,238,1109,264,1214,70,228,165,521,14,36,44,118,131,914,147,980,109,384,123,438,15,85,18,95,18,61,20,72,2,20,4,40,1,3,1,5,2604680,18182789,130,912,1967819,6693406,109,383,366106,1703838,15,85,102499,314860,20,72,10109,40212,1,3,248,1166,264,1214,79,266,165,521,19,50,31,82,1,3,12,40,16,112,16,112,16,112,11384]
["16 - CareerSource Pasco Hernando","FL",20141231,921,1359,null,null,509,773,431,611,15,22,100,141,18,24,8,23,1,1,354,748,205,470,154,290,1,12,205,321,76,114,129,207,184,284,21,37,110,519,null,null,60,304,53,221,2,9,39,156,13,58,26,98,31,135,8,21,91,464,48,276,45,192,2,9,25,116,32,138,27,137,33,145,24,81,35,123,5,18,7,35,24,94,24,104,27,132,28,141,54,227,55,237,6,32,7,36,16,74,20,87,4,15,4,15,76,308,78,356,43,171,50,207,12,76,21,95,48,407,53,430,46,282,50,302,7,47,7,51,10,72,14,84,6,46,8,60,1,18,2,19,704904,6839933,43,366,526037,3777690,36,242,116261,648839,6,37,62747,347116,13,76,16594,268160,1,18,76,316,78,356,44,179,50,207,27,139,33,145,1,2,4,15,11,42,11,42,11,42,11384]
["17 - CareerSource Polk","FL",20141231,1182,2233,null,null,922,1573,277,688,null,null,73,166,24,36,23,36,1,1,564,967,457,766,114,211,null,null,585,776,460,598,125,178,181,240,404,536,126,1322,null,null,79,844,47,492,null,null,76,246,62,167,14,79,13,92,63,154,99,1043,63,689,36,365,null,null,16,139,28,229,15,163,26,220,5,63,31,154,48,115,52,126,65,607,83,749,55,219,63,283,68,232,77,281,14,42,14,53,10,71,17,104,null,null,null,null,73,358,122,593,30,110,58,216,4,38,18,108,104,375,124,420,43,150,48,168,21,47,21,50,13,50,13,65,15,62,22,114,null,null,null,null,2214633,7478019,101,365,550487,1973561,41,147,419397,875272,20,46,48052,217118,12,63,null,null,null,null,90,422,122,593,36,131,58,216,9,90,16,126,null,null,null,null,8,47,8,47,8,47,11384]
["18 - CareerSource Suncoast","FL",20141231,512,862,null,null,422,687,96,189,4,7,18,49,6,14,4,10,null,null,380,700,322,580,61,129,3,7,99,197,45,102,54,95,76,131,23,66,75,405,null,null,59,305,17,112,2,3,64,114,43,65,21,49,26,66,38,48,72,381,57,293,16,98,2,3,11,74,13,90,12,91,20,120,1,11,4,31,32,34,34,37,14,74,20,101,38,106,42,118,30,116,34,134,7,20,9,28,7,18,9,26,null,null,null,null,38,167,75,240,15,69,30,126,7,24,13,41,72,209,77,226,38,146,38,157,3,27,3,31,7,25,7,28,35,58,38,70,null,null,null,null,1229489,3376991,67,196,525940,2123912,32,132,34408,384947,3,25,41880,123256,7,28,null,null,null,null,39,173,75,240,15,75,30,126,12,39,15,49,null,null,null,null,3,19,3,19,3,19,11384]
["19 - CareerSource Heartland","FL",20141231,152,222,null,null,145,208,7,14,null,null,6,10,null,2,null,2,null,null,136,196,130,186,6,10,null,null,147,254,102,156,45,98,88,161,59,93,27,89,null,null,25,81,2,8,null,null,43,128,30,66,13,62,18,90,25,38,26,76,25,70,1,6,null,null,21,83,22,89,23,92,23,96,9,42,11,54,26,49,30,60,65,144,65,148,6,32,6,34,4,14,4,17,1,3,1,3,11,23,12,26,null,null,null,null,22,64,23,65,3,10,3,14,11,27,12,31,16,87,17,94,7,21,7,22,null,2,1,4,4,11,4,11,36,50,38,54,null,null,null,null,264422,1444162,15,83,130328,272541,7,20,null,25934,null,2,40543,90524,3,10,null,null,null,null,22,64,23,65,3,13,3,14,18,49,18,50,null,null,null,null,1,6,1,6,1,6,11384]
["20 - CareerSource Research Coast","FL",20141231,561,1026,null,null,415,694,154,352,1,1,49,97,12,31,11,30,1,1,328,686,276,518,53,180,null,1,248,386,122,183,126,203,181,286,67,100,126,559,null,null,72,329,56,244,null,null,67,189,30,89,37,100,52,138,15,51,103,469,61,281,44,200,null,null,15,94,23,124,25,133,25,137,33,98,40,120,13,32,19,45,65,256,71,279,46,110,58,136,38,138,60,185,8,20,14,31,11,42,15,57,null,null,null,null,20,97,66,190,17,63,51,148,11,47,15,63,43,164,49,182,26,122,28,130,3,23,4,26,15,27,17,30,12,47,14,53,null,1,null,1,652240,2487785,38,153,335372,1486196,23,109,69954,392081,3,23,85792,131967,17,29,null,16127,null,1,24,110,66,190,24,77,51,148,24,115,24,117,null,null,null,null,4,26,4,26,4,26,11384]
["21 - CareerSource Palm Beach County","FL",20141231,720,1300,1,1,540,998,183,311,5,6,43,64,11,16,11,16,3,4,364,726,269,541,97,190,null,6,284,456,143,251,141,205,166,246,118,210,85,780,null,null,53,627,34,160,1,1,48,233,30,143,18,90,17,110,31,123,75,611,45,463,32,154,1,1,30,259,37,390,13,191,29,317,5,10,28,86,21,66,26,105,43,158,49,202,45,154,48,336,30,188,33,213,6,18,8,25,15,110,19,174,null,1,null,1,65,338,86,405,19,146,33,206,6,57,19,180,43,458,51,542,54,191,64,217,6,24,7,25,12,127,15,148,46,128,49,154,null,1,null,1,668417,8886164,35,409,995901,3275979,46,157,122454,457123,6,23,39977,662299,12,128,null,12088,null,1,68,359,86,405,20,163,33,206,7,139,8,161,null,null,null,1,11,19,11,19,11,19,11384]
["22 - CareerSource Broward","FL",20141231,2129,3027,null,null,1197,1611,967,1463,21,30,135,199,29,41,25,38,1,1,711,1393,408,749,304,656,15,30,849,1064,699,794,150,270,205,387,644,677,265,1326,null,null,126,621,144,722,4,9,63,377,40,164,23,213,32,318,31,59,232,1167,108,546,127,635,4,9,54,571,60,749,1,156,9,368,90,301,105,384,30,43,33,105,36,356,116,557,85,410,91,461,177,766,186,818,24,92,25,100,34,305,38,394,1,1,1,1,97,439,140,633,122,539,167,706,null,10,40,412,187,608,200,663,188,706,217,783,32,83,38,96,93,220,117,279,142,246,182,309,null,null,null,null,2193915,7077182,165,529,3033824,10929524,166,609,456634,1336872,29,73,341345,801016,92,198,null,null,null,null,102,466,140,633,127,573,167,706,1,7,1,11,1,1,1,1,7,42,7,42,7,42,11384]
["23 - CareerSource South Florida","FL",20141231,3520,5569,null,null,2354,3704,1215,1966,15,29,126,181,22,30,17,24,2,2,897,1802,554,1133,353,699,null,4,2613,3168,1785,2180,828,988,1333,1571,1279,1596,492,2684,null,null,323,1777,180,970,3,20,122,736,97,535,25,201,37,301,85,435,312,1904,187,1179,134,778,3,13,97,444,148,590,99,473,160,611,63,371,110,636,44,329,84,468,286,2644,352,2940,327,1144,397,1496,234,791,281,996,9,50,14,69,40,106,59,142,4,19,4,21,146,531,309,1044,130,482,230,811,25,79,72,178,216,1165,256,1433,166,709,181,799,13,67,16,81,16,67,18,76,96,291,120,371,2,32,3,37,2523447,12677077,193,1028,2652430,10397804,152,642,215156,1023864,11,61,107436,425633,17,72,18082,361098,2,29,179,693,312,1047,152,586,230,811,18,48,22,68,null,8,3,15,16,43,16,43,16,43,11384]
["24 - CareerSource Southwest Florida","FL",20141231,1296,2187,null,null,1053,1699,255,529,null,null,89,165,38,60,5,34,1,2,940,1501,773,1180,175,345,null,null,794,958,636,736,158,222,283,384,511,573,252,1039,null,null,188,742,72,326,null,null,72,211,56,129,16,82,29,128,43,82,227,906,168,653,67,279,null,null,26,126,38,179,37,177,38,183,21,104,35,156,38,61,44,83,195,513,262,669,61,262,76,392,43,199,51,295,10,42,10,60,14,48,21,69,null,null,null,null,70,305,102,491,24,119,40,249,14,46,21,69,96,458,102,511,48,221,49,252,11,52,12,55,8,26,11,37,51,95,58,123,null,null,null,null,1317150,6325442,85,425,598475,2901975,40,198,128260,747159,9,46,30632,118676,8,32,null,null,null,null,82,399,102,491,30,174,40,249,31,114,31,116,null,null,null,null,11,68,11,68,11,68,11384]
["National Emergency Grant - Florida","FL",20141231,469,1272,null,null,null,null,null,null,469,1272,99,299,5,20,4,19,null,null,118,337,null,null,null,null,118,337,null,null,null,null,null,null,null,null,null,null,235,1111,null,null,null,null,null,null,235,1111,null,null,null,null,null,null,null,null,null,null,74,349,null,null,null,null,74,349,null,null,null,null,null,null,null,null,null,null,null,null,null,null,null,null,null,null,null,null,null,null,null,null,null,null,null,null,36,149,43,215,null,null,null,null,183,846,234,1364,null,null,null,null,null,null,null,null,null,null,null,null,null,null,null,null,null,null,null,null,37,134,41,146,null,null,null,null,null,null,null,null,185,715,211,789,null,null,null,null,null,null,null,null,776779,2800043,29,106,null,null,null,null,3829919,14847404,161,619,null,null,null,null,null,null,null,null,null,null,null,null,35,179,77,440,5,40,5,40,5,40,11384]
["Rapid Response - Florida","FL",20141231,19,27,null,null,null,null,19,27,null,null,null,null,null,null,null,null,null,null,4,7,null,null,4,7,null,null,null,null,null,null,null,null,null,null,null,null,6,16,null,null,null,null,6,16,null,null,null,null,null,null,null,null,null,null,null,null,4,4,null,null,4,4,null,null,null,null,null,null,null,null,null,null,null,null,null,null,null,null,null,null,null,null,null,null,null,null,null,null,1,29,1,45,null,2,null,3,null,null,null,null,null,null,null,null,null,null,null,null,null,6,null,9,null,null,null,null,null,null,null,null,10,99,11,110,1,5,1,5,null,null,null,null,null,null,null,null,null,null,null,null,null,null,null,null,110549,1116290,9,95,22074,48702,1,5,null,null,null,null,null,null,null,null,null,null,null,null,null,8,null,9,null,null,null,null,null,null,null,null,null,null,null,null,null,null,11384]
["Statewide Program - Florida","FL",20141231,119,206,null,null,46,67,74,140,48,104,32,51,null,null,null,null,null,null,14,31,null,null,14,31,11,28,5,5,null,null,5,5,5,5,null,null,25,130,null,null,4,38,21,92,18,76,null,null,null,null,null,null,null,null,null,null,12,55,2,11,10,44,7,33,null,1,null,2,null,2,null,2,null,null,null,null,null,null,null,null,null,null,null,null,6,123,6,154,12,83,15,142,3,26,3,41,null,null,null,null,10,55,11,97,1,12,5,33,3,25,8,73,null,null,null,null,390,451,420,486,25,100,30,112,14,36,16,38,null,null,null,1,null,2,null,3,14,60,17,65,10836879,11628763,377,436,407938,1749151,25,92,419337,783173,14,36,null,0,null,1,271724,1219012,14,52,2,14,5,33,5,38,8,73,null,2,null,2,4,24,6,43,2,4,2,4,2,4,11384]

{"sheet":"ByState","index":5,"n_rows":2,"n_cols":186,"rows_kept":2,"cut":false,"hidden":true,"merged":[]}
["WIB_NAME","STATE_NAME","RPT_QTR_ID","CUR_PTCPNT_ALADLT","ROL_PTCPNT_ALADLT","CUR_PTCPNT_JSTSLF","ROL_PTCPNT_JSTSLF","CUR_PTCPNT_WIADLT","ROL_PTCPNT_WIADLT","CUR_PTCPNT_DISLOC","ROL_PTCPNT_DISLOC","CUR_PTCPNT_NATLEG","ROL_PTCPNT_NATLEG","CUR_PTCPNT_VETRAN","ROL_PTCPNT_VETRAN","CUR_PTCPNT_VET911","ROL_PTCPNT_VET911","CUR_PTCPNT_VETSVC","ROL_PTCPNT_VETSVC","CUR_PTCPNT_VETTAP","ROL_PTCPNT_VETTAP","CUR_PTCPNT_TRNSVC","ROL_PTCPNT_TRNSVC","CUR_PTCPNT_TRNADT","ROL_PTCPNT_TRNADT","CUR_PTCPNT_TRNDIS","ROL_PTCPNT_TRNDIS","CUR_PTCPNT_TRNNEG","ROL_PTCPNT_TRNNEG","CUR_PTCPNT_TYOUTH","ROL_PTCPNT_TYOUTH","CUR_PTCPNT_YNGYUT","ROL_PTCPNT_YNGYUT","CUR_PTCPNT_OLDYUT","ROL_PTCPNT_OLDYUT","CUR_PTCPNT_OTSCHL","ROL_PTCPNT_OTSCHL","CUR_PTCPNT_INSCHL","ROL_PTCPNT_INSCHL","CUR_EXITER_ALADLT","ROL_EXITER_ALADLT","CUR_EXITER_JSTSLF","ROL_EXITER_JSTSLF","CUR_EXITER_WIADLT","ROL_EXITER_WIADLT","CUR_EXITER_DISLOC","ROL_EXITER_DISLOC","CUR_EXITER_NATLEG","ROL_EXITER_NATLEG","CUR_EXITER_TYOUTH","ROL_EXITER_TYOUTH","CUR_EXITER_YNGYUT","ROL_EXITER_YNGYUT","CUR_EXITER_OLDYUT","ROL_EXITER_OLDYUT","CUR_EXITER_OTSCHL","ROL_EXITER_OTSCHL","CUR_EXITER_INSCHL","ROL_EXITER_INSCHL","CUR_EXITER_TRNSVC","ROL_EXITER_TRNSVC","CUR_EXITER_TRNADT","ROL_EXITER_TRNADT","CUR_EXITER_TRNDIS","ROL_EXITER_TRNDIS","CUR_EXITER_TRNNEG","ROL_EXITER_TRNNEG","CUR_TYOUTH_PLC_NUM","ROL_TYOUTH_PLC_NUM","CUR_TYOUTH_PLC_DEN","ROL_TYOUTH_PLC_DEN","CUR_TYOUTH_ADC_NUM","ROL_TYOUTH_ADC_NUM","CUR_TYOUTH_ADC_DEN","ROL_TYOUTH_ADC_DEN","CUR_TYOUTH_LIT_NUM","ROL_TYOUTH_LIT_NUM","CUR_TYOUTH_LIT_DEN","ROL_TYOUTH_LIT_DEN","CUR_YNGYUT_DER_NUM","ROL_YNGYUT_DER_NUM","CUR_YNGYUT_DER_DEN","ROL_YNGYUT_DER_DEN","CUR_YNGYUT_SAR_NUM","ROL_YNGYUT_SAR_NUM","CUR_YNGYUT_SAR_DEN","ROL_YNGYUT_SAR_DEN","CUR_WIADLT_EER_NUM","ROL_WIADLT_EER_NUM","CUR_WIADLT_EER_DEN","ROL_WIADLT_EER_DEN","CUR_DISLOC_EER_NUM","ROL_DISLOC_EER_NUM","CUR_DISLOC_EER_DEN","ROL_DISLOC_EER_DEN","CUR_VETRAN_EER_NUM","ROL_VETRAN_EER_NUM","CUR_VETRAN_EER_DEN","ROL_VETRAN_EER_DEN","CUR_OLDYUT_EER_NUM","ROL_OLDYUT_EER_NUM","CUR_OLDYUT_EER_DEN","ROL_OLDYUT_EER_DEN","CUR_NATLEG_EER_NUM","ROL_NATLEG_EER_NUM","CUR_NATLEG_EER_DEN","ROL_NATLEG_EER_DEN","CUR_WIADLT_ECR_NUM","ROL_WIADLT_ECR_NUM","CUR_WIADLT_ECR_DEN","ROL_WIADLT_ECR_DEN","CUR_DISLOC_ECR_NUM","ROL_DISLOC_ECR_NUM","CUR_DISLOC_ECR_DEN","ROL_DISLOC_ECR_DEN","CUR_OLDYUT_ECR_NUM","ROL_OLDYUT_ECR_NUM","CUR_OLDYUT_ECR_DEN","ROL_OLDYUT_ECR_DEN","CUR_WIADLT_RET_NUM","ROL_WIADLT_RET_NUM","CUR_WIADLT_RET_DEN","ROL_WIADLT_RET_DEN","CUR_DISLOC_RET_NUM","ROL_DISLOC_RET_NUM","CUR_DISLOC_RET_DEN","ROL_DISLOC_RET_DEN","CUR_VETRAN_RET_NUM","ROL_VETRAN_RET_NUM","CUR_VETRAN_RET_DEN","ROL_VETRAN_RET_DEN","CUR_OLDYUT_RET_NUM","ROL_OLDYUT_RET_NUM","CUR_OLDYUT_RET_DEN","ROL_OLDYUT_RET_DEN","CUR_YNGYUT_RET_NUM","ROL_YNGYUT_RET_NUM","CUR_YNGYUT_RET_DEN","ROL_YNGYUT_RET_DEN","CUR_NATLEG_RET_NUM","ROL_NATLEG_RET_NUM","CUR_NATLEG_RET_DEN","ROL_NATLEG_RET_DEN","CUR_WIADLT_AVG_NUM","ROL_WIADLT_AVG_NUM","CUR_WIADLT_AVG_DEN","ROL_WIADLT_AVG_DEN","CUR_DISLOC_AVG_NUM","ROL_DISLOC_AVG_NUM","CUR_DISLOC_AVG_DEN","ROL_DISLOC_AVG_DEN","CUR_VETRAN_AVG_NUM","ROL_VETRAN_AVG_NUM","CUR_VETRAN_AVG_DEN","ROL_VETRAN_AVG_DEN","CUR_OLDYUT_AVG_NUM","ROL_OLDYUT_AVG_NUM","CUR_OLDYUT_AVG_DEN","ROL_OLDYUT_AVG_DEN","CUR_NATLEG_AVG_NUM","ROL_NATLEG_AVG_NUM","CUR_NATLEG_AVG_DEN","ROL_NATLEG_AVG_DEN","CUR_WIADLT_CAR_NUM","ROL_WIADLT_CAR_NUM","CUR_WIADLT_CAR_DEN","ROL_WIADLT_CAR_DEN","CUR_DISLOC_CAR_NUM","ROL_DISLOC_CAR_NUM","CUR_DISLOC_CAR_DEN","ROL_DISLOC_CAR_DEN","CUR_TYOUTH_CAR_NUM","ROL_TYOUTH_CAR_NUM","CUR_TYOUTH_CAR_DEN","ROL_TYOUTH_CAR_DEN","CUR_NATLEG_CAR_NUM","ROL_NATLEG_CAR_NUM","CUR_NATLEG_CAR_DEN","ROL_NATLEG_CAR_DEN","CUR_REACHD","ROL_REACHD","CUR_SERVCD","ROL_SERVCD","CUR_STAFSV","ROL_STAFSV","FILEIMPORTLOGID"]
["State","FL",20141231,27185,43310,1,1,18735,29435,8313,13178,771,1784,2067,3284,559,831,423,718,41,54,12197,23873,9019,17577,3160,6202,281,664,11613,15371,7652,9790,3961,5581,5718,7879,5894,7490,3929,20777,null,null,2380,13661,1362,6303,286,1407,1182,4882,726,2758,456,2124,588,2875,594,2006,3010,16490,1929,11408,1047,4977,113,584,538,3115,715,4407,572,3230,757,4259,424,1712,775,3121,423,1443,538,2001,1555,7899,1980,9560,1259,4940,1438,6231,1348,5360,1523,6308,226,940,263,1200,271,1310,357,1803,251,1103,306,1685,1780,8931,2396,11192,741,3034,1246,5044,213,903,436,2091,2543,11444,2786,12569,1245,5556,1383,6186,279,1163,311,1296,300,1235,357,1458,643,1744,790,2378,234,947,267,1056,45161585,195665592,2391,10721,18554811,78610889,1127,4955,4836986,19219056,252,1028,1392066,5807501,307,1261,4618385,18410500,208,822,1901,9609,2400,11196,834,3492,1246,5044,325,1575,369,1758,76,321,144,693,260,1124,260,1124,260,1124,11384]

{"sheet":"ETA9090","index":6,"n_rows":108,"n_cols":18,"rows_kept":108,"cut":false,"hidden":false,"merged":[[101,16,102,16],[103,10,104,12],[105,10,106,12],[107,10,108,12],[103,14,104,14],[105,14,106,14],[107,14,108,14],[103,16,104,16],[105,16,106,16],[107,16,108,16],[99,10,100,12],[99,13,100,13],[99,15,100,15],[101,7,108,9],[101,10,102,12],[101,13,102,13],[101,14,102,14],[101,15,102,15],[93,7,100,9],[93,10,94,12],[93,13,94,13],[93,15,94,15],[95,10,96,12],[95,13,96,13],[95,15,96,15],[97,10,98,12],[97,13,98,13],[97,15,98,15],[105,13,106,13],[107,13,108,13],[105,15,106,15],[107,15,108,15],[89,10,90,12],[89,13,90,13],[89,15,90,15],[91,10,92,12],[91,13,92,13],[91,15,92,15],[83,7,92,9],[83,10,84,12],[83,13,84,13],[83,15,84,15],[85,10,86,12],[85,13,86,13],[85,15,86,15],[87,10,88,12],[87,13,88,13],[87,15,88,15],[71,7,82,9],[71,10,72,12],[71,13,72,13],[71,15,72,15],[73,10,74,12],[73,13,74,13],[73,15,74,15],[79,10,80,12],[79,13,80,13],[79,15,80,15],[81,10,82,12],[81,13,82,13],[81,15,82,15],[75,10,76,12],[75,13,76,13],[75,15,76,15],[77,10,78,12],[77,13,78,13],[77,15,78,15],[65,7,70,9],[65,10,66,12],[65,13,66,13],[65,15,66,15],[67,10,68,12],[67,13,68,13],[67,15,68,15],[69,10,70,12],[69,13,70,13],[69,15,70,15],[57,15,58,15],[59,10,60,12],[59,13,60,13],[59,15,60,15],[61,10,62,12],[61,13,62,13],[61,15,62,15],[53,7,54,9],[53,10,54,12],[53,13,54,13],[53,15,54,15],[55,7,64,9],[55,10,56,12],[55,13,56,13],[55,15,56,15],[57,10,58,12],[57,13,58,13],[63,10,64,12],[63,13,64,13],[63,15,64,15],[49,7,50,9],[49,10,50,12],[49,13,50,13],[49,15,50,15],[51,7,52,9],[51,10,52,12],[51,13,52,13],[51,15,52,15],[45,7,46,9],[45,10,46,12],[45,13,46,13],[45,15,46,15],[47,7,48,9],[47,10,48,12],[47,13,48,13],[47,15,48,15],[42,13,42,14],[42,15,42,16],[43,13,44,13],[43,15,44,15],[35,10,35,12],[36,10,36,12],[37,10,37,12],[38,10,38,12],[39,10,39,12],[40,10,40,12],[28,7,41,9],[28,10,28,12],[29,10,29,12],[30,10,30,12],[31,10,31,12],[32,10,32,12],[33,10,33,12],[34,10,34,12],[42,7,44,9],[42,10,44,12],[20,10,20,12],[21,10,21,12],[23,10,23,12],[24,10,24,12],[25,10,25,12],[10,7,27,9],[10,10,10,12],[11,10,11,12],[12,10,12,12],[13,10,13,12],[14,10,14,12],[15,10,15,12],[16,10,16,12],[17,10,17,12],[18,10,18,12],[26,10,26,12],[27,10,27,12],[6,7,6,16],[7,7,9,9],[7,10,9,12],[7,13,7,14],[7,15,7,16],[8,13,9,13],[8,15,9,15],[2,7,2,16],[19,10,19,12],[3,7,3,16],[4,7,4,16]]}
[null,null,null,null,null,null,null,null,null,null,null,null,null,null,null,null,{"$f":"\"Version: \"&MAX(Version!A:A)","v":"Version: 2"}]
["ByState",2,null,null,null,null,null,null,null,null,null,null,null,null,null,null,"Data as of 3/19/2015"]
[null,null,null,null,null,null,null,{"$f":"\"Report Quarter: \"&R3","v":"Report Quarter: 20141231"},null,null,null,null,null,null,null,null,null,20141231]
[null,null,null,"01 - CareerSource Escarosa",null,null,null,{"$f":"\"State: \"&R4","v":"State: FL"},null,null,null,null,null,null,null,null,null,"FL"]
[null,null,null,"02 - CareerSource Okaloosa Walton ",null,null,null,{"$f":"IF(A2=\"ByWIB\",\"WIB: \"&A3,\"\")","v":""}]
[null,null,null,"03 - CareerSource Chipola"]
[null,null,null,"04 - CareerSource Gulf Coast",null,null,null,"Quarterly Report Form - ETA 9090"]
[null,null,null,"05 - CareerSource Capital Region",null,null,null,"Performance Items\n",null,null,"Program Group",null,null,"Current Quarter  (most recent)",null,"Cumulative\n4-Quarter Reporting  Period"]
[null,null,null,"06 - CareerSource North Florida",null,null,null,null,null,null,null,null,null,"Value","Numerator","Value","Numerator"]
[null,null,null,"07 - CareerSource Florida Crown",null,null,null,null,null,null,null,null,null,null,"Denominator",null,"Denominator"]
[null,null,null,"08 - CareerSource Northeast Florida",null,null,null,"  Total Participants\n",null,null,"  Total Adult Participants",null,null,{"$f":"IF($B$2=\"\",\"\",INDIRECT(ADDRESS($B$2,'Map9090'!P10,,,$A$2)))","v":27185},null,{"$f":"IF($B$2=\"\",\"\",INDIRECT(ADDRESS($B$2,'Map9090'!R10,,,$A$2)))","v":43310}]
[null,null,null,"09 - CareerSource North Central",null,null,null,null,null,null,"Total Adults (self-service only) ",null,null,{"$f":"IF($B$2=\"\",\"\",INDIRECT(ADDRESS($B$2,'Map9090'!P11,,,$A$2)))","v":1},null,{"$f":"IF($B$2=\"\",\"\",INDIRECT(ADDRESS($B$2,'Map9090'!R11,,,$A$2)))","v":1}]
[null,null,null,"10 - CareerSource Citrus Levy Marion",null,null,null,null,null,null,"WIA Adults  (staff assisted)",null,null,{"$f":"IF($B$2=\"\",\"\",INDIRECT(ADDRESS($B$2,'Map9090'!P12,,,$A$2)))","v":18735},null,{"$f":"IF($B$2=\"\",\"\",INDIRECT(ADDRESS($B$2,'Map9090'!R12,,,$A$2)))","v":29435}]
[null,null,null,"11 - CareerSource Flagler Volusia",null,null,null,null,null,null,"WIA Dislocated Workers ",null,null,{"$f":"IF($B$2=\"\",\"\",INDIRECT(ADDRESS($B$2,'Map9090'!P13,,,$A$2)))","v":8313},null,{"$f":"IF($B$2=\"\",\"\",INDIRECT(ADDRESS($B$2,'Map9090'!R13,,,$A$2)))","v":13178}]
[null,null,null,"12 - CareerSource Central Florida",null,null,null,null,null,null,"Nat'l Emergency Grant ",null,null,{"$f":"IF($B$2=\"\",\"\",INDIRECT(ADDRESS($B$2,'Map9090'!P14,,,$A$2)))","v":771},null,{"$f":"IF($B$2=\"\",\"\",INDIRECT(ADDRESS($B$2,'Map9090'!R14,,,$A$2)))","v":1784}]
[null,null,null,"13 - CareerSource Brevard",null,null,null,null,null,null,"  Total Veterans",null,null,{"$f":"IF($B$2=\"\",\"\",INDIRECT(ADDRESS($B$2,'Map9090'!P15,,,$A$2)))","v":2067},null,{"$f":"IF($B$2=\"\",\"\",INDIRECT(ADDRESS($B$2,'Map9090'!R15,,,$A$2)))","v":3284}]
[null,null,null,"14 - CareerSource Pinellas",null,null,null,null,null,null,"Post 9/11 Era Veterans",null,null,{"$f":"IF($B$2=\"\",\"\",INDIRECT(ADDRESS($B$2,'Map9090'!P16,,,$A$2)))","v":559},null,{"$f":"IF($B$2=\"\",\"\",INDIRECT(ADDRESS($B$2,'Map9090'!R16,,,$A$2)))","v":831}]
[null,null,null,"15 - CareerSource Tampa Bay",null,null,null,null,null,null,"Post 9/11 Era Veterans Receiving Intensive Svcs.",null,null,{"$f":"IF($B$2=\"\",\"\",INDIRECT(ADDRESS($B$2,'Map9090'!P17,,,$A$2)))","v":423},null,{"$f":"IF($B$2=\"\",\"\",INDIRECT(ADDRESS($B$2,'Map9090'!R17,,,$A$2)))","v":718}]
[null,null,null,"16 - CareerSource Pasco Hernando",null,null,null,null,null,null,"TAP Workshop Veteran",null,null,{"$f":"IF($B$2=\"\",\"\",INDIRECT(ADDRESS($B$2,'Map9090'!P18,,,$A$2)))","v":41},null,{"$f":"IF($B$2=\"\",\"\",INDIRECT(ADDRESS($B$2,'Map9090'!R18,,,$A$2)))","v":54}]
[null,null,null,"17 - CareerSource Polk",null,null,null,null,null,null,"  Received Training Services ",null,null,{"$f":"IF($B$2=\"\",\"\",INDIRECT(ADDRESS($B$2,'Map9090'!P19,,,$A$2)))","v":12197},null,{"$f":"IF($B$2=\"\",\"\",INDIRECT(ADDRESS($B$2,'Map9090'!R19,,,$A$2)))","v":23873}]
[null,null,null,"18 - CareerSource Suncoast",null,null,null,null,null,null,"WIA Adults",null,null,{"$f":"IF($B$2=\"\",\"\",INDIRECT(ADDRESS($B$2,'Map9090'!P20,,,$A$2)))","v":9019},null,{"$f":"IF($B$2=\"\",\"\",INDIRECT(ADDRESS($B$2,'Map9090'!R20,,,$A$2)))","v":17577}]
[null,null,null,"19 - CareerSource Heartland",null,null,null,null,null,null,"WIA Dislocated Workers",null,null,{"$f":"IF($B$2=\"\",\"\",INDIRECT(ADDRESS($B$2,'Map9090'!P21,,,$A$2)))","v":3160},null,{"$f":"IF($B$2=\"\",\"\",INDIRECT(ADDRESS($B$2,'Map9090'!R21,,,$A$2)))","v":6202}]
[null,null,null,"20 - CareerSource Research Coast",null,null,null,null,null,null,"Nat'l Emergency Grant",null,null,{"$f":"IF($B$2=\"\",\"\",INDIRECT(ADDRESS($B$2,'Map9090'!P22,,,$A$2)))","v":281},null,{"$f":"IF($B$2=\"\",\"\",INDIRECT(ADDRESS($B$2,'Map9090'!R22,,,$A$2)))","v":664}]
[null,null,null,"21 - CareerSource Palm Beach County",null,null,null,null,null,null,"  Total Youth (14 - 21) Participants",null,null,{"$f":"IF($B$2=\"\",\"\",INDIRECT(ADDRESS($B$2,'Map9090'!P23,,,$A$2)))","v":11613},null,{"$f":"IF($B$2=\"\",\"\",INDIRECT(ADDRESS($B$2,'Map9090'!R23,,,$A$2)))","v":15371}]
[null,null,null,"22 - CareerSource Broward",null,null,null,null,null,null,"Younger Youth (14 - 18) ",null,null,{"$f":"IF($B$2=\"\",\"\",INDIRECT(ADDRESS($B$2,'Map9090'!P24,,,$A$2)))","v":7652},null,{"$f":"IF($B$2=\"\",\"\",INDIRECT(ADDRESS($B$2,'Map9090'!R24,,,$A$2)))","v":9790}]
[null,null,null,"23 - CareerSource South Florida",null,null,null,null,null,null,"Older Youth (19 - 21)",null,null,{"$f":"IF($B$2=\"\",\"\",INDIRECT(ADDRESS($B$2,'Map9090'!P25,,,$A$2)))","v":3961},null,{"$f":"IF($B$2=\"\",\"\",INDIRECT(ADDRESS($B$2,'Map9090'!R25,,,$A$2)))","v":5581}]
[null,null,null,"24 - CareerSource Southwest Florida",null,null,null,null,null,null,"Out-of-School Youth ",null,null,{"$f":"IF($B$2=\"\",\"\",INDIRECT(ADDRESS($B$2,'Map9090'!P26,,,$A$2)))","v":5718},null,{"$f":"IF($B$2=\"\",\"\",INDIRECT(ADDRESS($B$2,'Map9090'!R26,,,$A$2)))","v":7879}]
[null,null,null,"National Emergency Grant - Florida",null,null,null,null,null,null,"In-School Youth",null,null,{"$f":"IF($B$2=\"\",\"\",INDIRECT(ADDRESS($B$2,'Map9090'!P27,,,$A$2)))","v":5894},null,{"$f":"IF($B$2=\"\",\"\",INDIRECT(ADDRESS($B$2,'Map9090'!R27,,,$A$2)))","v":7490}]
[null,null,null,"Rapid Response - Florida",null,null,null,"  Total Exiters\n",null,null,"  Total Adult Exiters",null,null,{"$f":"IF($B$2=\"\",\"\",INDIRECT(ADDRESS($B$2,'Map9090'!P28,,,$A$2)))","v":3929},null,{"$f":"IF($B$2=\"\",\"\",INDIRECT(ADDRESS($B$2,'Map9090'!R28,,,$A$2)))","v":20777}]
[null,null,null,"Statewide Program - Florida",null,null,null,null,null,null,"Total Adults (self-services only)",null,null,{"$f":"IF($B$2=\"\",\"\",INDIRECT(ADDRESS($B$2,'Map9090'!P29,,,$A$2)))","v":0},null,{"$f":"IF($B$2=\"\",\"\",INDIRECT(ADDRESS($B$2,'Map9090'!R29,,,$A$2)))","v":0}]
[null,null,null,null,null,null,null,null,null,null,"WIA Adults",null,null,{"$f":"IF($B$2=\"\",\"\",INDIRECT(ADDRESS($B$2,'Map9090'!P30,,,$A$2)))","v":2380},null,{"$f":"IF($B$2=\"\",\"\",INDIRECT(ADDRESS($B$2,'Map9090'!R30,,,$A$2)))","v":13661}]
[null,null,null,null,null,null,null,null,null,null,"WIA Dislocated Workers",null,null,{"$f":"IF($B$2=\"\",\"\",INDIRECT(ADDRESS($B$2,'Map9090'!P31,,,$A$2)))","v":1362},null,{"$f":"IF($B$2=\"\",\"\",INDIRECT(ADDRESS($B$2,'Map9090'!R31,,,$A$2)))","v":6303}]
[null,null,null,null,null,null,null,null,null,null,"Nat'l Emergency Grant",null,null,{"$f":"IF($B$2=\"\",\"\",INDIRECT(ADDRESS($B$2,'Map9090'!P32,,,$A$2)))","v":286},null,{"$f":"IF($B$2=\"\",\"\",INDIRECT(ADDRESS($B$2,'Map9090'!R32,,,$A$2)))","v":1407}]
[null,null,null,null,null,null,null,null,null,null,"  Total Youth (14 - 21) Exiters",null,null,{"$f":"IF($B$2=\"\",\"\",INDIRECT(ADDRESS($B$2,'Map9090'!P33,,,$A$2)))","v":1182},null,{"$f":"IF($B$2=\"\",\"\",INDIRECT(ADDRESS($B$2,'Map9090'!R33,,,$A$2)))","v":4882}]
[null,null,null,null,null,null,null,null,null,null,"Younger Youth (14 - 18)",null,null,{"$f":"IF($B$2=\"\",\"\",INDIRECT(ADDRESS($B$2,'Map9090'!P34,,,$A$2)))","v":726},null,{"$f":"IF($B$2=\"\",\"\",INDIRECT(ADDRESS($B$2,'Map9090'!R34,,,$A$2)))","v":2758}]
[null,null,null,null,null,null,null,null,null,null,"Older Youth (19 - 21)",null,null,{"$f":"IF($B$2=\"\",\"\",INDIRECT(ADDRESS($B$2,'Map9090'!P35,,,$A$2)))","v":456},null,{"$f":"IF($B$2=\"\",\"\",INDIRECT(ADDRESS($B$2,'Map9090'!R35,,,$A$2)))","v":2124}]
[null,null,null,null,null,null,null,null,null,null,"Out-of-School Youth",null,null,{"$f":"IF($B$2=\"\",\"\",INDIRECT(ADDRESS($B$2,'Map9090'!P36,,,$A$2)))","v":588},null,{"$f":"IF($B$2=\"\",\"\",INDIRECT(ADDRESS($B$2,'Map9090'!R36,,,$A$2)))","v":2875}]
[null,null,null,null,null,null,null,null,null,null,"In-School Youth",null,null,{"$f":"IF($B$2=\"\",\"\",INDIRECT(ADDRESS($B$2,'Map9090'!P37,,,$A$2)))","v":594},null,{"$f":"IF($B$2=\"\",\"\",INDIRECT(ADDRESS($B$2,'Map9090'!R37,,,$A$2)))","v":2006}]
[null,null,null,null,null,null,null,null,null,null,"  Received Training Services ",null,null,{"$f":"IF($B$2=\"\",\"\",INDIRECT(ADDRESS($B$2,'Map9090'!P38,,,$A$2)))","v":3010},null,{"$f":"IF($B$2=\"\",\"\",INDIRECT(ADDRESS($B$2,'Map9090'!R38,,,$A$2)))","v":16490}]
[null,null,null,null,null,null,null,null,null,null,"WIA Adults",null,null,{"$f":"IF($B$2=\"\",\"\",INDIRECT(ADDRESS($B$2,'Map9090'!P39,,,$A$2)))","v":1929},null,{"$f":"IF($B$2=\"\",\"\",INDIRECT(ADDRESS($B$2,'Map9090'!R39,,,$A$2)))","v":11408}]
[null,null,null,null,null,null,null,null,null,null,"WIA Dislocated Workers",null,null,{"$f":"IF($B$2=\"\",\"\",INDIRECT(ADDRESS($B$2,'Map9090'!P40,,,$A$2)))","v":1047},null,{"$f":"IF($B$2=\"\",\"\",INDIRECT(ADDRESS($B$2,'Map9090'!R40,,,$A$2)))","v":4977}]
[null,null,null,null,null,null,null,null,null,null,"Nat'l Emergency Grant",null,null,{"$f":"IF($B$2=\"\",\"\",INDIRECT(ADDRESS($B$2,'Map9090'!P41,,,$A$2)))","v":113},null,{"$f":"IF($B$2=\"\",\"\",INDIRECT(ADDRESS($B$2,'Map9090'!R41,,,$A$2)))","v":584}]
[null,null,null,null,null,null,null,"Performance Items",null,null,"Program Group",null,null,"Current Quarter (most recent)",null,"Cumulative\n4-Quarter Reporting  Period"]
[null,null,null,null,null,null,null,null,null,null,null,null,null,"Value","Numerator","Value","Numerator"]
[null,null,null,null,null,null,null,null,null,null,null,null,null,null,"Denominator",null,"Denominator"]
[null,null,null,null,null,null,null,"Placement in Employment or Education",null,null,"  WIA Youth (14 - 21) ",null,null,{"$f":"IF(OR(O47=0,O47=\"\"),\"\",O46/O47)","v":0.75244755244755246},{"$f":"IF($B$2=\"\",\"\",INDIRECT(ADDRESS($B$2,'Map9090'!Q45,,,$A$2)))","v":538},{"$f":"IF(OR(Q47=0,Q47=\"\"),\"\",Q46/Q47)","v":0.70683004311322895},{"$f":"IF($B$2=\"\",\"\",INDIRECT(ADDRESS($B$2,'Map9090'!S45,,,$A$2)))","v":3115}]
[null,null,null,null,null,null,null,null,null,null,null,null,null,null,{"$f":"IF($B$2=\"\",\"\",INDIRECT(ADDRESS($B$2,'Map9090'!Q46,,,$A$2)))","v":715},null,{"$f":"IF($B$2=\"\",\"\",INDIRECT(ADDRESS($B$2,'Map9090'!S46,,,$A$2)))","v":4407}]
[null,null,null,null,null,null,null,"Attainment of Degree or Certificate",null,null,"  WIA Youth (14 - 21)",null,null,{"$f":"IF(OR(O49=0,O49=\"\"),\"\",O48/O49)","v":0.75561426684280053},{"$f":"IF($B$2=\"\",\"\",INDIRECT(ADDRESS($B$2,'Map9090'!Q47,,,$A$2)))","v":572},{"$f":"IF(OR(Q49=0,Q49=\"\"),\"\",Q48/Q49)","v":0.75839398919934253},{"$f":"IF($B$2=\"\",\"\",INDIRECT(ADDRESS($B$2,'Map9090'!S47,,,$A$2)))","v":3230}]
[null,null,null,null,null,null,null,null,null,null,null,null,null,null,{"$f":"IF($B$2=\"\",\"\",INDIRECT(ADDRESS($B$2,'Map9090'!Q48,,,$A$2)))","v":757},null,{"$f":"IF($B$2=\"\",\"\",INDIRECT(ADDRESS($B$2,'Map9090'!S48,,,$A$2)))","v":4259}]
[null,null,null,null,null,null,null,"Literacy and Numeracy Gains",null,null,"  WIA Youth (14 - 21)",null,null,{"$f":"IF(OR(O51=0,O51=\"\"),\"\",O50/O51)","v":0.54709677419354841},{"$f":"IF($B$2=\"\",\"\",INDIRECT(ADDRESS($B$2,'Map9090'!Q49,,,$A$2)))","v":424},{"$f":"IF(OR(Q51=0,Q51=\"\"),\"\",Q50/Q51)","v":0.54854213393143225},{"$f":"IF($B$2=\"\",\"\",INDIRECT(ADDRESS($B$2,'Map9090'!S49,,,$A$2)))","v":1712}]
[null,null,null,null,null,null,null,null,null,null,null,null,null,null,{"$f":"IF($B$2=\"\",\"\",INDIRECT(ADDRESS($B$2,'Map9090'!Q50,,,$A$2)))","v":775},null,{"$f":"IF($B$2=\"\",\"\",INDIRECT(ADDRESS($B$2,'Map9090'!S50,,,$A$2)))","v":3121}]
[null,null,null,null,null,null,null,"Youth Diploma or Equivalent Rate",null,null,"  WIA Younger Youth (14-18)",null,null,{"$f":"IF(OR(O53=0,O53=\"\"),\"\",O52/O53)","v":0.78624535315985133},{"$f":"IF($B$2=\"\",\"\",INDIRECT(ADDRESS($B$2,'Map9090'!Q51,,,$A$2)))","v":423},{"$f":"IF(OR(Q53=0,Q53=\"\"),\"\",Q52/Q53)","v":0.72113943028485761},{"$f":"IF($B$2=\"\",\"\",INDIRECT(ADDRESS($B$2,'Map9090'!S51,,,$A$2)))","v":1443}]
[null,null,null,null,null,null,null,null,null,null,null,null,null,null,{"$f":"IF($B$2=\"\",\"\",INDIRECT(ADDRESS($B$2,'Map9090'!Q52,,,$A$2)))","v":538},null,{"$f":"IF($B$2=\"\",\"\",INDIRECT(ADDRESS($B$2,'Map9090'!S52,,,$A$2)))","v":2001}]
[null,null,null,null,null,null,null,"Skill Attainment Rate",null,null,"  WIA Younger Youth (14-18)",null,null,{"$f":"IF(OR(O55=0,O55=\"\"),\"\",O54/O55)","v":0.78535353535353536},{"$f":"IF($B$2=\"\",\"\",INDIRECT(ADDRESS($B$2,'Map9090'!Q53,,,$A$2)))","v":1555},{"$f":"IF(OR(Q55=0,Q55=\"\"),\"\",Q54/Q55)","v":0.82625523012552304},{"$f":"IF($B$2=\"\",\"\",INDIRECT(ADDRESS($B$2,'Map9090'!S53,,,$A$2)))","v":7899}]
[null,null,null,null,null,null,null,null,null,null,null,null,null,null,{"$f":"IF($B$2=\"\",\"\",INDIRECT(ADDRESS($B$2,'Map9090'!Q54,,,$A$2)))","v":1980},null,{"$f":"IF($B$2=\"\",\"\",INDIRECT(ADDRESS($B$2,'Map9090'!S54,,,$A$2)))","v":9560}]
[null,null,null,null,null,null,null,"Entered Employment Rates ",null,null,"  Adults ",null,null,{"$f":"IF(OR(O57=0,O57=\"\"),\"\",O56/O57)","v":0.87552155771905427},{"$f":"IF($B$2=\"\",\"\",INDIRECT(ADDRESS($B$2,'Map9090'!Q55,,,$A$2)))","v":1259},{"$f":"IF(OR(Q57=0,Q57=\"\"),\"\",Q56/Q57)","v":0.79281014283421603},{"$f":"IF($B$2=\"\",\"\",INDIRECT(ADDRESS($B$2,'Map9090'!S55,,,$A$2)))","v":4940}]
[null,null,null,null,null,null,null,null,null,null,null,null,null,null,{"$f":"IF($B$2=\"\",\"\",INDIRECT(ADDRESS($B$2,'Map9090'!Q56,,,$A$2)))","v":1438},null,{"$f":"IF($B$2=\"\",\"\",INDIRECT(ADDRESS($B$2,'Map9090'!S56,,,$A$2)))","v":6231}]
[null,null,null,null,null,null,null,null,null,null,"  Dislocated Workers ",null,null,{"$f":"IF(OR(O59=0,O59=\"\"),\"\",O58/O59)","v":0.88509520682862775},{"$f":"IF($B$2=\"\",\"\",INDIRECT(ADDRESS($B$2,'Map9090'!Q57,,,$A$2)))","v":1348},{"$f":"IF(OR(Q59=0,Q59=\"\"),\"\",Q58/Q59)","v":0.84971464806594799},{"$f":"IF($B$2=\"\",\"\",INDIRECT(ADDRESS($B$2,'Map9090'!S57,,,$A$2)))","v":5360}]
[null,null,null,null,null,null,null,null,null,null,null,null,null,null,{"$f":"IF($B$2=\"\",\"\",INDIRECT(ADDRESS($B$2,'Map9090'!Q58,,,$A$2)))","v":1523},null,{"$f":"IF($B$2=\"\",\"\",INDIRECT(ADDRESS($B$2,'Map9090'!S58,,,$A$2)))","v":6308}]
[null,null,null,null,null,null,null,null,null,null,"  Older Youth (19-21)",null,null,{"$f":"IF(OR(O61=0,O61=\"\"),\"\",O60/O61)","v":0.7591036414565826},{"$f":"IF($B$2=\"\",\"\",INDIRECT(ADDRESS($B$2,'Map9090'!Q59,,,$A$2)))","v":271},{"$f":"IF(OR(Q61=0,Q61=\"\"),\"\",Q60/Q61)","v":0.72656683305601777},{"$f":"IF($B$2=\"\",\"\",INDIRECT(ADDRESS($B$2,'Map9090'!S59,,,$A$2)))","v":1310}]
[null,null,null,null,null,null,null,null,null,null,null,null,null,null,{"$f":"IF($B$2=\"\",\"\",INDIRECT(ADDRESS($B$2,'Map9090'!Q60,,,$A$2)))","v":357},null,{"$f":"IF($B$2=\"\",\"\",INDIRECT(ADDRESS($B$2,'Map9090'!S60,,,$A$2)))","v":1803}]
[null,null,null,null,null,null,null,null,null,null,"  Veterans",null,null,{"$f":"IF(OR(O63=0,O63=\"\"),\"\",O62/O63)","v":0.85931558935361219},{"$f":"IF($B$2=\"\",\"\",INDIRECT(ADDRESS($B$2,'Map9090'!Q61,,,$A$2)))","v":226},{"$f":"IF(OR(Q63=0,Q63=\"\"),\"\",Q62/Q63)","v":0.78333333333333333},{"$f":"IF($B$2=\"\",\"\",INDIRECT(ADDRESS($B$2,'Map9090'!S61,,,$A$2)))","v":940}]
[null,null,null,null,null,null,null,null,null,null,null,null,null,null,{"$f":"IF($B$2=\"\",\"\",INDIRECT(ADDRESS($B$2,'Map9090'!Q62,,,$A$2)))","v":263},null,{"$f":"IF($B$2=\"\",\"\",INDIRECT(ADDRESS($B$2,'Map9090'!S62,,,$A$2)))","v":1200}]
[null,null,null,null,null,null,null,null,null,null,"  Nat'l Emergency Grant",null,null,{"$f":"IF(OR(O65=0,O65=\"\"),\"\",O64/O65)","v":0.8202614379084967},{"$f":"IF($B$2=\"\",\"\",INDIRECT(ADDRESS($B$2,'Map9090'!Q63,,,$A$2)))","v":251},{"$f":"IF(OR(Q65=0,Q65=\"\"),\"\",Q64/Q65)","v":0.65459940652818993},{"$f":"IF($B$2=\"\",\"\",INDIRECT(ADDRESS($B$2,'Map9090'!S63,,,$A$2)))","v":1103}]
[null,null,null,null,null,null,null,null,null,null,null,null,null,null,{"$f":"IF($B$2=\"\",\"\",INDIRECT(ADDRESS($B$2,'Map9090'!Q64,,,$A$2)))","v":306},null,{"$f":"IF($B$2=\"\",\"\",INDIRECT(ADDRESS($B$2,'Map9090'!S64,,,$A$2)))","v":1685}]
[null,null,null,null,null,null,null,"Employment and Credential Rates\n(Adults/Dislocated Workers/Older Youth) ",null,null,"  Adults",null,null,{"$f":"IF(OR(O67=0,O67=\"\"),\"\",O66/O67)","v":0.74290484140233726},{"$f":"IF($B$2=\"\",\"\",INDIRECT(ADDRESS($B$2,'Map9090'!Q65,,,$A$2)))","v":1780},{"$f":"IF(OR(Q67=0,Q67=\"\"),\"\",Q66/Q67)","v":0.79798070050035741},{"$f":"IF($B$2=\"\",\"\",INDIRECT(ADDRESS($B$2,'Map9090'!S65,,,$A$2)))","v":8931}]
[null,null,null,null,null,null,null,null,null,null,null,null,null,null,{"$f":"IF($B$2=\"\",\"\",INDIRECT(ADDRESS($B$2,'Map9090'!Q66,,,$A$2)))","v":2396},null,{"$f":"IF($B$2=\"\",\"\",INDIRECT(ADDRESS($B$2,'Map9090'!S66,,,$A$2)))","v":11192}]
[null,null,null,null,null,null,null,null,null,null,"  Dislocated Workers",null,null,{"$f":"IF(OR(O69=0,O69=\"\"),\"\",O68/O69)","v":0.5947030497592295},{"$f":"IF($B$2=\"\",\"\",INDIRECT(ADDRESS($B$2,'Map9090'!Q67,,,$A$2)))","v":741},{"$f":"IF(OR(Q69=0,Q69=\"\"),\"\",Q68/Q69)","v":0.60150674068199839},{"$f":"IF($B$2=\"\",\"\",INDIRECT(ADDRESS($B$2,'Map9090'!S67,,,$A$2)))","v":3034}]
[null,null,null,null,null,null,null,null,null,null,null,null,null,null,{"$f":"IF($B$2=\"\",\"\",INDIRECT(ADDRESS($B$2,'Map9090'!Q68,,,$A$2)))","v":1246},null,{"$f":"IF($B$2=\"\",\"\",INDIRECT(ADDRESS($B$2,'Map9090'!S68,,,$A$2)))","v":5044}]
[null,null,null,null,null,null,null,null,null,null,"  Older Youth (19-21)",null,null,{"$f":"IF(OR(O71=0,O71=\"\"),\"\",O70/O71)","v":0.48853211009174313},{"$f":"IF($B$2=\"\",\"\",INDIRECT(ADDRESS($B$2,'Map9090'!Q69,,,$A$2)))","v":213},{"$f":"IF(OR(Q71=0,Q71=\"\"),\"\",Q70/Q71)","v":0.43185078909612623},{"$f":"IF($B$2=\"\",\"\",INDIRECT(ADDRESS($B$2,'Map9090'!S69,,,$A$2)))","v":903}]
[null,null,null,null,null,null,null,null,null,null,null,null,null,null,{"$f":"IF($B$2=\"\",\"\",INDIRECT(ADDRESS($B$2,'Map9090'!Q70,,,$A$2)))","v":436},null,{"$f":"IF($B$2=\"\",\"\",INDIRECT(ADDRESS($B$2,'Map9090'!S70,,,$A$2)))","v":2091}]
[null,null,null,null,null,null,null,"Retention Rates\n   ",null,null,"  Adults ",null,null,{"$f":"IF(OR(O73=0,O73=\"\"),\"\",O72/O73)","v":0.91277817659727212},{"$f":"IF($B$2=\"\",\"\",INDIRECT(ADDRESS($B$2,'Map9090'!Q71,,,$A$2)))","v":2543},{"$f":"IF(OR(Q73=0,Q73=\"\"),\"\",Q72/Q73)","v":0.91049407271859339},{"$f":"IF($B$2=\"\",\"\",INDIRECT(ADDRESS($B$2,'Map9090'!S71,,,$A$2)))","v":11444}]
[null,null,null,null,null,null,null,null,null,null,null,null,null,null,{"$f":"IF($B$2=\"\",\"\",INDIRECT(ADDRESS($B$2,'Map9090'!Q72,,,$A$2)))","v":2786},null,{"$f":"IF($B$2=\"\",\"\",INDIRECT(ADDRESS($B$2,'Map9090'!S72,,,$A$2)))","v":12569}]
[null,null,null,null,null,null,null,null,null,null,"  Dislocated Workers ",null,null,{"$f":"IF(OR(O75=0,O75=\"\"),\"\",O74/O75)","v":0.90021691973969631},{"$f":"IF($B$2=\"\",\"\",INDIRECT(ADDRESS($B$2,'Map9090'!Q73,,,$A$2)))","v":1245},{"$f":"IF(OR(Q75=0,Q75=\"\"),\"\",Q74/Q75)","v":0.89815712900096989},{"$f":"IF($B$2=\"\",\"\",INDIRECT(ADDRESS($B$2,'Map9090'!S73,,,$A$2)))","v":5556}]
[null,null,null,null,null,null,null,null,null,null,null,null,null,null,{"$f":"IF($B$2=\"\",\"\",INDIRECT(ADDRESS($B$2,'Map9090'!Q74,,,$A$2)))","v":1383},null,{"$f":"IF($B$2=\"\",\"\",INDIRECT(ADDRESS($B$2,'Map9090'!S74,,,$A$2)))","v":6186}]
[null,null,null,null,null,null,null,null,null,null,"  Veterans",null,null,{"$f":"IF(OR(O77=0,O77=\"\"),\"\",O76/O77)","v":0.89710610932475887},{"$f":"IF($B$2=\"\",\"\",INDIRECT(ADDRESS($B$2,'Map9090'!Q75,,,$A$2)))","v":279},{"$f":"IF(OR(Q77=0,Q77=\"\"),\"\",Q76/Q77)","v":0.89737654320987659},{"$f":"IF($B$2=\"\",\"\",INDIRECT(ADDRESS($B$2,'Map9090'!S75,,,$A$2)))","v":1163}]
[null,null,null,null,null,null,null,null,null,null,null,null,null,null,{"$f":"IF($B$2=\"\",\"\",INDIRECT(ADDRESS($B$2,'Map9090'!Q76,,,$A$2)))","v":311},null,{"$f":"IF($B$2=\"\",\"\",INDIRECT(ADDRESS($B$2,'Map9090'!S76,,,$A$2)))","v":1296}]
[null,null,null,null,null,null,null,null,null,null,"  Older Youth (19-21)",null,null,{"$f":"IF(OR(O79=0,O79=\"\"),\"\",O78/O79)","v":0.84033613445378152},{"$f":"IF($B$2=\"\",\"\",INDIRECT(ADDRESS($B$2,'Map9090'!Q77,,,$A$2)))","v":300},{"$f":"IF(OR(Q79=0,Q79=\"\"),\"\",Q78/Q79)","v":0.84705075445816191},{"$f":"IF($B$2=\"\",\"\",INDIRECT(ADDRESS($B$2,'Map9090'!S77,,,$A$2)))","v":1235}]
[null,null,null,null,null,null,null,null,null,null,null,null,null,null,{"$f":"IF($B$2=\"\",\"\",INDIRECT(ADDRESS($B$2,'Map9090'!Q78,,,$A$2)))","v":357},null,{"$f":"IF($B$2=\"\",\"\",INDIRECT(ADDRESS($B$2,'Map9090'!S78,,,$A$2)))","v":1458}]
[null,null,null,null,null,null,null,null,null,null,"  Younger Youth (14-18)",null,null,{"$f":"IF(OR(O81=0,O81=\"\"),\"\",O80/O81)","v":0.8139240506329114},{"$f":"IF($B$2=\"\",\"\",INDIRECT(ADDRESS($B$2,'Map9090'!Q79,,,$A$2)))","v":643},{"$f":"IF(OR(Q81=0,Q81=\"\"),\"\",Q80/Q81)","v":0.73338940285954579},{"$f":"IF($B$2=\"\",\"\",INDIRECT(ADDRESS($B$2,'Map9090'!S79,,,$A$2)))","v":1744}]
[null,null,null,null,null,null,null,null,null,null,null,null,null,null,{"$f":"IF($B$2=\"\",\"\",INDIRECT(ADDRESS($B$2,'Map9090'!Q80,,,$A$2)))","v":790},null,{"$f":"IF($B$2=\"\",\"\",INDIRECT(ADDRESS($B$2,'Map9090'!S80,,,$A$2)))","v":2378}]
[null,null,null,null,null,null,null,null,null,null,"  Nat'l Emergency Grant ",null,null,{"$f":"IF(OR(O83=0,O83=\"\"),\"\",O82/O83)","v":0.8764044943820225},{"$f":"IF($B$2=\"\",\"\",INDIRECT(ADDRESS($B$2,'Map9090'!Q81,,,$A$2)))","v":234},{"$f":"IF(OR(Q83=0,Q83=\"\"),\"\",Q82/Q83)","v":0.89678030303030298},{"$f":"IF($B$2=\"\",\"\",INDIRECT(ADDRESS($B$2,'Map9090'!S81,,,$A$2)))","v":947}]
[null,null,null,null,null,null,null,null,null,null,null,null,null,null,{"$f":"IF($B$2=\"\",\"\",INDIRECT(ADDRESS($B$2,'Map9090'!Q82,,,$A$2)))","v":267},null,{"$f":"IF($B$2=\"\",\"\",INDIRECT(ADDRESS($B$2,'Map9090'!S82,,,$A$2)))","v":1056}]
[null,null,null,null,null,null,null,"  Six-Months \n  Average Earnings",null,null,"  Adults ",null,null,{"$f":"IF(OR(O85=0,O85=\"\"),\"\",O84/O85)","v":18888.157674613132},{"$f":"IF($B$2=\"\",\"\",INDIRECT(ADDRESS($B$2,'Map9090'!Q83,,,$A$2)))","v":45161585},{"$f":"IF(OR(Q85=0,Q85=\"\"),\"\",Q84/Q85)","v":18250.684824176849},{"$f":"IF($B$2=\"\",\"\",INDIRECT(ADDRESS($B$2,'Map9090'!S83,,,$A$2)))","v":195665592}]
[null,null,null,null,null,null,null,null,null,null,null,null,null,null,{"$f":"IF($B$2=\"\",\"\",INDIRECT(ADDRESS($B$2,'Map9090'!Q84,,,$A$2)))","v":2391},null,{"$f":"IF($B$2=\"\",\"\",INDIRECT(ADDRESS($B$2,'Map9090'!S84,,,$A$2)))","v":10721}]
[null,null,null,null,null,null,null,null,null,null,"  Dislocated Workers ",null,null,{"$f":"IF(OR(O87=0,O87=\"\"),\"\",O86/O87)","v":16463.896184560781},{"$f":"IF($B$2=\"\",\"\",INDIRECT(ADDRESS($B$2,'Map9090'!Q85,,,$A$2)))","v":18554811},{"$f":"IF(OR(Q87=0,Q87=\"\"),\"\",Q86/Q87)","v":15864.962462159436},{"$f":"IF($B$2=\"\",\"\",INDIRECT(ADDRESS($B$2,'Map9090'!S85,,,$A$2)))","v":78610889}]
[null,null,null,null,null,null,null,null,null,null,null,null,null,null,{"$f":"IF($B$2=\"\",\"\",INDIRECT(ADDRESS($B$2,'Map9090'!Q86,,,$A$2)))","v":1127},null,{"$f":"IF($B$2=\"\",\"\",INDIRECT(ADDRESS($B$2,'Map9090'!S86,,,$A$2)))","v":4955}]
[null,null,null,null,null,null,null,null,null,null,"  Veterans",null,null,{"$f":"IF(OR(O89=0,O89=\"\"),\"\",O88/O89)","v":19194.388888888891},{"$f":"IF($B$2=\"\",\"\",INDIRECT(ADDRESS($B$2,'Map9090'!Q87,,,$A$2)))","v":4836986},{"$f":"IF(OR(Q89=0,Q89=\"\"),\"\",Q88/Q89)","v":18695.579766536965},{"$f":"IF($B$2=\"\",\"\",INDIRECT(ADDRESS($B$2,'Map9090'!S87,,,$A$2)))","v":19219056}]
[null,null,null,null,null,null,null,null,null,null,null,null,null,null,{"$f":"IF($B$2=\"\",\"\",INDIRECT(ADDRESS($B$2,'Map9090'!Q88,,,$A$2)))","v":252},null,{"$f":"IF($B$2=\"\",\"\",INDIRECT(ADDRESS($B$2,'Map9090'!S88,,,$A$2)))","v":1028}]
[null,null,null,null,null,null,null,null,null,null,"  Older Youth (19-21) (Earnings Change)",null,null,{"$f":"IF(OR(O91=0,O91=\"\"),\"\",O90/O91)","v":4534.4169381107495},{"$f":"IF($B$2=\"\",\"\",INDIRECT(ADDRESS($B$2,'Map9090'!Q89,,,$A$2)))","v":1392066},{"$f":"IF(OR(Q91=0,Q91=\"\"),\"\",Q90/Q91)","v":4605.4726407613007},{"$f":"IF($B$2=\"\",\"\",INDIRECT(ADDRESS($B$2,'Map9090'!S89,,,$A$2)))","v":5807501}]
[null,null,null,null,null,null,null,null,null,null,null,null,null,null,{"$f":"IF($B$2=\"\",\"\",INDIRECT(ADDRESS($B$2,'Map9090'!Q90,,,$A$2)))","v":307},null,{"$f":"IF($B$2=\"\",\"\",INDIRECT(ADDRESS($B$2,'Map9090'!S90,,,$A$2)))","v":1261}]
[null,null,null,null,null,null,null,null,null,null,"  Nat'l Emergency Grant ",null,null,{"$f":"IF(OR(O93=0,O93=\"\"),\"\",O92/O93)","v":22203.774038461539},{"$f":"IF($B$2=\"\",\"\",INDIRECT(ADDRESS($B$2,'Map9090'!Q91,,,$A$2)))","v":4618385},{"$f":"IF(OR(Q93=0,Q93=\"\"),\"\",Q92/Q93)","v":22397.201946472018},{"$f":"IF($B$2=\"\",\"\",INDIRECT(ADDRESS($B$2,'Map9090'!S91,,,$A$2)))","v":18410500}]
[null,null,null,null,null,null,null,null,null,null,null,null,null,null,{"$f":"IF($B$2=\"\",\"\",INDIRECT(ADDRESS($B$2,'Map9090'!Q92,,,$A$2)))","v":208},null,{"$f":"IF($B$2=\"\",\"\",INDIRECT(ADDRESS($B$2,'Map9090'!S92,,,$A$2)))","v":822}]
[null,null,null,null,null,null,null,"Credential Attainment\n   ",null,null,"  Adults ",null,null,{"$f":"IF(OR(O95=0,O95=\"\"),\"\",O94/O95)","v":0.79208333333333336},{"$f":"IF($B$2=\"\",\"\",INDIRECT(ADDRESS($B$2,'Map9090'!Q93,,,$A$2)))","v":1901},{"$f":"IF(OR(Q95=0,Q95=\"\"),\"\",Q94/Q95)","v":0.85825294748124326},{"$f":"IF($B$2=\"\",\"\",INDIRECT(ADDRESS($B$2,'Map9090'!S93,,,$A$2)))","v":9609}]
[null,null,null,null,null,null,null,null,null,null,null,null,null,null,{"$f":"IF($B$2=\"\",\"\",INDIRECT(ADDRESS($B$2,'Map9090'!Q94,,,$A$2)))","v":2400},null,{"$f":"IF($B$2=\"\",\"\",INDIRECT(ADDRESS($B$2,'Map9090'!S94,,,$A$2)))","v":11196}]
[null,null,null,null,null,null,null,null,null,null,"  Dislocated Workers ",null,null,{"$f":"IF(OR(O97=0,O97=\"\"),\"\",O96/O97)","v":0.6693418940609952},{"$f":"IF($B$2=\"\",\"\",INDIRECT(ADDRESS($B$2,'Map9090'!Q95,,,$A$2)))","v":834},{"$f":"IF(OR(Q97=0,Q97=\"\"),\"\",Q96/Q97)","v":0.69230769230769229},{"$f":"IF($B$2=\"\",\"\",INDIRECT(ADDRESS($B$2,'Map9090'!S95,,,$A$2)))","v":3492}]
[null,null,null,null,null,null,null,null,null,null,null,null,null,null,{"$f":"IF($B$2=\"\",\"\",INDIRECT(ADDRESS($B$2,'Map9090'!Q96,,,$A$2)))","v":1246},null,{"$f":"IF($B$2=\"\",\"\",INDIRECT(ADDRESS($B$2,'Map9090'!S96,,,$A$2)))","v":5044}]
[null,null,null,null,null,null,null,null,null,null,"  Youth (14-21)",null,null,{"$f":"IF(OR(O99=0,O99=\"\"),\"\",O98/O99)","v":0.8807588075880759},{"$f":"IF($B$2=\"\",\"\",INDIRECT(ADDRESS($B$2,'Map9090'!Q97,,,$A$2)))","v":325},{"$f":"IF(OR(Q99=0,Q99=\"\"),\"\",Q98/Q99)","v":0.89590443686006827},{"$f":"IF($B$2=\"\",\"\",INDIRECT(ADDRESS($B$2,'Map9090'!S97,,,$A$2)))","v":1575}]
[null,null,null,null,null,null,null,null,null,null,null,null,null,null,{"$f":"IF($B$2=\"\",\"\",INDIRECT(ADDRESS($B$2,'Map9090'!Q98,,,$A$2)))","v":369},null,{"$f":"IF($B$2=\"\",\"\",INDIRECT(ADDRESS($B$2,'Map9090'!S98,,,$A$2)))","v":1758}]
[null,null,null,null,null,null,null,null,null,null,"  Nat'l Emergency Grant ",null,null,{"$f":"IF(OR(O101=0,O101=\"\"),\"\",O100/O101)","v":0.52777777777777779},{"$f":"IF($B$2=\"\",\"\",INDIRECT(ADDRESS($B$2,'Map9090'!Q99,,,$A$2)))","v":76},{"$f":"IF(OR(Q101=0,Q101=\"\"),\"\",Q100/Q101)","v":0.46320346320346323},{"$f":"IF($B$2=\"\",\"\",INDIRECT(ADDRESS($B$2,'Map9090'!S99,,,$A$2)))","v":321}]
[null,null,null,null,null,null,null,null,null,null,null,null,null,null,{"$f":"IF($B$2=\"\",\"\",INDIRECT(ADDRESS($B$2,'Map9090'!Q100,,,$A$2)))","v":144},null,{"$f":"IF($B$2=\"\",\"\",INDIRECT(ADDRESS($B$2,'Map9090'!S100,,,$A$2)))","v":693}]
[null,null,null,null,null,null,null,"Veteran Priority of Service",null,null,"Measure",null,null,"Percent Served","Total","Percent Served","Total"]
[]
[null,null,null,null,null,null,null,null,null,null,"Covered Entrants Who Reached the End of the Entry Period",null,null,null,{"$f":"IF($B$2=\"\",\"\",INDIRECT(ADDRESS($B$2,'Map9090'!Q103,,,$A$2)))","v":260},null,{"$f":"IF($B$2=\"\",\"\",INDIRECT(ADDRESS($B$2,'Map9090'!S103,,,$A$2)))","v":1124}]
[]
[null,null,null,null,null,null,null,null,null,null,"Covered Entrants Who Received a Service During the Entry Period",null,null,{"$f":"IF(OR(O104=\"\",O104=0),\"\",O106/O104)","v":1},{"$f":"IF($B$2=\"\",\"\",INDIRECT(ADDRESS($B$2,'Map9090'!Q105,,,$A$2)))","v":260},{"$f":"IF(OR(Q104=\"\",Q104=0),\"\",Q106/Q104)","v":1},{"$f":"IF($B$2=\"\",\"\",INDIRECT(ADDRESS($B$2,'Map9090'!S105,,,$A$2)))","v":1124}]
[]
[null,null,null,null,null,null,null,null,null,null,"Covered Entrants Who Received a Staff-Assisted Service During the Entry Period",null,null,{"$f":"IF(OR(O104=\"\",O104=0),\"\",O108/O104)","v":1},{"$f":"IF($B$2=\"\",\"\",INDIRECT(ADDRESS($B$2,'Map9090'!Q107,,,$A$2)))","v":260},{"$f":"IF(OR(Q104=\"\",Q104=0),\"\",Q108/Q104)","v":1},{"$f":"IF($B$2=\"\",\"\",INDIRECT(ADDRESS($B$2,'Map9090'!S107,,,$A$2)))","v":1124}]