{"text_format":"1","workbook":"xlsx","n_sheets":8,"sheets":["All Employers","Level 1 Employers","Summary","Retention","Region 1","Sheet2","10% Stretch","25% Stretch"],"not_rendered":{"charts":3,"images":1,"macros":1,"external_links":0,"defined_names":2,"comments":0,"pivot_tables":0},"unopened":[],"bounds":{"document_bytes":16777216,"sheet_cells":100000,"rows_first":2000,"rows_last":500,"rows_between":2000,"halvings":0,"cell_chars":16384,"cell_head_chars":4096},"cells_cut":0,"cells_raw":0,"read":"whole","date_system":"1900"}

{"sheet":"All Employers","index":0,"n_rows":28,"n_cols":26,"rows_kept":28,"cut":false,"hidden":true,"merged":[]}
[]
[]
[]
[null,null,null,null,null,null,null,null,null,null,null,null,null,null,null,null,null,null,null,null,null,null,"Region","PY 2012-2013","PY 2013-2014","Percent Completion"]
[null,null,null,null,null,null,null,null,null,null,null,null,null,null,null,null,null,null,null,null,null,null,1,{"$f":"#REF!","v":{"$error":"#REF!"}},{"$f":"#REF!","v":{"$error":"#REF!"}},{"$f":"#REF!","v":{"$error":"#REF!"}}]
[null,null,null,null,null,null,null,null,null,null,null,null,null,null,null,null,null,null,null,null,null,null,2,{"$f":"#REF!","v":{"$error":"#REF!"}},{"$f":"#REF!","v":{"$error":"#REF!"}},{"$f":"#REF!","v":{"$error":"#REF!"}}]
[null,null,null,null,null,null,null,null,null,null,null,null,null,null,null,null,null,null,null,null,null,null,3,{"$f":"#REF!","v":{"$error":"#REF!"}},{"$f":"#REF!","v":{"$error":"#REF!"}},{"$f":"#REF!","v":{"$error":"#REF!"}}]
[null,null,null,null,null,null,null,null,null,null,null,null,null,null,null,null,null,null,null,null,null,null,4,{"$f":"#REF!","v":{"$error":"#REF!"}},{"$f":"#REF!","v":{"$error":"#REF!"}},{"$f":"#REF!","v":{"$error":"#REF!"}}]
[null,null,null,null,null,null,null,null,null,null,null,null,null,null,null,null,null,null,null,null,null,null,5,{"$f":"#REF!","v":{"$error":"#REF!"}},{"$f":"#REF!","v":{"$error":"#REF!"}},{"$f":"#REF!","v":{"$error":"#REF!"}}]
[null,null,null,null,null,null,null,null,null,null,null,null,null,null,null,null,null,null,null,null,null,null,6,{"$f":"#REF!","v":{"$error":"#REF!"}},{"$f":"#REF!","v":{"$error":"#REF!"}},{"$f":"#REF!","v":{"$error":"#REF!"}}]
[null,null,null,null,null,null,null,null,null,null,null,null,null,null,null,null,null,null,null,null,null,null,7,{"$f":"#REF!","v":{"$error":"#REF!"}},{"$f":"#REF!","v":{"$error":"#REF!"}},{"$f":"#REF!","v":{"$error":"#REF!"}}]
[null,null,null,null,null,null,null,null,null,null,null,null,null,null,null,null,null,null,null,null,null,null,8,{"$f":"#REF!","v":{"$error":"#REF!"}},{"$f":"#REF!","v":{"$error":"#REF!"}},{"$f":"#REF!","v":{"$error":"#REF!"}}]
[null,null,null,null,null,null,null,null,null,null,null,null,null,null,null,null,null,null,null,null,null,null,9,{"$f":"#REF!","v":{"$error":"#REF!"}},{"$f":"#REF!","v":{"$error":"#REF!"}},{"$f":"#REF!","v":{"$error":"#REF!"}}]
[null,null,null,null,null,null,null,null,null,null,null,null,null,null,null,null,null,null,null,null,null,null,10,{"$f":"#REF!","v":{"$error":"#REF!"}},{"$f":"#REF!","v":{"$error":"#REF!"}},{"$f":"#REF!","v":{"$error":"#REF!"}}]
[null,null,null,null,null,null,null,null,null,null,null,null,null,null,null,null,null,null,null,null,null,null,11,{"$f":"#REF!","v":{"$error":"#REF!"}},{"$f":"#REF!","v":{"$error":"#REF!"}},{"$f":"#REF!","v":{"$error":"#REF!"}}]
[null,null,null,null,null,null,null,null,null,null,null,null,null,null,null,null,null,null,null,null,null,null,12,{"$f":"#REF!","v":{"$error":"#REF!"}},{"$f":"#REF!","v":{"$error":"#REF!"}},{"$f":"#REF!","v":{"$error":"#REF!"}}]
[null,null,null,null,null,null,null,null,null,null,null,null,null,null,null,null,null,null,null,null,null,null,13,{"$f":"#REF!","v":{"$error":"#REF!"}},{"$f":"#REF!","v":{"$error":"#REF!"}},{"$f":"#REF!","v":{"$error":"#REF!"}}]
[null,null,null,null,null,null,null,null,null,null,null,null,null,null,null,null,null,null,null,null,null,null,14,{"$f":"#REF!","v":{"$error":"#REF!"}},{"$f":"#REF!","v":{"$error":"#REF!"}},{"$f":"#REF!","v":{"$error":"#REF!"}}]
[null,null,null,null,null,null,null,null,null,null,null,null,null,null,null,null,null,null,null,null,null,null,15,{"$f":"#REF!","v":{"$error":"#REF!"}},{"$f":"#REF!","v":{"$error":"#REF!"}},{"$f":"#REF!","v":{"$error":"#REF!"}}]
[null,null,null,null,null,null,null,null,null,null,null,null,null,null,null,null,null,null,null,null,null,null,16,{"$f":"#REF!","v":{"$error":"#REF!"}},{"$f":"#REF!","v":{"$error":"#REF!"}},{"$f":"#REF!","v":{"$error":"#REF!"}}]
[null,null,null,null,null,null,null,null,null,null,null,null,null,null,null,null,null,null,null,null,null,null,17,{"$f":"#REF!","v":{"$error":"#REF!"}},{"$f":"#REF!","v":{"$error":"#REF!"}},{"$f":"#REF!","v":{"$error":"#REF!"}}]
[null,null,null,null,null,null,null,null,null,null,null,null,null,null,null,null,null,null,null,null,null,null,18,{"$f":"#REF!","v":{"$error":"#REF!"}},{"$f":"#REF!","v":{"$error":"#REF!"}},{"$f":"#REF!","v":{"$error":"#REF!"}}]
[null,null,null,null,null,null,null,null,null,null,null,null,null,null,null,null,null,null,null,null,null,null,19,{"$f":"#REF!","v":{"$error":"#REF!"}},{"$f":"#REF!","v":{"$error":"#REF!"}},{"$f":"#REF!","v":{"$error":"#REF!"}}]
[null,null,null,null,null,null,null,null,null,null,null,null,null,null,null,null,null,null,null,null,null,null,20,{"$f":"#REF!","v":{"$error":"#REF!"}},{"$f":"#REF!","v":{"$error":"#REF!"}},{"$f":"#REF!","v":{"$error":"#REF!"}}]
[null,null,null,null,null,null,null,null,null,null,null,null,null,null,null,null,null,null,null,null,null,null,21,{"$f":"#REF!","v":{"$error":"#REF!"}},{"$f":"#REF!","v":{"$error":"#REF!"}},{"$f":"#REF!","v":{"$error":"#REF!"}}]
[null,null,null,null,null,null,null,null,null,null,null,null,null,null,null,null,null,null,null,null,null,null,22,{"$f":"#REF!","v":{"$error":"#REF!"}},{"$f":"#REF!","v":{"$error":"#REF!"}},{"$f":"#REF!","v":{"$error":"#REF!"}}]
[null,null,null,null,null,null,null,null,null,null,null,null,null,null,null,null,null,null,null,null,null,null,23,{"$f":"#REF!","v":{"$error":"#REF!"}},{"$f":"#REF!","v":{"$error":"#REF!"}},{"$f":"#REF!","v":{"$error":"#REF!"}}]
[null,null,null,null,null,null,null,null,null,null,null,null,null,null,null,null,null,null,null,null,null,null,24,{"$f":"#REF!","v":{"$error":"#REF!"}},{"$f":"#REF!","v":{"$error":"#REF!"}},{"$f":"#REF!","v":{"$error":"#REF!"}}]

{"sheet":"Level 1 Employers","index":1,"n_rows":28,"n_cols":26,"rows_kept":28,"cut":false,"hidden":true,"merged":[]}
[]
[]
[]
[null,null,null,null,null,null,null,null,null,null,null,null,null,null,null,null,null,null,null,null,null,null,"Region","PY 2012-2013","PY 2013-2014","Percent Completion"]
[null,null,null,null,null,null,null,null,null,null,null,null,null,null,null,null,null,null,null,null,null,null,1,{"$f":"#REF!","v":{"$error":"#REF!"}},{"$f":"#REF!","v":{"$error":"#REF!"}},{"$f":"#REF!","v":{"$error":"#REF!"}}]
[null,null,null,null,null,null,null,null,null,null,null,null,null,null,null,null,null,null,null,null,null,null,2,{"$f":"#REF!","v":{"$error":"#REF!"}},{"$f":"#REF!","v":{"$error":"#REF!"}},{"$f":"#REF!","v":{"$error":"#REF!"}}]
[null,null,null,null,null,null,null,null,null,null,null,null,null,null,null,null,null,null,null,null,null,null,3,{"$f":"#REF!","v":{"$error":"#REF!"}},{"$f":"#REF!","v":{"$error":"#REF!"}},{"$f":"#REF!","v":{"$error":"#REF!"}}]
[null,null,null,null,null,null,null,null,null,null,null,null,null,null,null,null,null,null,null,null,null,null,4,{"$f":"#REF!","v":{"$error":"#REF!"}},{"$f":"#REF!","v":{"$error":"#REF!"}},{"$f":"#REF!","v":{"$error":"#REF!"}}]
[null,null,null,null,null,null,null,null,null,null,null,null,null,null,null,null,null,null,null,null,null,null,5,{"$f":"#REF!","v":{"$error":"#REF!"}},{"$f":"#REF!","v":{"$error":"#REF!"}},{"$f":"#REF!","v":{"$error":"#REF!"}}]
[null,null,null,null,null,null,null,null,null,null,null,null,null,null,null,null,null,null,null,null,null,null,6,{"$f":"#REF!","v":{"$error":"#REF!"}},{"$f":"#REF!","v":{"$error":"#REF!"}},{"$f":"#REF!","v":{"$error":"#REF!"}}]
[null,null,null,null,null,null,null,null,null,null,null,null,null,null,null,null,null,null,null,null,null,null,7,{"$f":"#REF!","v":{"$error":"#REF!"}},{"$f":"#REF!","v":{"$error":"#REF!"}},{"$f":"#REF!","v":{"$error":"#REF!"}}]
[null,null,null,null,null,null,null,null,null,null,null,null,null,null,null,null,null,null,null,null,null,null,8,{"$f":"#REF!","v":{"$error":"#REF!"}},{"$f":"#REF!","v":{"$error":"#REF!"}},{"$f":"#REF!","v":{"$error":"#REF!"}}]
[null,null,null,null,null,null,null,null,null,null,null,null,null,null,null,null,null,null,null,null,null,null,9,{"$f":"#REF!","v":{"$error":"#REF!"}},{"$f":"#REF!","v":{"$error":"#REF!"}},{"$f":"#REF!","v":{"$error":"#REF!"}}]
[null,null,null,null,null,null,null,null,null,null,null,null,null,null,null,null,null,null,null,null,null,null,10,{"$f":"#REF!","v":{"$error":"#REF!"}},{"$f":"#REF!","v":{"$error":"#REF!"}},{"$f":"#REF!","v":{"$error":"#REF!"}}]
[null,null,null,null,null,null,null,null,null,null,null,null,null,null,null,null,null,null,null,null,null,null,11,{"$f":"#REF!","v":{"$error":"#REF!"}},{"$f":"#REF!","v":{"$error":"#REF!"}},{"$f":"#REF!","v":{"$error":"#REF!"}}]
[null,null,null,null,null,null,null,null,null,null,null,null,null,null,null,null,null,null,null,null,null,null,12,{"$f":"#REF!","v":{"$error":"#REF!"}},{"$f":"#REF!","v":{"$error":"#REF!"}},{"$f":"#REF!","v":{"$error":"#REF!"}}]
[null,null,null,null,null,null,null,null,null,null,null,null,null,null,null,null,null,null,null,null,null,null,13,{"$f":"#REF!","v":{"$error":"#REF!"}},{"$f":"#REF!","v":{"$error":"#REF!"}},{"$f":"#REF!","v":{"$error":"#REF!"}}]
[null,null,null,null,null,null,null,null,null,null,null,null,null,null,null,null,null,null,null,null,null,null,14,{"$f":"#REF!","v":{"$error":"#REF!"}},{"$f":"#REF!","v":{"$error":"#REF!"}},{"$f":"#REF!","v":{"$error":"#REF!"}}]
[null,null,null,null,null,null,null,null,null,null,null,null,null,null,null,null,null,null,null,null,null,null,15,{"$f":"#REF!","v":{"$error":"#REF!"}},{"$f":"#REF!","v":{"$error":"#REF!"}},{"$f":"#REF!","v":{"$error":"#REF!"}}]
[null,null,null,null,null,null,null,null,null,null,null,null,null,null,null,null,null,null,null,null,null,null,16,{"$f":"#REF!","v":{"$error":"#REF!"}},{"$f":"#REF!","v":{"$error":"#REF!"}},{"$f":"#REF!","v":{"$error":"#REF!"}}]
[null,null,null,null,null,null,null,null,null,null,null,null,null,null,null,null,null,null,null,null,null,null,17,{"$f":"#REF!","v":{"$error":"#REF!"}},{"$f":"#REF!","v":{"$error":"#REF!"}},{"$f":"#REF!","v":{"$error":"#REF!"}}]
[null,null,null,null,null,null,null,null,null,null,null,null,null,null,null,null,null,null,null,null,null,null,18,{"$f":"#REF!","v":{"$error":"#REF!"}},{"$f":"#REF!","v":{"$error":"#REF!"}},{"$f":"#REF!","v":{"$error":"#REF!"}}]
[null,null,null,null,null,null,null,null,null,null,null,null,null,null,null,null,null,null,null,null,null,null,19,{"$f":"#REF!","v":{"$error":"#REF!"}},{"$f":"#REF!","v":{"$error":"#REF!"}},{"$f":"#REF!","v":{"$error":"#REF!"}}]
[null,null,null,null,null,null,null,null,null,null,null,null,null,null,null,null,null,null,null,null,null,null,20,{"$f":"#REF!","v":{"$error":"#REF!"}},{"$f":"#REF!","v":{"$error":"#REF!"}},{"$f":"#REF!","v":{"$error":"#REF!"}}]
[null,null,null,null,null,null,null,null,null,null,null,null,null,null,null,null,null,null,null,null,null,null,21,{"$f":"#REF!","v":{"$error":"#REF!"}},{"$f":"#REF!","v":{"$error":"#REF!"}},{"$f":"#REF!","v":{"$error":"#REF!"}}]
[null,null,null,null,null,null,null,null,null,null,null,null,null,null,null,null,null,null,null,null,null,null,22,{"$f":"#REF!","v":{"$error":"#REF!"}},{"$f":"#REF!","v":{"$error":"#REF!"}},{"$f":"#REF!","v":{"$error":"#REF!"}}]
[null,null,null,null,null,null,null,null,null,null,null,null,null,null,null,null,null,null,null,null,null,null,23,{"$f":"#REF!","v":{"$error":"#REF!"}},{"$f":"#REF!","v":{"$error":"#REF!"}},{"$f":"#REF!","v":{"$error":"#REF!"}}]
[null,null,null,null,null,null,null,null,null,null,null,null,null,null,null,null,null,null,null,null,null,null,24,{"$f":"#REF!","v":{"$error":"#REF!"}},{"$f":"#REF!","v":{"$error":"#REF!"}},{"$f":"#REF!","v":{"$error":"#REF!"}}]

{"sheet":"Summary","index":2,"n_rows":27,"n_cols":5,"rows_kept":27,"cut":false,"hidden":false,"merged":[[0,1,0,4]]}
[null,"PY 2014-2015 Employer Penetration Incentive Award Allocations"]
["Region","Employer Retention (20% Increase)","Continuous Improvement (10% Increase ) ","Excellence  (25% Increase)","Total Allocation"]
[1,{"$f":"Retention!Q4","v":12480.942273773579},{"$f":"'10% Stretch'!P4","v":15308.03320641658},{"$f":"'25% Stretch'!P4","v":15308.03320641658},{"$f":"SUM(B3:D3)","v":43097.008686606736}]
[2,{"$f":"Retention!Q5","v":16531.643299153984},{"$f":"'10% Stretch'!P5","v":5482.3876994777693},{"$f":"'25% Stretch'!P5","v":5482.3876994777693},{"$f":"SUM(B4:D4)","v":27496.418698109519}]
[3,{"$f":"Retention!Q6","v":4678.4849481330903},{"$f":"'10% Stretch'!P6","v":2990.8661548384412},{"$f":"'25% Stretch'!P6","v":2990.8661548384412},10660.217257809973]
[4,{"$f":"Retention!Q7","v":11823.263878508864},{"$f":"'10% Stretch'!P7","v":3864.7192226868901},{"$f":"'25% Stretch'!P7","v":3864.7192226868901},19552.702323882644]
[5,{"$f":"Retention!Q8","v":15365.758871184718},{"$f":"'10% Stretch'!P8","v":5862.0976634833451},{"$f":"'25% Stretch'!P8","v":5862.0976634833451},27089.954198151408]
[6,{"$f":"Retention!Q9","v":3961.0176078443096},{"$f":"'10% Stretch'!P9","v":2928.4480785635519},{"$f":"'25% Stretch'!P9","v":2928.4480785635519},9817.9137649714139]
[7,{"$f":"Retention!Q10","v":3811.5452452841473},{"$f":"'10% Stretch'!P10","v":1420.0112352537296},{"$f":"'25% Stretch'!P10","v":1420.0112352537296},6651.567715791607]
[8,{"$f":"Retention!Q11","v":27174.075513437565},{"$f":"'10% Stretch'!P11","v":12166.323367247154},{"$f":"'25% Stretch'!P11","v":12166.323367247154},51506.722247931873]
[9,{"$f":"Retention!Q12","v":7324.1457654479691},{"$f":"'10% Stretch'!P12","v":4733.3707841790983},{"$f":"'25% Stretch'!P12","v":4733.3707841790983},16790.887333806168]
[10,{"$f":"Retention!Q13","v":18355.206122387972},{"$f":"'10% Stretch'!P13","v":7968.7077377608557},{"$f":"'25% Stretch'!P13","v":7968.7077377608557},34292.621597909681]
[11,{"$f":"Retention!Q14","v":14543.660877103823},{"$f":"'10% Stretch'!P14","v":7354.9299877244457},{"$f":"'25% Stretch'!P14","v":7354.9299877244457},29253.520852552712]
[12,{"$f":"Retention!Q15","v":44811.814295536751},{"$f":"'10% Stretch'!P15","v":13825.60389488796},{"$f":"'25% Stretch'!P15","v":13825.60389488796},72463.022085312667]
[13,{"$f":"Retention!Q16","v":24827.359421243014},{"$f":"'10% Stretch'!P16","v":13404.281880032457},{"$f":"'25% Stretch'!P16","v":13404.281880032457},51635.923181307924]
[14,{"$f":"Retention!Q17","v":25485.037816507727},{"$f":"'10% Stretch'!P17","v":15724.153714915839},{"$f":"'25% Stretch'!P17","v":15724.153714915839},56933.345246339406]
[15,{"$f":"Retention!Q18","v":35903.261486951058},{"$f":"'10% Stretch'!P18","v":11313.276324823668},{"$f":"'25% Stretch'!P18","v":11313.276324823668},58529.81413659839]
[16,{"$f":"Retention!Q19","v":13721.562883022929},{"$f":"'10% Stretch'!P19","v":14272.933441524665},{"$f":"'25% Stretch'!P19","v":14272.933441524665},42267.429766072259]
[17,{"$f":"Retention!Q20","v":17876.894562195452},{"$f":"'10% Stretch'!P20","v":5617.6268647400284},{"$f":"'25% Stretch'!P20","v":5617.6268647400284},29112.148291675509]
[18,{"$f":"Retention!Q21","v":15888.912140145287},{"$f":"'10% Stretch'!P21","v":7901.0881551297252},{"$f":"'25% Stretch'!P21","v":7901.0881551297252},31691.088450404735]
[19,{"$f":"Retention!Q22","v":7757.6156168724401},{"$f":"'10% Stretch'!P22","v":3635.8529430122967},{"$f":"'25% Stretch'!P22","v":3635.8529430122967},15029.321502897033]
[20,{"$f":"Retention!Q23","v":13661.773937998865},{"$f":"'10% Stretch'!P23","v":10330.191623494164},{"$f":"'25% Stretch'!P23","v":10330.191623494164},34322.157184987198]
[21,{"$f":"Retention!Q24","v":15784.281486353173},{"$f":"'10% Stretch'!P24","v":5430.3726359153616},{"$f":"'25% Stretch'!P24","v":5430.3726359153616},26645.026758183896]
[22,{"$f":"Retention!Q25","v":61881.558099907328},{"$f":"'10% Stretch'!P25","v":23994.54882133866},{"$f":"'25% Stretch'!P25","v":23994.54882133866},109870.65574258464]
[23,{"$f":"Retention!Q26","v":68503.183761322522},{"$f":"'10% Stretch'!P26","v":42439.090360568422},{"$f":"'25% Stretch'!P26","v":42439.090360568422},153381.36448245938]
[24,{"$f":"Retention!Q27","v":17847.000089683417},{"$f":"'10% Stretch'!P27","v":12031.084201984895},{"$f":"'25% Stretch'!P27","v":12031.084201984895},41909.168493653204]
["Statewide",{"$f":"SUM(B3:B26)","v":500000.00000000006},{"$f":"'10% Stretch'!P28","v":249999.99999999997},{"$f":"SUM(D3:D26)","v":249999.99999999997},{"$f":"SUM(E3:E26)","v":999999.99999999988}]

{"sheet":"Retention","index":3,"n_rows":28,"n_cols":21,"rows_kept":28,"cut":false,"hidden":false,"merged":[[0,1,0,16],[1,13,1,16],[1,1,1,6],[1,7,1,12]]}
[null,"Employer Retention (20% Increase): July 1, 2014 - December 31, 2014",null,null,null,null,null,null,null,null,null,null,null,null,null,null,null,null,"Incentive Allocation",null,"% Increase"]
[null,"PY 2013-2014 (Baseline)",null,null,null,null,null,"PY 2014-2015 (Year-to-Date)",null,null,null,null,null,"PY 2014-2015 Goal",null,null,null,null,500000,null,0.2]
["Region","Total Employers Served","New Employers ","% of New Employers Served","Return Employers","% of Return Employers  Served","% of Statewide  Return Employers Served","Total Employers Served","New Employers ","% of New Employers Served","Return Employers","% of Return Employers  Served","% of Statewide  Return Employers Served","Additional Return Employers Needed","Total Return Employers Needed","% of Goal","Incentive Allocation"]
[1,3273,{"$f":"B4-E4","v":2438},{"$f":"C4/B4","v":0.74488237091353493},835,{"$f":"E4/B4","v":0.25511762908646501},{"$f":"E4/$E$28","v":2.4961884547547157E-2},1393,{"$f":"H4-K4","v":933},{"$f":"I4/H4","v":0.66977745872218231},460,{"$f":"K4/H4","v":0.33022254127781764},{"$f":"K4/$K$28","v":1.6251545663310368E-2},{"$f":"E4*$U$2","v":167},{"$f":"E4+N4","v":1002},{"$f":"K4/O4","v":0.45908183632734528},{"$f":"G4*$S$2","v":12480.942273773579}]
[2,2656,1550,0.58358433734939763,1106,0.41641566265060243,3.306328659830797E-2,2654,1952,0.73549359457422758,702,0.26450640542577242,2.480127186009539E-2,221.20000000000002,1327.2,{"$f":"K5/O5","v":0.52893309222423146},{"$f":"G5*$S$2","v":16531.643299153984}]
[3,800,487,0.60875000000000001,313,0.39124999999999999,9.3569698962661808E-3,340,98,0.28823529411764703,242,0.71176470588235297,8.5497261967850211E-3,62.6,375.6,0.64430244941427051,4678.4849481330903]
[4,2235,1444,0.64608501118568229,791,0.35391498881431765,2.3646527757017727E-2,1374,649,0.47234352256186318,725,0.52765647743813682,2.5613849143260908E-2,158.20000000000002,949.2,0.76380109565950272,11823.263878508864]
[5,2342,1314,0.56105892399658408,1028,0.43894107600341586,3.0731517742369437E-2,1349,400,0.29651593773165308,949,0.70348406226834692,3.3527645292351173E-2,205.60000000000002,1233.5999999999999,0.76929312581063558,15365.758871184718]
[6,643,378,0.58786936236391918,265,0.41213063763608088,7.9220352156886189E-3,526,198,0.37642585551330798,328,0.62357414448669202,1.1588058646882176E-2,53,318,1.0314465408805031,3961.0176078443096]
[7,457,202,0.44201312910284463,255,0.55798687089715537,7.6230904905682942E-3,325,139,0.4276923076923077,186,0.5723076923076923,6.571277159512454E-3,51,306,0.60784313725490191,3811.5452452841473]
[8,5504,3686,0.66969476744186052,1818,0.33030523255813954,5.4348151026875131E-2,5768,3434,0.59535367545076279,2334,0.40464632454923716,8.2458929517753049E-2,363.6,2181.6,1.0698569856985698,27174.075513437565]
[9,1842,1352,0.73398479913137893,490,0.26601520086862107,1.4648291530895937E-2,811,548,0.67570900123304567,263,0.32429099876695439,9.2916445857622321E-3,98,588,0.44727891156462585,7324.1457654479691]
[10,3121,1893,0.60653636654918297,1228,0.39346363345081703,3.671041224477594E-2,1445,785,0.54325259515570934,660,0.45674740484429066,2.3317435082140965E-2,245.60000000000002,1473.6,0.44788273615635182,18355.206122387972]
[11,2589,1616,0.62417921977597524,973,0.37582078022402471,2.9087321754207647E-2,1091,564,0.5169569202566453,527,0.4830430797433547,1.8618618618618618E-2,194.60000000000002,1167.5999999999999,0.45135320315176436,14543.660877103823]
[12,7865,4867,0.6188175460902734,2998,0.38118245390972666,8.9623628591073506E-2,4191,2127,0.50751610594130281,2064,0.49248389405869719,7.2919978802331739E-2,599.6,3597.6,0.57371581054036025,44811.814295536751]
[13,4483,2822,0.62948918135177334,1661,0.37051081864822666,4.9654718842486026E-2,1569,511,0.32568514977692797,1058,0.67431485022307203,3.7378555025613852E-2,332.20000000000005,1993.2,0.53080473610274936,24827.359421243014]
[14,5374,3669,0.68273167100855969,1705,0.31726832899144025,5.0970075633015456E-2,4423,1472,0.33280578792674653,2951,0.66719421207325347,0.10425719837484543,341,2046,1.4423264907135875,25485.037816507727]
[15,7791,5389,0.69169554614298545,2402,0.30830445385701449,7.1806522973902123E-2,6198,3676,0.59309454662794447,2522,0.40690545337205553,8.9100865571453802E-2,480.40000000000003,2882.4,0.8749653066888704,35903.261486951058]
[16,3707,2789,0.75236039924467224,918,0.24763960075532776,2.7443125766045857E-2,1983,1053,0.53101361573373673,930,0.46898638426626321,3.2856385797562268E-2,183.60000000000002,1101.5999999999999,0.84422657952069724,13721.562883022929]
[17,3007,1811,0.60226139008979052,1196,0.39773860991020948,3.5753789124390901E-2,1275,666,0.52235294117647058,609,0.47764705882352942,2.1515633280339164E-2,239.20000000000002,1435.2,0.42433110367892973,17876.894562195452]
[18,2915,1852,0.63533447684391076,1063,0.36466552315608919,3.1777824280290572E-2,2495,1207,0.48376753507014025,1288,0.51623246492985975,4.5504327857269031E-2,212.60000000000002,1275.5999999999999,1.0097209156475384,15888.912140145287]
[19,1377,858,0.62309368191721137,519,0.37690631808278868,1.551523123374488E-2,870,474,0.54482758620689653,396,0.45517241379310347,1.3990461049284579E-2,103.80000000000001,622.79999999999995,0.63583815028901736,7757.6156168724401]
[20,2708,1794,0.66248153618906946,914,0.33751846381093059,2.7323547875997729E-2,1757,669,0.38076266363118955,1088,0.61923733636881051,3.8438438438438437E-2,182.8,1096.8,0.99197665937272073,13661.773937998865]
[21,4316,3260,0.75532900834105654,1056,0.24467099165894346,3.1568562972706347E-2,5408,3405,0.62962278106508873,2003,0.37037721893491127,7.0764882529588416E-2,211.20000000000002,1267.2,1.5806502525252524,15784.281486353173]
[22,11322,7182,0.6343402225755167,4140,0.3656597774244833,0.12376311619981466,5267,3084,0.58553256123030184,2183,0.4144674387696981,7.7124183006535951E-2,828,4968,0.43941223832528181,61881.558099907328]
[23,16747,12164,0.72633904579924757,4583,0.27366095420075237,0.13700636752264506,7990,5200,0.6508135168961201,2790,0.34918648310387984,9.8569157392686804E-2,916.6,5499.6,0.50730962251800127,68503.183761322522]
[24,4228,3034,0.71759697256386001,1194,0.28240302743614004,3.5694000179366837E-2,3091,2044,0.66127466839210614,1047,0.33872533160789386,3.6989931107578165E-2,238.8,1432.8,0.73073701842546068,17847.000089683417]
["Statewide",{"$f":"SUM(B4:B27)","v":101302},67851,0.66978934275729995,{"$f":"SUM(E4:E27)","v":33451},0.33021065724270005,1,{"$f":"SUM(H4:H27)","v":63593},35288,0.55490384161778816,{"$f":"SUM(K4:K27)","v":28305},0.44509615838221189,1,6690.2000000000007,40141.199999999997,0.7051358703775672,{"$f":"SUM(Q4:Q27)","v":500000.00000000006}]

{"sheet":"Region 1","index":4,"n_rows":0,"n_cols":0,"rows_kept":0,"cut":false,"hidden":true,"merged":[]}

{"sheet":"Sheet2","index":5,"n_rows":27,"n_cols":9,"rows_kept":27,"cut":false,"hidden":true,"merged":[[0,1,0,8],[1,1,1,3],[1,4,1,6],[1,7,1,8]]}
[null,"Employers Served"]
[null,"PY2011-2012",null,null,"PY2012-2013",null,null,"% Change"]
["Region","All Employers","Level 1 Employers","% Receiving Level 1","All Employers","Level 1 Employers","% Receiving Level 1","All Employers","Level 1 Employers"]
[1,940,563,{"$f":"C4/B4","v":0.59893617021276591},1033,null,{"$f":"F4/E4","v":0},{"$f":"(E4-B4)/B4","v":9.8936170212765961E-2},{"$f":"(F4-C4)/C4","v":-1}]
[2,922,441,{"$f":"C5/B5","v":0.47830802603036876},1282,null,{"$f":"F5/E5","v":0},{"$f":"(E5-B5)/B5","v":0.39045553145336226},-1]
[3,375,304,0.81066666666666665,378,null,0,8.0000000000000002E-3,-1]
[4,941,216,0.22954303931987247,1017,null,0,8.0765143464399572E-2,-1]
[5,1116,517,0.46326164874551973,1239,null,0,0.11021505376344086,-1]
[6,366,295,0.80601092896174864,326,null,0,-0.10928961748633879,-1]
[7,425,271,0.63764705882352946,406,null,0,-4.4705882352941179E-2,-1]
[8,2234,1238,0.55416293643688452,2318,null,0,3.7600716204118173E-2,-1]
[9,891,558,0.6262626262626263,887,null,0,-4.4893378226711564E-3,-1]
[10,1287,792,0.61538461538461542,1567,null,0,0.21756021756021757,-1]
[11,1125,583,0.51822222222222225,1983,null,0,0.76266666666666671,-1]
[12,3196,642,0.20087609511889862,3419,null,0,6.9774718397997496E-2,-1]
[13,2025,1340,0.66172839506172842,2113,null,0,4.3456790123456789E-2,-1]
[14,2211,242,0.10945273631840796,2548,null,0,0.15241971958389869,-1]
[15,2866,1256,0.43824145150034893,4043,null,0,0.4106769016050244,-1]
[16,2901,1775,0.61185798000689418,1626,null,0,-0.43950361944157185,-1]
[17,1416,798,0.56355932203389836,1565,null,0,0.10522598870056497,-1]
[18,1414,668,0.47241867043847241,1404,null,0,-7.0721357850070717E-3,-1]
[19,695,460,0.66187050359712229,677,null,0,-2.5899280575539568E-2,-1]
[20,1227,791,0.64466177669111657,1302,null,0,6.1124694376528114E-2,-1]
[21,2227,627,0.2815446789402784,1929,null,0,-0.13381230354737314,-1]
[22,5234,2645,0.50534963698891866,5169,null,0,-1.2418800152846771E-2,-1]
[23,5409,3219,0.59511924570160846,4819,null,0,-0.1090774634867813,-1]
[24,1315,582,0.44258555133079847,1910,null,0,0.45247148288973382,-1]

{"sheet":"10% Stretch","index":6,"n_rows":28,"n_cols":18,"rows_kept":28,"cut":false,"hidden":false,"merged":[[0,1,0,15],[1,1,1,5],[1,6,1,10],[1,11,1,15]]}
[null,"Employers Served - Continuous Improvement (10% Stretch):  July 1, 2014 -December 31, 2014",null,null,null,null,null,null,null,null,null,null,null,null,null,null,null,"Incentive Allocation"]
[null,"PY 2013-2014 (Baseline)",null,null,null,null,"PY 2014-2015 (Year-to-Date)",null,null,null,null,"PY 2014-2015 Goal",null,null,null,null,null,250000]
["Region","All Employers","Level 1 Employers","% Receiving Level 1","% of All Employers","% of All Level 1 Employers","All Employers","Level 1 Employers","% Receiving Level 1","% of All Employers","% of All Level 1 Employers","All Employers","% of All Employers Goal","Level 1 Employers","% of Level 1 Employers Goal","Incentive Allocation"]
[1,3273,2931,0.89780353874313601,3.2349748346985098E-2,6.1232132825666315E-2,1393,691,{"$f":"H4/G4","v":0.49605168700646085},{"$f":"G4/$G$28","v":2.1904926642869499E-2},{"$f":"H4/$H$28","v":1.8215848579111089E-2},{"$f":"B4*1.1","v":3600.3},{"$f":"G4/L4","v":0.38691220176096436},{"$f":"C4*1.1","v":3224.1000000000004},{"$f":"H4/N4","v":0.21432337706646815},{"$f":"F4*$R$2","v":15308.03320641658}]
[2,2656,1053,0.39698681732580038,2.6201519786835093E-2,2.1929550797911077E-2,2654,716,0.26978146194423513,4.1734153130061485E-2,1.8874887963304686E-2,2921.6000000000004,{"$f":"G5/L5","v":0.90840635268346104},1158.3000000000002,{"$f":"H5/N5","v":0.61814728481395143},{"$f":"F5*$R$2","v":5482.3876994777693}]
[3,800,575,0.71695760598503744,7.9147340373038593E-3,1.1963464619353764E-2,340,231,0.67941176470588238,5.3465004009875302E-3,6.0895239099488588E-3,880.00000000000011,0.3863636363636363,632.5,0.36521739130434783,2990.8661548384412]
[4,2235,744,0.33214126061689764,2.2076384091581958E-2,1.5458876890747561E-2,1374,922,0.67103347889374088,2.160615162046137E-2,2.4305372489059947E-2,2458.5,0.55887736424649181,818.40000000000009,1.1265884652981426,3864.7192226868901]
[5,2342,1128,0.48182984181274047,2.3082996151189184E-2,2.3448390653933379E-2,1349,1002,0.74277242401779098,2.1213026590976996E-2,2.6414298518479463E-2,2576.2000000000003,0.52363946898532721,1240.8000000000002,0.80754352030947762,5862.0976634833451]
[6,643,562,0.87558320373250387,6.3456034737984805E-3,1.1713792314254208E-2,526,480,0.9125475285171103,8.2713506203512966E-3,1.2653556176517108E-2,707.30000000000007,0.74367312314435163,618.20000000000005,0.77644775153671941,2928.4480785635519]
[7,457,274,0.59737417943107218,4.51001677686766E-3,5.6800449410149183E-3,325,243,0.74769230769230766,5.1106253832969035E-3,6.4058628143617864E-3,502.70000000000005,0.64650885219813004,301.40000000000003,0.80623755806237551,1420.0112352537296]
[8,5504,2337,0.42480929894660369,5.4337313727425243E-2,4.8665293468988617E-2,5768,2713,0.47035367545076284,9.070180680263551E-2,7.1518953972689411E-2,6054.4000000000005,0.95269556025369972,2570.7000000000003,1.0553545726844826,12166.323367247154]
[9,1842,910,0.49429657794676807,1.816836080134215E-2,1.8933483136716393E-2,811,411,0.50678175092478417,1.2752975956473197E-2,1.0834607476142774E-2,2026.2000000000003,0.40025663804165429,1001.0000000000001,0.41058941058941056,4733.3707841790983]
[10,3121,1534,0.49071108263933377,3.081022402052699E-2,3.1874830951043424E-2,1445,585,0.40484429065743943,2.2722626704197002E-2,1.5421521590130226E-2,3433.1000000000004,0.42090239142465991,1687.4,0.34668721109399075,7968.7077377608557]
[11,2589,1413,0.54594594594594592,2.5560051317477548E-2,2.9419719950897781E-2,1091,671,0.61503208065994497,1.7155976286698221E-2,1.7688617071756209E-2,2847.9,0.38308929386565538,1554.3000000000002,0.43170559094125965,7354.9299877244457]
[12,7865,2679,0.3389441469013007,7.7390703641567152E-2,5.5302415579551838E-2,4191,2506,0.59794798377475544,6.5903479942760995E-2,6.6062107871566411E-2,8651.5,0.48442466624284808,2946.9,0.85038515049713259,13825.60389488796]
[13,4483,2577,0.57496653279785814,4.4231718148623311E-2,5.3617127520129829E-2,1569,1036,0.66029318036966222,2.4672526850439514E-2,2.731059208098276E-2,4931.3,0.31817167886764136,2834.7000000000003,0.36547077292129676,13404.281880032457]
[14,5374,3024,0.56294227188081936,5.2995164314615616E-2,6.2896614859663358E-2,4423,3612,0.81664028939633737,6.9551680216376019E-2,9.5218010228291239E-2,5911.4000000000005,0.74821531278546527,3326.4,1.0858585858585859,15724.153714915839]
[15,7791,2171,0.27913244353182753,7.6897266357445967E-2,4.5253105299294674E-2,6198,2754,0.44433688286544049,9.7463557309766802E-2,7.2599778562766906E-2,8570.1,0.7232120978751706,2388.1000000000004,1.1532180394455842,11313.276324823668]
[16,3707,2747,0.74062078272604592,3.6563702753380042E-2,5.7091733766098662E-2,1983,1649,0.83156833081190118,3.1182677338700799E-2,4.3470237781409814E-2,4077.7000000000003,0.48630355347377197,3021.7000000000003,0.54571929708442257,14272.933441524665]
[17,3007,1079,0.3592814371257485,2.9665449521365836E-2,2.2470507458960114E-2,1275,642,0.50352941176470589,2.0049376503703236E-2,1.6924131386091633E-2,3307.7000000000003,0.38546421985065149,1186.9000000000001,0.5409048782542758,5617.6268647400284]
[18,2915,1518,0.52091906721536352,2.8777262409947695E-2,3.1604352620518902E-2,2495,2013,0.806813627254509,3.9233877942540844E-2,5.3065851215268627E-2,3206.5000000000005,0.77810697021674713,1669.8000000000002,1.2055335968379446,7901.0881551297252]
[19,1377,698,0.50762527233115473,1.3589262804697523E-2,1.4543411772049186E-2,870,523,0.60114942528735638,1.3680751026056327E-2,1.3787103917330099E-2,1514.7,0.57437116260645671,767.80000000000007,0.68116697056525133,3635.8529430122967]
[20,2708,1988,0.73365349094939047,2.6714694562321128E-2,4.1320766493976653E-2,1757,1513,0.86112692088787701,2.7628827072162031E-2,3.9885063531396633E-2,2978.8,0.58983483281858462,2186.8000000000002,0.69187854399121995,10330.191623494164]
[21,4316,1044,0.24205889172269882,4.2563900128293697E-2,2.1721490543661445E-2,5408,3665,0.67769970414201186,8.5040806378060482E-2,9.661517372278168E-2,4747.6000000000004,1.1391018619934281,1148.4000000000001,3.1913967258794842,5430.3726359153616]
[22,11322,4612,0.40754483611626469,0.11170433237935458,9.5978195285354645E-2,5267,2077,0.39434213024492121,8.2823581211768596E-2,5.4752992038804238E-2,12454.2,0.42290954055659935,5073.2000000000007,0.40940629188677752,23994.54882133866]
[23,16747,8157,0.4855680533238112,0.1658245337017665,0.16975636144227368,7990,4774,0.59749687108886107,0.12564275942320696,0.12585016080560973,18421.7,0.43372761471525428,8972.7000000000007,0.53205835478729924,42439.090360568422]
[24,4228,2313,0.54706717123935666,4.1725056745287675E-2,4.812433680793958E-2,3091,2505,0.81041734066645099,4.8605978645448397E-2,6.6035746296198655E-2,4650.8,0.66461684011352884,2544.3000000000002,0.98455370828911681,12031.084201984895]
["Statewide",{"$f":"SUM(B4:B27)","v":101302},{"$f":"SUM(C4:C27)","v":48068},{"$f":"C28/B28","v":0.47450198416615663},{"$f":"SUM(E4:E27)","v":1},{"$f":"SUM(F4:F27)","v":0.99999999999999989},{"$f":"SUM(G4:G27)","v":63593},{"$f":"SUM(H4:H27)","v":37934},0.59651219473841466,{"$f":"SUM(J4:J27)","v":1.0000000000000002},{"$f":"SUM(K4:K27)","v":1},{"$f":"SUM(L4:L27)","v":111432.20000000001},0.57068782631950188,{"$f":"SUM(N4:N27)","v":52874.800000000017},0.71743060966660843,{"$f":"SUM(P4:P27)","v":249999.99999999997}]

{"sheet":"25% Stretch","index":7,"n_rows":28,"n_cols":18,"rows_kept":28,"cut":false,"hidden":false,"merged":[[1,1,1,5],[1,11,1,15],[1,6,1,10],[0,1,0,15]]}
[null,"Employers Served - Excellence (25% Stretch):  July 1, 2014 - December 31, 2014",null,null,null,null,null,null,null,null,null,null,null,null,null,null,null,"Incentive Allocation"]
[null,"PY 2013-2014 (Baseline)",null,null,null,null,"PY 2014-2015 (Year-to-Date)",null,null,null,null,"PY 2014-2015 Goal",null,null,null,null,null,250000]
["Region","All Employers","Level 1 Employers","% Receiving Level 1","% of All Employers","% of All Level 1 Employers","All Employers","Level 1 Employers","% Receiving Level 1","% of All Employers","% of All Level 1 Employers","All Employers","% of All Employers Goal","Level 1 Employers","% of Level 1 Employers Goal","Incentive Allocation"]
[1,3273,2931,0.89780353874313601,3.2349748346985098E-2,6.1232132825666315E-2,1393,691,{"$f":"H4/G4","v":0.49605168700646085},{"$f":"G4/$G$28","v":2.1904926642869499E-2},{"$f":"H4/$H$28","v":1.8215848579111089E-2},{"$f":"B4*1.25","v":4091.25},{"$f":"G4/L4","v":0.34048273754964864},{"$f":"C4*1.25","v":3663.75},{"$f":"H4/N4","v":0.188604571818492},{"$f":"F4*$R$2","v":15308.03320641658}]
[2,2656,1053,0.39698681732580038,2.6201519786835093E-2,2.1929550797911077E-2,2654,716,0.26978146194423513,4.1734153130061485E-2,1.8874887963304686E-2,3320,{"$f":"G5/L5","v":0.79939759036144575},1316.25,{"$f":"H5/N5","v":0.54396961063627736},{"$f":"F5*$R$2","v":5482.3876994777693}]
[3,800,575,0.71695760598503744,7.9147340373038593E-3,1.1963464619353764E-2,340,231,0.67941176470588238,5.3465004009875302E-3,6.0895239099488588E-3,1000,0.34,718.75,0.32139130434782609,2990.8661548384412]
[4,2235,744,0.33214126061689764,2.2076384091581958E-2,1.5458876890747561E-2,1374,922,0.67103347889374088,2.160615162046137E-2,2.4305372489059947E-2,2793.75,0.49181208053691278,930,0.99139784946236564,3864.7192226868901]
[5,2342,1128,0.48182984181274047,2.3082996151189184E-2,2.3448390653933379E-2,1349,1002,0.74277242401779098,2.1213026590976996E-2,2.6414298518479463E-2,2927.5,0.46080273270708794,1410,0.71063829787234045,5862.0976634833451]
[6,643,562,0.87558320373250387,6.3456034737984805E-3,1.1713792314254208E-2,526,480,0.9125475285171103,8.2713506203512966E-3,1.2653556176517108E-2,803.75,0.65443234836702957,702.5,0.68327402135231319,2928.4480785635519]
[7,457,274,0.59737417943107218,4.51001677686766E-3,5.6800449410149183E-3,325,243,0.74769230769230766,5.1106253832969035E-3,6.4058628143617864E-3,571.25,0.56892778993435444,342.5,0.70948905109489047,1420.0112352537296]
[8,5504,2337,0.42480929894660369,5.4337313727425243E-2,4.8665293468988617E-2,5768,2713,0.47035367545076284,9.070180680263551E-2,7.1518953972689411E-2,6880,0.83837209302325577,2921.25,0.92871202396234487,12166.323367247154]
[9,1842,910,0.49429657794676807,1.816836080134215E-2,1.8933483136716393E-2,811,411,0.50678175092478417,1.2752975956473197E-2,1.0834607476142774E-2,2302.5,0.35222584147665581,1137.5,0.36131868131868133,4733.3707841790983]
[10,3121,1534,0.49071108263933377,3.081022402052699E-2,3.1874830951043424E-2,1445,585,0.40484429065743943,2.2722626704197002E-2,1.5421521590130226E-2,3901.25,0.37039410445370075,1917.5,0.30508474576271188,7968.7077377608557]
[11,2589,1413,0.54594594594594592,2.5560051317477548E-2,2.9419719950897781E-2,1091,671,0.61503208065994497,1.7155976286698221E-2,1.7688617071756209E-2,3236.25,0.33711857860177674,1766.25,0.37990092002830855,7354.9299877244457]
[12,7865,2679,0.3389441469013007,7.7390703641567152E-2,5.5302415579551838E-2,4191,2506,0.59794798377475544,6.5903479942760995E-2,6.6062107871566411E-2,9831.25,0.42629370629370628,3348.75,0.74833893243747662,13825.60389488796]
[13,4483,2577,0.57496653279785814,4.4231718148623311E-2,5.3617127520129829E-2,1569,1036,0.66029318036966222,2.4672526850439514E-2,2.731059208098276E-2,5603.75,0.27999107740352441,3221.25,0.32161428017074117,13404.281880032457]
[14,5374,3024,0.56294227188081936,5.2995164314615616E-2,6.2896614859663358E-2,4423,3612,0.81664028939633737,6.9551680216376019E-2,9.5218010228291239E-2,6717.5,0.65842947525120954,3780,0.9555555555555556,15724.153714915839]
[15,7791,2171,0.27913244353182753,7.6897266357445967E-2,4.5253105299294674E-2,6198,2754,0.44433688286544049,9.7463557309766802E-2,7.2599778562766906E-2,9738.75,0.63642664613015021,2713.75,1.0148318747121143,11313.276324823668]
[16,3707,2747,0.74062078272604592,3.6563702753380042E-2,5.7091733766098662E-2,1983,1649,0.83156833081190118,3.1182677338700799E-2,4.3470237781409814E-2,4633.75,0.42794712705691934,3433.75,0.48023298143429194,14272.933441524665]
[17,3007,1079,0.3592814371257485,2.9665449521365836E-2,2.2470507458960114E-2,1275,642,0.50352941176470589,2.0049376503703236E-2,1.6924131386091633E-2,3758.75,0.33920851346857334,1348.75,0.47599629286376272,5617.6268647400284]
[18,2915,1518,0.52091906721536352,2.8777262409947695E-2,3.1604352620518902E-2,2495,2013,0.806813627254509,3.9233877942540844E-2,5.3065851215268627E-2,3643.75,0.68473413379073755,1897.5,1.0608695652173914,7901.0881551297252]
[19,1377,698,0.50762527233115473,1.3589262804697523E-2,1.4543411772049186E-2,870,523,0.60114942528735638,1.3680751026056327E-2,1.3787103917330099E-2,1721.25,0.50544662309368193,872.5,0.5994269340974212,3635.8529430122967]
[20,2708,1988,0.73365349094939047,2.6714694562321128E-2,4.1320766493976653E-2,1757,1513,0.86112692088787701,2.7628827072162031E-2,3.9885063531396633E-2,3385,0.51905465288035446,2485,0.60885311871227366,10330.191623494164]
[21,4316,1044,0.24205889172269882,4.2563900128293697E-2,2.1721490543661445E-2,5408,3665,0.67769970414201186,8.5040806378060482E-2,9.661517372278168E-2,5395,1.0024096385542169,1305,2.8084291187739465,5430.3726359153616]
[22,11322,4612,0.40754483611626469,0.11170433237935458,9.5978195285354645E-2,5267,2077,0.39434213024492121,8.2823581211768596E-2,5.4752992038804238E-2,14152.5,0.37216039568980747,5765,0.36027753686036429,23994.54882133866]
[23,16747,8157,0.4855680533238112,0.1658245337017665,0.16975636144227368,7990,4774,0.59749687108886107,0.12564275942320696,0.12585016080560973,20933.75,0.38168030094942379,10196.25,0.46821135221282334,42439.090360568422]
[24,4228,2313,0.54706717123935666,4.1725056745287675E-2,4.812433680793958E-2,3091,2505,0.81041734066645099,4.8605978645448397E-2,6.6035746296198655E-2,5285,0.58486281929990536,2891.25,0.86640726329442286,12031.084201984895]
["Statewide",{"$f":"SUM(B4:B27)","v":101302},{"$f":"SUM(C4:C27)","v":48068},{"$f":"C28/B28","v":0.47450198416615663},{"$f":"SUM(E4:E27)","v":1},{"$f":"SUM(F4:F27)","v":0.99999999999999989},{"$f":"SUM(G4:G27)","v":63593},{"$f":"SUM(H4:H27)","v":37934},0.59651219473841466,{"$f":"SUM(J4:J27)","v":1.0000000000000002},{"$f":"SUM(K4:K27)","v":1},{"$f":"SUM(L4:L27)","v":126627.5},0.50220528716116164,{"$f":"SUM(N4:N27)","v":60085},0.63133893650661566,{"$f":"SUM(P4:P27)","v":249999.99999999997}]